BEGIN:VCALENDAR
VERSION:2.0
PRODID:-// - ECPv6.15.20//NONSGML v1.0//EN
CALSCALE:GREGORIAN
METHOD:PUBLISH
X-ORIGINAL-URL:https://events.excelsiorcitizen.com
X-WR-CALDESC:Events for 
REFRESH-INTERVAL;VALUE=DURATION:PT1H
X-Robots-Tag:noindex
X-PUBLISHED-TTL:PT1H
BEGIN:VTIMEZONE
TZID:America/Chicago
BEGIN:DAYLIGHT
TZOFFSETFROM:-0600
TZOFFSETTO:-0500
TZNAME:CDT
DTSTART:20250309T080000
END:DAYLIGHT
BEGIN:STANDARD
TZOFFSETFROM:-0500
TZOFFSETTO:-0600
TZNAME:CST
DTSTART:20251102T070000
END:STANDARD
BEGIN:DAYLIGHT
TZOFFSETFROM:-0600
TZOFFSETTO:-0500
TZNAME:CDT
DTSTART:20260308T080000
END:DAYLIGHT
BEGIN:STANDARD
TZOFFSETFROM:-0500
TZOFFSETTO:-0600
TZNAME:CST
DTSTART:20261101T070000
END:STANDARD
BEGIN:DAYLIGHT
TZOFFSETFROM:-0600
TZOFFSETTO:-0500
TZNAME:CDT
DTSTART:20270314T080000
END:DAYLIGHT
BEGIN:STANDARD
TZOFFSETFROM:-0500
TZOFFSETTO:-0600
TZNAME:CST
DTSTART:20271107T070000
END:STANDARD
END:VTIMEZONE
BEGIN:VEVENT
DTSTART;TZID=America/Chicago:20260526T160000
DTEND;TZID=America/Chicago:20260526T190000
DTSTAMP:20260421T022244
CREATED:20260419T161019Z
LAST-MODIFIED:20260419T161019Z
UID:10005380-1779811200-1779822000@events.excelsiorcitizen.com
SUMMARY:The "MadHatter" Event
DESCRIPTION:This month we invite you to watch “Alice in Wonderland” at City Hall. Our vendors will have a “mad” hat competition. Please vote for your favorite. The winning vendor will receive a $25 gift card. Create or wear YOUR own crazy hat! \n4-7 Market (shop shop shop)4-6 Free Snow Cones6:30-7:45 Alice in Wonderland (movie inside City Hall) with free popcorn and water
URL:https://events.excelsiorcitizen.com/event/the-madhatter-event/
LOCATION:Wood Heights MO Community Market\, 2098 East Ridge Drive\, Wood Heights\, MO\, 64024\, United States
ATTACH;FMTTYPE=image/jpeg:https://events.excelsiorcitizen.com/wp-content/uploads/2026/04/673527848_10235824522328545_4529264165900038758_n.jpg
END:VEVENT
END:VCALENDAR