BEGIN:VCALENDAR
VERSION:2.0
PRODID:-// - ECPv6.15.20//NONSGML v1.0//EN
CALSCALE:GREGORIAN
METHOD:PUBLISH
X-ORIGINAL-URL:https://events.excelsiorcitizen.com
X-WR-CALDESC:Events for 
REFRESH-INTERVAL;VALUE=DURATION:PT1H
X-Robots-Tag:noindex
X-PUBLISHED-TTL:PT1H
BEGIN:VTIMEZONE
TZID:America/Chicago
BEGIN:DAYLIGHT
TZOFFSETFROM:-0600
TZOFFSETTO:-0500
TZNAME:CDT
DTSTART:20250309T080000
END:DAYLIGHT
BEGIN:STANDARD
TZOFFSETFROM:-0500
TZOFFSETTO:-0600
TZNAME:CST
DTSTART:20251102T070000
END:STANDARD
BEGIN:DAYLIGHT
TZOFFSETFROM:-0600
TZOFFSETTO:-0500
TZNAME:CDT
DTSTART:20260308T080000
END:DAYLIGHT
BEGIN:STANDARD
TZOFFSETFROM:-0500
TZOFFSETTO:-0600
TZNAME:CST
DTSTART:20261101T070000
END:STANDARD
BEGIN:DAYLIGHT
TZOFFSETFROM:-0600
TZOFFSETTO:-0500
TZNAME:CDT
DTSTART:20270314T080000
END:DAYLIGHT
BEGIN:STANDARD
TZOFFSETFROM:-0500
TZOFFSETTO:-0600
TZNAME:CST
DTSTART:20271107T070000
END:STANDARD
END:VTIMEZONE
BEGIN:VEVENT
DTSTART;TZID=America/Chicago:20260411T200000
DTEND;TZID=America/Chicago:20260411T230000
DTSTAMP:20260423T092909
CREATED:20260407T045339Z
LAST-MODIFIED:20260407T045339Z
UID:10004681-1775937600-1775948400@events.excelsiorcitizen.com
SUMMARY:Cruise Into Sonic for a Cause
DESCRIPTION:Cruise into Sonic for a cause this April!\n\n\nOn Saturdays from 8 p.m. to close\, the Excelsior Springs Sonic will donate 10% of sales to support two great local causes.\n\n\n\nApril 4 – Meals & a Visit\nApril 11 – Excelsior Springs Farmers Market\nApril 18 – Meals & a Visit\nApril 25 – Excelsior Springs Farmers Market\n\n\n\nIt is an easy and delicious way to support programs that make a difference right here in our community. Grab your favorite Sonic treats\, spread the word\, and help give back close to home.
URL:https://events.excelsiorcitizen.com/event/cruise-into-sonic-for-a-cause/
LOCATION:Sonic Drive-Thru\, 1715 W Jesse James Rd\, Excelsior Springs\, MO\, 64024\, United States
ATTACH;FMTTYPE=image/jpeg:https://events.excelsiorcitizen.com/wp-content/uploads/2026/04/662204502_921849103947579_8283984696993560289_n.jpg
END:VEVENT
END:VCALENDAR