BEGIN:VCALENDAR
VERSION:2.0
PRODID:-// - ECPv6.15.20//NONSGML v1.0//EN
CALSCALE:GREGORIAN
METHOD:PUBLISH
X-ORIGINAL-URL:https://events.excelsiorcitizen.com
X-WR-CALDESC:Events for 
REFRESH-INTERVAL;VALUE=DURATION:PT1H
X-Robots-Tag:noindex
X-PUBLISHED-TTL:PT1H
BEGIN:VTIMEZONE
TZID:UTC
BEGIN:STANDARD
TZOFFSETFROM:+0000
TZOFFSETTO:+0000
TZNAME:UTC
DTSTART:20240101T000000
END:STANDARD
END:VTIMEZONE
BEGIN:VEVENT
DTSTART;TZID=UTC:20260326T160000
DTEND;TZID=UTC:20260326T180000
DTSTAMP:20260421T213024
CREATED:20260103T022237Z
LAST-MODIFIED:20260323T033759Z
UID:10002612-1774540800-1774548000@events.excelsiorcitizen.com
SUMMARY:Track MS: Excelsior Springs Middle School vs.  Plaza Middle (Away)
DESCRIPTION:Type: Triangular Opponent: Excelsior Springs Middle School vs. Plaza Middle
URL:https://events.excelsiorcitizen.com/event/track-ms-ms-vs-excelsior-springs-middle-school-vs-plaza-middle-away/
LOCATION:Plaza Middle School
ATTACH;FMTTYPE=image/jpeg:https://events.excelsiorcitizen.com/wp-content/uploads/2026/03/ESHS-Activities.jpg
END:VEVENT
BEGIN:VEVENT
DTSTART;TZID=UTC:20251216T220000
DTEND;TZID=UTC:20251217T000000
DTSTAMP:20260421T213024
CREATED:20251120T184352Z
LAST-MODIFIED:20251205T233208Z
UID:10002287-1765922400-1765929600@events.excelsiorcitizen.com
SUMMARY:Basketball MS: Boys MS  vs.  Excelsior Springs Middle School vs.  Plaza Middle (Away)
DESCRIPTION:Type: Game  Opponent:  Excelsior Springs Middle School vs.  Plaza Middle
URL:https://events.excelsiorcitizen.com/event/basketball-ms-boys-ms-vs-excelsior-springs-middle-school-vs-plaza-middle-away/
LOCATION:Plaza Middle School
END:VEVENT
END:VCALENDAR