BEGIN:VCALENDAR
VERSION:2.0
PRODID:-// - ECPv6.15.20//NONSGML v1.0//EN
CALSCALE:GREGORIAN
METHOD:PUBLISH
X-ORIGINAL-URL:https://events.excelsiorcitizen.com
X-WR-CALDESC:Events for 
REFRESH-INTERVAL;VALUE=DURATION:PT1H
X-Robots-Tag:noindex
X-PUBLISHED-TTL:PT1H
BEGIN:VTIMEZONE
TZID:America/Chicago
BEGIN:DAYLIGHT
TZOFFSETFROM:-0600
TZOFFSETTO:-0500
TZNAME:CDT
DTSTART:20290311T080000
END:DAYLIGHT
BEGIN:STANDARD
TZOFFSETFROM:-0500
TZOFFSETTO:-0600
TZNAME:CST
DTSTART:20291104T070000
END:STANDARD
BEGIN:DAYLIGHT
TZOFFSETFROM:-0600
TZOFFSETTO:-0500
TZNAME:CDT
DTSTART:20300310T080000
END:DAYLIGHT
BEGIN:STANDARD
TZOFFSETFROM:-0500
TZOFFSETTO:-0600
TZNAME:CST
DTSTART:20301103T070000
END:STANDARD
BEGIN:DAYLIGHT
TZOFFSETFROM:-0600
TZOFFSETTO:-0500
TZNAME:CDT
DTSTART:20310309T080000
END:DAYLIGHT
BEGIN:STANDARD
TZOFFSETFROM:-0500
TZOFFSETTO:-0600
TZNAME:CST
DTSTART:20311102T070000
END:STANDARD
BEGIN:DAYLIGHT
TZOFFSETFROM:-0600
TZOFFSETTO:-0500
TZNAME:CDT
DTSTART:20320314T080000
END:DAYLIGHT
BEGIN:STANDARD
TZOFFSETFROM:-0500
TZOFFSETTO:-0600
TZNAME:CST
DTSTART:20321107T070000
END:STANDARD
END:VTIMEZONE
BEGIN:VEVENT
DTSTART;TZID=America/Chicago:20300513T180000
DTEND;TZID=America/Chicago:20300513T200000
DTSTAMP:20260421T115123
CREATED:20260413T050948Z
LAST-MODIFIED:20260413T050948Z
UID:10005297-1904925600-1904932800@events.excelsiorcitizen.com
SUMMARY:Hall of Writers April 2026 Meeting
DESCRIPTION:The Hall of Writers offers writers and poets of Excelsior Springs\, MO and surrounding areas with a creative community and support system. They meet the 2nd Monday of every month.
URL:https://events.excelsiorcitizen.com/event/hall-of-writers-april-2026-meeting/2030-05-13/
LOCATION:Other Trails – Coffee & Goods\, 115 E Broadway Ave\, Excelsior Springs\, MO\, 64024\, United States
ATTACH;FMTTYPE=image/jpeg:https://events.excelsiorcitizen.com/wp-content/uploads/2026/04/hall-of-writers.jpeg
END:VEVENT
BEGIN:VEVENT
DTSTART;TZID=America/Chicago:20300610T180000
DTEND;TZID=America/Chicago:20300610T200000
DTSTAMP:20260421T115123
CREATED:20260413T050948Z
LAST-MODIFIED:20260413T050948Z
UID:10005298-1907344800-1907352000@events.excelsiorcitizen.com
SUMMARY:Hall of Writers April 2026 Meeting
DESCRIPTION:The Hall of Writers offers writers and poets of Excelsior Springs\, MO and surrounding areas with a creative community and support system. They meet the 2nd Monday of every month.
URL:https://events.excelsiorcitizen.com/event/hall-of-writers-april-2026-meeting/2030-06-10/
LOCATION:Other Trails – Coffee & Goods\, 115 E Broadway Ave\, Excelsior Springs\, MO\, 64024\, United States
ATTACH;FMTTYPE=image/jpeg:https://events.excelsiorcitizen.com/wp-content/uploads/2026/04/hall-of-writers.jpeg
END:VEVENT
BEGIN:VEVENT
DTSTART;TZID=America/Chicago:20300708T180000
DTEND;TZID=America/Chicago:20300708T200000
DTSTAMP:20260421T115123
CREATED:20260413T050948Z
LAST-MODIFIED:20260413T050948Z
UID:10005299-1909764000-1909771200@events.excelsiorcitizen.com
SUMMARY:Hall of Writers April 2026 Meeting
DESCRIPTION:The Hall of Writers offers writers and poets of Excelsior Springs\, MO and surrounding areas with a creative community and support system. They meet the 2nd Monday of every month.
URL:https://events.excelsiorcitizen.com/event/hall-of-writers-april-2026-meeting/2030-07-08/
LOCATION:Other Trails – Coffee & Goods\, 115 E Broadway Ave\, Excelsior Springs\, MO\, 64024\, United States
ATTACH;FMTTYPE=image/jpeg:https://events.excelsiorcitizen.com/wp-content/uploads/2026/04/hall-of-writers.jpeg
END:VEVENT
BEGIN:VEVENT
DTSTART;TZID=America/Chicago:20300812T180000
DTEND;TZID=America/Chicago:20300812T200000
DTSTAMP:20260421T115123
CREATED:20260413T050948Z
LAST-MODIFIED:20260413T050948Z
UID:10005300-1912788000-1912795200@events.excelsiorcitizen.com
SUMMARY:Hall of Writers April 2026 Meeting
DESCRIPTION:The Hall of Writers offers writers and poets of Excelsior Springs\, MO and surrounding areas with a creative community and support system. They meet the 2nd Monday of every month.
URL:https://events.excelsiorcitizen.com/event/hall-of-writers-april-2026-meeting/2030-08-12/
LOCATION:Other Trails – Coffee & Goods\, 115 E Broadway Ave\, Excelsior Springs\, MO\, 64024\, United States
ATTACH;FMTTYPE=image/jpeg:https://events.excelsiorcitizen.com/wp-content/uploads/2026/04/hall-of-writers.jpeg
END:VEVENT
BEGIN:VEVENT
DTSTART;TZID=America/Chicago:20300909T180000
DTEND;TZID=America/Chicago:20300909T200000
DTSTAMP:20260421T115123
CREATED:20260413T050948Z
LAST-MODIFIED:20260413T050948Z
UID:10005301-1915207200-1915214400@events.excelsiorcitizen.com
SUMMARY:Hall of Writers April 2026 Meeting
DESCRIPTION:The Hall of Writers offers writers and poets of Excelsior Springs\, MO and surrounding areas with a creative community and support system. They meet the 2nd Monday of every month.
URL:https://events.excelsiorcitizen.com/event/hall-of-writers-april-2026-meeting/2030-09-09/
LOCATION:Other Trails – Coffee & Goods\, 115 E Broadway Ave\, Excelsior Springs\, MO\, 64024\, United States
ATTACH;FMTTYPE=image/jpeg:https://events.excelsiorcitizen.com/wp-content/uploads/2026/04/hall-of-writers.jpeg
END:VEVENT
BEGIN:VEVENT
DTSTART;TZID=America/Chicago:20301014T180000
DTEND;TZID=America/Chicago:20301014T200000
DTSTAMP:20260421T115123
CREATED:20260413T050948Z
LAST-MODIFIED:20260413T050948Z
UID:10005302-1918231200-1918238400@events.excelsiorcitizen.com
SUMMARY:Hall of Writers April 2026 Meeting
DESCRIPTION:The Hall of Writers offers writers and poets of Excelsior Springs\, MO and surrounding areas with a creative community and support system. They meet the 2nd Monday of every month.
URL:https://events.excelsiorcitizen.com/event/hall-of-writers-april-2026-meeting/2030-10-14/
LOCATION:Other Trails – Coffee & Goods\, 115 E Broadway Ave\, Excelsior Springs\, MO\, 64024\, United States
ATTACH;FMTTYPE=image/jpeg:https://events.excelsiorcitizen.com/wp-content/uploads/2026/04/hall-of-writers.jpeg
END:VEVENT
BEGIN:VEVENT
DTSTART;TZID=America/Chicago:20301111T180000
DTEND;TZID=America/Chicago:20301111T200000
DTSTAMP:20260421T115123
CREATED:20260413T050948Z
LAST-MODIFIED:20260413T050948Z
UID:10005303-1920650400-1920657600@events.excelsiorcitizen.com
SUMMARY:Hall of Writers April 2026 Meeting
DESCRIPTION:The Hall of Writers offers writers and poets of Excelsior Springs\, MO and surrounding areas with a creative community and support system. They meet the 2nd Monday of every month.
URL:https://events.excelsiorcitizen.com/event/hall-of-writers-april-2026-meeting/2030-11-11/
LOCATION:Other Trails – Coffee & Goods\, 115 E Broadway Ave\, Excelsior Springs\, MO\, 64024\, United States
ATTACH;FMTTYPE=image/jpeg:https://events.excelsiorcitizen.com/wp-content/uploads/2026/04/hall-of-writers.jpeg
END:VEVENT
BEGIN:VEVENT
DTSTART;TZID=America/Chicago:20301209T180000
DTEND;TZID=America/Chicago:20301209T200000
DTSTAMP:20260421T115123
CREATED:20260413T050948Z
LAST-MODIFIED:20260413T050948Z
UID:10005304-1923069600-1923076800@events.excelsiorcitizen.com
SUMMARY:Hall of Writers April 2026 Meeting
DESCRIPTION:The Hall of Writers offers writers and poets of Excelsior Springs\, MO and surrounding areas with a creative community and support system. They meet the 2nd Monday of every month.
URL:https://events.excelsiorcitizen.com/event/hall-of-writers-april-2026-meeting/2030-12-09/
LOCATION:Other Trails – Coffee & Goods\, 115 E Broadway Ave\, Excelsior Springs\, MO\, 64024\, United States
ATTACH;FMTTYPE=image/jpeg:https://events.excelsiorcitizen.com/wp-content/uploads/2026/04/hall-of-writers.jpeg
END:VEVENT
BEGIN:VEVENT
DTSTART;TZID=America/Chicago:20310113T180000
DTEND;TZID=America/Chicago:20310113T200000
DTSTAMP:20260421T115123
CREATED:20260413T050948Z
LAST-MODIFIED:20260413T050948Z
UID:10005305-1926093600-1926100800@events.excelsiorcitizen.com
SUMMARY:Hall of Writers April 2026 Meeting
DESCRIPTION:The Hall of Writers offers writers and poets of Excelsior Springs\, MO and surrounding areas with a creative community and support system. They meet the 2nd Monday of every month.
URL:https://events.excelsiorcitizen.com/event/hall-of-writers-april-2026-meeting/2031-01-13/
LOCATION:Other Trails – Coffee & Goods\, 115 E Broadway Ave\, Excelsior Springs\, MO\, 64024\, United States
ATTACH;FMTTYPE=image/jpeg:https://events.excelsiorcitizen.com/wp-content/uploads/2026/04/hall-of-writers.jpeg
END:VEVENT
BEGIN:VEVENT
DTSTART;TZID=America/Chicago:20310210T180000
DTEND;TZID=America/Chicago:20310210T200000
DTSTAMP:20260421T115123
CREATED:20260413T050948Z
LAST-MODIFIED:20260413T050948Z
UID:10005306-1928512800-1928520000@events.excelsiorcitizen.com
SUMMARY:Hall of Writers April 2026 Meeting
DESCRIPTION:The Hall of Writers offers writers and poets of Excelsior Springs\, MO and surrounding areas with a creative community and support system. They meet the 2nd Monday of every month.
URL:https://events.excelsiorcitizen.com/event/hall-of-writers-april-2026-meeting/2031-02-10/
LOCATION:Other Trails – Coffee & Goods\, 115 E Broadway Ave\, Excelsior Springs\, MO\, 64024\, United States
ATTACH;FMTTYPE=image/jpeg:https://events.excelsiorcitizen.com/wp-content/uploads/2026/04/hall-of-writers.jpeg
END:VEVENT
BEGIN:VEVENT
DTSTART;TZID=America/Chicago:20310310T180000
DTEND;TZID=America/Chicago:20310310T200000
DTSTAMP:20260421T115123
CREATED:20260413T050948Z
LAST-MODIFIED:20260413T050948Z
UID:10005307-1930932000-1930939200@events.excelsiorcitizen.com
SUMMARY:Hall of Writers April 2026 Meeting
DESCRIPTION:The Hall of Writers offers writers and poets of Excelsior Springs\, MO and surrounding areas with a creative community and support system. They meet the 2nd Monday of every month.
URL:https://events.excelsiorcitizen.com/event/hall-of-writers-april-2026-meeting/2031-03-10/
LOCATION:Other Trails – Coffee & Goods\, 115 E Broadway Ave\, Excelsior Springs\, MO\, 64024\, United States
ATTACH;FMTTYPE=image/jpeg:https://events.excelsiorcitizen.com/wp-content/uploads/2026/04/hall-of-writers.jpeg
END:VEVENT
END:VCALENDAR