BEGIN:VCALENDAR
VERSION:2.0
PRODID:-// - ECPv6.15.20//NONSGML v1.0//EN
CALSCALE:GREGORIAN
METHOD:PUBLISH
X-ORIGINAL-URL:https://events.excelsiorcitizen.com
X-WR-CALDESC:Events for 
REFRESH-INTERVAL;VALUE=DURATION:PT1H
X-Robots-Tag:noindex
X-PUBLISHED-TTL:PT1H
BEGIN:VTIMEZONE
TZID:UTC
BEGIN:STANDARD
TZOFFSETFROM:+0000
TZOFFSETTO:+0000
TZNAME:UTC
DTSTART:20240101T000000
END:STANDARD
END:VTIMEZONE
BEGIN:VEVENT
DTSTART;TZID=UTC:20251212T010000
DTEND;TZID=UTC:20251212T020000
DTSTAMP:20260421T145546
CREATED:20251201T230139Z
LAST-MODIFIED:20251205T234634Z
UID:10002553-1765501200-1765504800@events.excelsiorcitizen.com
SUMMARY:Excelsior Springs Community Caroling organized by Trinity Reformed Baptist Church
DESCRIPTION:Excelsior Springs friends\, join Trinity Reformed Baptist Church for a night of gathering around the Mayor’s Tree to sing Christmas carols and praise the birth of our King\, Jesus! This will be a great time to meet and fellowship as a community. We look forward to seeing you there! Please share and invite your friends and family!\nhttps://www.facebook.com/events/1574979427010911/
URL:https://events.excelsiorcitizen.com/event/excelsior-springs-community-caroling-organized-by-trinity-reformed-baptist-church/
LOCATION:Mayor’s Tree on the Lawn of the Hall of Waters
ORGANIZER;CN="Meghan Blansett":MAILTO:noreply@facebookmail.com
END:VEVENT
END:VCALENDAR