BEGIN:VCALENDAR
VERSION:2.0
PRODID:-// - ECPv6.15.20//NONSGML v1.0//EN
CALSCALE:GREGORIAN
METHOD:PUBLISH
X-ORIGINAL-URL:https://events.excelsiorcitizen.com
X-WR-CALDESC:Events for 
REFRESH-INTERVAL;VALUE=DURATION:PT1H
X-Robots-Tag:noindex
X-PUBLISHED-TTL:PT1H
BEGIN:VTIMEZONE
TZID:UTC
BEGIN:STANDARD
TZOFFSETFROM:+0000
TZOFFSETTO:+0000
TZNAME:UTC
DTSTART:20250101T000000
END:STANDARD
END:VTIMEZONE
BEGIN:VEVENT
DTSTART;TZID=UTC:20260112T220000
DTEND;TZID=UTC:20260113T000000
DTSTAMP:20260421T212856
CREATED:20251120T184620Z
LAST-MODIFIED:20260112T034539Z
UID:10002359-1768255200-1768262400@events.excelsiorcitizen.com
SUMMARY:Basketball MS: Boys MS  vs.  Excelsior Springs Middle School vs.  Maple Park Middle (Away)
DESCRIPTION:Type: Game  Opponent:  Excelsior Springs Middle School vs.  Maple Park Middle
URL:https://events.excelsiorcitizen.com/event/basketball-ms-boys-ms-vs-excelsior-springs-middle-school-vs-maple-park-middle-away/
LOCATION:Maple Park Middle School
END:VEVENT
END:VCALENDAR