BEGIN:VCALENDAR
VERSION:2.0
PRODID:-// - ECPv6.15.20//NONSGML v1.0//EN
CALSCALE:GREGORIAN
METHOD:PUBLISH
X-ORIGINAL-URL:https://events.excelsiorcitizen.com
X-WR-CALDESC:Events for 
REFRESH-INTERVAL;VALUE=DURATION:PT1H
X-Robots-Tag:noindex
X-PUBLISHED-TTL:PT1H
BEGIN:VTIMEZONE
TZID:America/Chicago
BEGIN:DAYLIGHT
TZOFFSETFROM:-0600
TZOFFSETTO:-0500
TZNAME:CDT
DTSTART:20250309T080000
END:DAYLIGHT
BEGIN:STANDARD
TZOFFSETFROM:-0500
TZOFFSETTO:-0600
TZNAME:CST
DTSTART:20251102T070000
END:STANDARD
BEGIN:DAYLIGHT
TZOFFSETFROM:-0600
TZOFFSETTO:-0500
TZNAME:CDT
DTSTART:20260308T080000
END:DAYLIGHT
BEGIN:STANDARD
TZOFFSETFROM:-0500
TZOFFSETTO:-0600
TZNAME:CST
DTSTART:20261101T070000
END:STANDARD
BEGIN:DAYLIGHT
TZOFFSETFROM:-0600
TZOFFSETTO:-0500
TZNAME:CDT
DTSTART:20270314T080000
END:DAYLIGHT
BEGIN:STANDARD
TZOFFSETFROM:-0500
TZOFFSETTO:-0600
TZNAME:CST
DTSTART:20271107T070000
END:STANDARD
END:VTIMEZONE
BEGIN:VEVENT
DTSTART;TZID=America/Chicago:20260329T110000
DTEND;TZID=America/Chicago:20260329T150000
DTSTAMP:20260421T192038
CREATED:20260322T203336Z
LAST-MODIFIED:20260322T203336Z
UID:10004642-1774782000-1774796400@events.excelsiorcitizen.com
SUMMARY:Virginia Howard Estate
DESCRIPTION:Mac’s Auction ServiceSunday\, March 2911 a.m.Y Hwy\, Excelsior Springs\, MO\n\nVirginia Howard Estate\n\nDue to the family getting the home ready to sell\, they’ve brought the whole house into our building! Fantastic auction!\n\nGlassware: nice selection of blue willow pieces\, flow blue platter\, large vases & planters\, crystal glass\, water sets\, colored glass\, fluted pieces and lots more. Misc: handicap mobile scooter with battery & charger\, handicap iron loading ramp\, hand ramps\, sewing items\, disc music box\, marbles\, old glasses\, game calls\, small collectibles\, pictures\, stained glass\, fancy clocks\, large selection of kitchen items inc. corning ware\, pyrex\, stainless steel pots\, small appliances\, pots\, pans\, silverware\, cutlery sets\, microwave and more\, iron skillet\, 1940s Lionel train\, books and cookbooks\, box lots\, fold up dolly\, sets of lamps\, mirror\, antique metal table with two chairs\, several large boxes of Christmas items\, linens\, pillows\, throw rugs\, doilies\, sewing machine\, cool roll-around popcorn cart\, perfume set\, designer purses\, vintage fur coat (coyote) really nice shape\, copper boiler\, Furniture: children’s ice cream table w/4 chairs (nice)\, 2 occasional chairs\, set of 6 oak pressed wood table chairs\, end tables\, plant stand\, camelback trunk\, ornate parlor table\, rocking chairs\, 2 desk tables\, stackable tables\, card table & chairs\, laptop computer\, glass lamp shades\, dresser\, 3pc luggage\, much more!\n\nGo to www.macsauction.com or our facebook page for pictures of this fantastic sale. Everything is in excellent condition.\n\nThe handicap scooter is like new and runs good. Still unpacking boxes!\n\nWe accept cash or check with valid ID
URL:https://events.excelsiorcitizen.com/event/virginia-howard-estate/
LOCATION:Mac’s Auction\, Y Highway\, 1002 Prentiss Ave\, Excelsior Springs\, MO\, 64024\, United States
ATTACH;FMTTYPE=image/jpeg:https://events.excelsiorcitizen.com/wp-content/uploads/2026/03/654592628_1640597560925665_7178361219655693930_n-1.jpg
END:VEVENT
BEGIN:VEVENT
DTSTART;TZID=America/Chicago:20260308T110000
DTEND;TZID=America/Chicago:20260308T150000
DTSTAMP:20260421T192038
CREATED:20260302T061723Z
LAST-MODIFIED:20260302T061723Z
UID:10004570-1772967600-1772982000@events.excelsiorcitizen.com
SUMMARY:Fantastic Auction
DESCRIPTION:Mac’s Auction ServiceSunday\, March 8\, 202611:00 a.m.Y Hwy\, Excelsior Springs\, MO\n\nFANTASTIC AUCTION\nWe will be selling the following items. Everything in great shape!\n\n12 cast irons skillets\, dutch ovens\, cornbread pans\, mostly Wagnerware\, small oil cans\, spittoon\, other iron items\, nice selection of fishing rod & reels\, french horn\, tambourines\, old violin\, child’s ice cream table with 3 chairs\, wood boxes\, metal signs\, early 1900s photographs & pictures\, lamps\, books\, fancy glassware\, Star Wars\, Elvis items\, record albums\, yard darts\, military coat & hat\, camo pants & shirts\, army cot\, lace and embroiderary material\, cedar chest\, small wood stools\, Coca-Cola items\, shriners tuxedo thermometers\, old wood windows\, ornate iron fireplace front (nice)\, sled\, Earnhardt mug set\, brass bells\, little pony figurines\, corner shelves\, wood tables\, Tonka trucks\, nice horse riding saddle with stand\, press car license plates\, small adv. Collectibles\, coins inc. 21 proof sets of different years\, mint sets\, (2) proof uncirculated $100 dollar boxes of 2025 nickel rolls straight from the mint\, tools inc. air bubble\, toolsboxes\, hand & power tools\, Edison heater\, drill press\, nice selection of double & single bit\, axes inc. Keen Kutter\, buck saw\, ladder\, old plow\, bevel grinder\, H.D. vice/anvil & more. Our listings are never complete.
URL:https://events.excelsiorcitizen.com/event/fantastic-auction-11/
LOCATION:Mac’s Auction\, Y Highway\, 1002 Prentiss Ave\, Excelsior Springs\, MO\, 64024\, United States
ATTACH;FMTTYPE=image/jpeg:https://events.excelsiorcitizen.com/wp-content/uploads/2026/03/643383338_1621909136127841_1948775536525561168_n.jpg
END:VEVENT
BEGIN:VEVENT
DTSTART;TZID=America/Chicago:20260118T110000
DTEND;TZID=America/Chicago:20260118T170000
DTSTAMP:20260421T192038
CREATED:20260112T151300Z
LAST-MODIFIED:20260112T151300Z
UID:10003744-1768734000-1768755600@events.excelsiorcitizen.com
SUMMARY:Fantastic Auction - Mac's Auction
DESCRIPTION:Mac’s Auction ServiceSunday\, January 1811:00 a.m.Y Hwy\, Excelsior Springs\, MO\n\nFirst sale of 2026! We will be selling collectibles\, coins\, jewelry\, tools and more. Everything in great shape!\n\nCoins: Bank box of uncirculated 2024 pennies $25 face value\, bank box of mixed penny rolls $25 face value\, proof sets\, roll of 2025 pennies\, misc. Coin sets\, tokens\, other collectible coins\, good assortment of jewelry inc. lots of sterling\, some 10k & 14k gold\, GF pocket watches\, stamp albums\, glassware inc. Jewel Tea\, Aladdin lamp\, dolls\, small iron pot\, Star Wars collectibles\, baseball cards\, old beer cans\, diecast cars\, metal trunks\, chicken coll.\, crocks\, bedding\, silverplate\, pictures\, turntable\, rugs\, copper boiler\, Christmas items\, fans\, glass hanging monkeys\, whatnots\, Chiefs items\, ball hats\, tools inc. 2 work benches\, sawzall\, hand and power tools\, saws\, flashlights\, tool box\, socket set and more. Jayco 26’ travel trailer with title\, completely gutted – would be good for a winter project for hunting or to use as a storage unit. Our listings are never complete – still going through boxes. Hope to see everyone for the first sale of the year!
URL:https://events.excelsiorcitizen.com/event/fantastic-auction-macs-auction-2/
LOCATION:Mac’s Auction\, Y Highway\, 1002 Prentiss Ave\, Excelsior Springs\, MO\, 64024\, United States
END:VEVENT
END:VCALENDAR