BEGIN:VCALENDAR
VERSION:2.0
PRODID:-// - ECPv6.15.20//NONSGML v1.0//EN
CALSCALE:GREGORIAN
METHOD:PUBLISH
X-ORIGINAL-URL:https://events.excelsiorcitizen.com
X-WR-CALDESC:Events for 
REFRESH-INTERVAL;VALUE=DURATION:PT1H
X-Robots-Tag:noindex
X-PUBLISHED-TTL:PT1H
BEGIN:VTIMEZONE
TZID:UTC
BEGIN:STANDARD
TZOFFSETFROM:+0000
TZOFFSETTO:+0000
TZNAME:UTC
DTSTART:20250101T000000
END:STANDARD
END:VTIMEZONE
BEGIN:VEVENT
DTSTART;TZID=UTC:20260323T160000
DTEND;TZID=UTC:20260323T173000
DTSTAMP:20260421T093127
CREATED:20260113T040617Z
LAST-MODIFIED:20260323T030919Z
UID:10003784-1774281600-1774287000@events.excelsiorcitizen.com
SUMMARY:Lewis Archery Club
DESCRIPTION:Lewis Archery Club-Seth Rulon. Lewis Archery Club-Rulon
URL:https://events.excelsiorcitizen.com/event/elementary-special-events-home-36/
LOCATION:Lewis Elementary – Gym
ATTACH;FMTTYPE=image/jpeg:https://events.excelsiorcitizen.com/wp-content/uploads/2026/03/Lewis.jpg
END:VEVENT
BEGIN:VEVENT
DTSTART;TZID=UTC:20260318T210000
DTEND;TZID=UTC:20260318T223000
DTSTAMP:20260421T093127
CREATED:20260113T040614Z
LAST-MODIFIED:20260223T010132Z
UID:10003783-1773867600-1773873000@events.excelsiorcitizen.com
SUMMARY:Elementary Special Events  (Home)
DESCRIPTION:Comments: Lewis Archery Club-Seth Rulon.  Lewis Archery Club-Rulon
URL:https://events.excelsiorcitizen.com/event/elementary-special-events-home-35/
LOCATION:Lewis Elementary – Gym
END:VEVENT
BEGIN:VEVENT
DTSTART;TZID=UTC:20260316T210000
DTEND;TZID=UTC:20260316T223000
DTSTAMP:20260421T093127
CREATED:20260113T040557Z
LAST-MODIFIED:20260223T010131Z
UID:10003782-1773694800-1773700200@events.excelsiorcitizen.com
SUMMARY:Elementary Special Events  (Home)
DESCRIPTION:Comments: Lewis Archery Club-Seth Rulon.  Lewis Archery Club-Rulon
URL:https://events.excelsiorcitizen.com/event/elementary-special-events-home-34/
LOCATION:Lewis Elementary – Gym
END:VEVENT
BEGIN:VEVENT
DTSTART;TZID=UTC:20260309T210000
DTEND;TZID=UTC:20260309T223000
DTSTAMP:20260421T093127
CREATED:20260113T040556Z
LAST-MODIFIED:20260223T010117Z
UID:10003781-1773090000-1773095400@events.excelsiorcitizen.com
SUMMARY:Elementary Special Events  (Home)
DESCRIPTION:Comments: Lewis Archery Club-Seth Rulon.  Lewis Archery Club-Rulon
URL:https://events.excelsiorcitizen.com/event/elementary-special-events-home-33/
LOCATION:Lewis Elementary – Gym
END:VEVENT
BEGIN:VEVENT
DTSTART;TZID=UTC:20260307T230000
DTEND;TZID=UTC:20260308T010000
DTSTAMP:20260421T093128
CREATED:20260223T004544Z
LAST-MODIFIED:20260223T010117Z
UID:10004453-1772924400-1772931600@events.excelsiorcitizen.com
SUMMARY:Elementary Special Events  (Home)
DESCRIPTION:Comments: Glow Dance.  Glow Dance
URL:https://events.excelsiorcitizen.com/event/elementary-special-events-home-38/
LOCATION:Lewis Elementary – Gym
END:VEVENT
BEGIN:VEVENT
DTSTART;TZID=UTC:20260304T220000
DTEND;TZID=UTC:20260304T233000
DTSTAMP:20260421T093128
CREATED:20260113T040537Z
LAST-MODIFIED:20260223T010102Z
UID:10003780-1772661600-1772667000@events.excelsiorcitizen.com
SUMMARY:Elementary Special Events  (Home)
DESCRIPTION:Comments: Lewis Archery Club-Seth Rulon.  Lewis Archery Club-Rulon
URL:https://events.excelsiorcitizen.com/event/elementary-special-events-home-32/
LOCATION:Lewis Elementary – Gym
END:VEVENT
BEGIN:VEVENT
DTSTART;TZID=UTC:20260302T220000
DTEND;TZID=UTC:20260302T233000
DTSTAMP:20260421T093128
CREATED:20260113T040535Z
LAST-MODIFIED:20260223T010102Z
UID:10003779-1772488800-1772494200@events.excelsiorcitizen.com
SUMMARY:Elementary Special Events  (Home)
DESCRIPTION:Comments: Lewis Archery Club-Seth Rulon.  Lewis Archery Club-Rulon
URL:https://events.excelsiorcitizen.com/event/elementary-special-events-home-31/
LOCATION:Lewis Elementary – Gym
END:VEVENT
END:VCALENDAR