BEGIN:VCALENDAR
VERSION:2.0
PRODID:-// - ECPv6.15.20//NONSGML v1.0//EN
CALSCALE:GREGORIAN
METHOD:PUBLISH
X-ORIGINAL-URL:https://events.excelsiorcitizen.com
X-WR-CALDESC:Events for 
REFRESH-INTERVAL;VALUE=DURATION:PT1H
X-Robots-Tag:noindex
X-PUBLISHED-TTL:PT1H
BEGIN:VTIMEZONE
TZID:UTC
BEGIN:STANDARD
TZOFFSETFROM:+0000
TZOFFSETTO:+0000
TZNAME:UTC
DTSTART:20240101T000000
END:STANDARD
END:VTIMEZONE
BEGIN:VEVENT
DTSTART;TZID=UTC:20251220T150000
DTEND;TZID=UTC:20251221T000000
DTSTAMP:20260421T114608
CREATED:20251120T184435Z
LAST-MODIFIED:20251205T233304Z
UID:10002312-1766242800-1766275200@events.excelsiorcitizen.com
SUMMARY:Wrestling: Boys Varsity  vs. Lee's Summit (Away)
DESCRIPTION:Type: Tournament  Opponent: Lee’s Summit
URL:https://events.excelsiorcitizen.com/event/wrestling-boys-varsity-vs-lees-summit-away-2/
LOCATION:Lee’s Summit High School
END:VEVENT
BEGIN:VEVENT
DTSTART;TZID=UTC:20251219T220000
DTEND;TZID=UTC:20251220T030000
DTSTAMP:20260421T114608
CREATED:20251120T184415Z
LAST-MODIFIED:20251205T233247Z
UID:10002305-1766181600-1766199600@events.excelsiorcitizen.com
SUMMARY:Wrestling: Boys Varsity  vs. Lee's Summit (Away)
DESCRIPTION:Type: Tournament  Opponent: Lee’s Summit
URL:https://events.excelsiorcitizen.com/event/wrestling-boys-varsity-vs-lees-summit-away/
LOCATION:Lee’s Summit High School
END:VEVENT
END:VCALENDAR