BEGIN:VCALENDAR
VERSION:2.0
PRODID:-// - ECPv6.15.20//NONSGML v1.0//EN
CALSCALE:GREGORIAN
METHOD:PUBLISH
X-ORIGINAL-URL:https://events.excelsiorcitizen.com
X-WR-CALDESC:Events for 
REFRESH-INTERVAL;VALUE=DURATION:PT1H
X-Robots-Tag:noindex
X-PUBLISHED-TTL:PT1H
BEGIN:VTIMEZONE
TZID:UTC
BEGIN:STANDARD
TZOFFSETFROM:+0000
TZOFFSETTO:+0000
TZNAME:UTC
DTSTART:20250101T000000
END:STANDARD
END:VTIMEZONE
BEGIN:VEVENT
DTSTART;TZID=UTC:20260129T223000
DTEND;TZID=UTC:20260129T233000
DTSTAMP:20260422T165725
CREATED:20251120T184849Z
LAST-MODIFIED:20260118T051707Z
UID:10002433-1769725800-1769729400@events.excelsiorcitizen.com
SUMMARY:Basketball: Boys C Gold  vs. Lawson (Away)
DESCRIPTION:Type: Game  Opponent: Lawson
URL:https://events.excelsiorcitizen.com/event/basketball-boys-c-gold-vs-lawson-away/
LOCATION:Lawson High School
END:VEVENT
BEGIN:VEVENT
DTSTART;TZID=UTC:20260117T170000
DTEND;TZID=UTC:20260117T183000
DTSTAMP:20260422T165725
CREATED:20260117T050037Z
LAST-MODIFIED:20260117T050044Z
UID:10003836-1768669200-1768674600@events.excelsiorcitizen.com
SUMMARY:Basketball: Girls Varsity  vs. Odessa (Away)
DESCRIPTION:Type: Tournament  Opponent: Odessa
URL:https://events.excelsiorcitizen.com/event/basketball-girls-varsity-vs-odessa-away/
LOCATION:Lawson High School
END:VEVENT
BEGIN:VEVENT
DTSTART;TZID=UTC:20260117T060000
DTEND;TZID=UTC:20260117T060000
DTSTAMP:20260422T165725
CREATED:20251120T184723Z
LAST-MODIFIED:20260113T040222Z
UID:10002386-1768629600-1768629600@events.excelsiorcitizen.com
SUMMARY:Basketball: Boys Varsity  vs. Lawson (Away)
DESCRIPTION:Type: Tournament  Opponent: Lawson
URL:https://events.excelsiorcitizen.com/event/basketball-boys-varsity-vs-lawson-away-6/
LOCATION:Lawson High School
END:VEVENT
BEGIN:VEVENT
DTSTART;TZID=UTC:20260117T060000
DTEND;TZID=UTC:20260117T060000
DTSTAMP:20260422T165725
CREATED:20251120T184704Z
LAST-MODIFIED:20260116T044747Z
UID:10002385-1768629600-1768629600@events.excelsiorcitizen.com
SUMMARY:Basketball: Girls Varsity  vs. Lawson (Away)
DESCRIPTION:Type: Tournament  Opponent: Lawson
URL:https://events.excelsiorcitizen.com/event/basketball-girls-varsity-vs-lawson-away-6/
LOCATION:Lawson High School
END:VEVENT
BEGIN:VEVENT
DTSTART;TZID=UTC:20260117T003000
DTEND;TZID=UTC:20260117T020000
DTSTAMP:20260422T165725
CREATED:20260116T044538Z
LAST-MODIFIED:20260116T044746Z
UID:10003820-1768609800-1768615200@events.excelsiorcitizen.com
SUMMARY:Basketball: Boys Varsity  vs. Cameron (Away)
DESCRIPTION:Type: Tournament  Opponent: Cameron
URL:https://events.excelsiorcitizen.com/event/basketball-boys-varsity-vs-cameron-away/
LOCATION:Lawson High School
END:VEVENT
BEGIN:VEVENT
DTSTART;TZID=UTC:20260116T060000
DTEND;TZID=UTC:20260116T060000
DTSTAMP:20260422T165725
CREATED:20251120T184703Z
LAST-MODIFIED:20260115T043042Z
UID:10002380-1768543200-1768543200@events.excelsiorcitizen.com
SUMMARY:Basketball: Boys Varsity  vs. Lawson (Away)
DESCRIPTION:Type: Tournament  Opponent: Lawson
URL:https://events.excelsiorcitizen.com/event/basketball-boys-varsity-vs-lawson-away-5/
LOCATION:Lawson High School
END:VEVENT
BEGIN:VEVENT
DTSTART;TZID=UTC:20260116T060000
DTEND;TZID=UTC:20260116T060000
DTSTAMP:20260422T165725
CREATED:20251120T184703Z
LAST-MODIFIED:20260113T040221Z
UID:10002381-1768543200-1768543200@events.excelsiorcitizen.com
SUMMARY:Basketball: Girls Varsity  vs. Lawson (Away)
DESCRIPTION:Type: Tournament  Opponent: Lawson
URL:https://events.excelsiorcitizen.com/event/basketball-girls-varsity-vs-lawson-away-5/
LOCATION:Lawson High School
END:VEVENT
BEGIN:VEVENT
DTSTART;TZID=UTC:20260116T010000
DTEND;TZID=UTC:20260116T023000
DTSTAMP:20260422T165725
CREATED:20260114T041644Z
LAST-MODIFIED:20260115T043041Z
UID:10003810-1768525200-1768530600@events.excelsiorcitizen.com
SUMMARY:Basketball: Girls Varsity  vs. Lawson (Away)
DESCRIPTION:Type: Tournament  Opponent: Lawson
URL:https://events.excelsiorcitizen.com/event/basketball-girls-varsity-vs-tba-away-2/
LOCATION:Lawson High School
END:VEVENT
BEGIN:VEVENT
DTSTART;TZID=UTC:20260115T060000
DTEND;TZID=UTC:20260115T060000
DTSTAMP:20260422T165725
CREATED:20251120T184643Z
LAST-MODIFIED:20260113T040219Z
UID:10002374-1768456800-1768456800@events.excelsiorcitizen.com
SUMMARY:Basketball: Girls Varsity  vs. Lawson (Away)
DESCRIPTION:Type: Tournament  Opponent: Lawson
URL:https://events.excelsiorcitizen.com/event/basketball-girls-varsity-vs-lawson-away-4/
LOCATION:Lawson High School
END:VEVENT
BEGIN:VEVENT
DTSTART;TZID=UTC:20260115T060000
DTEND;TZID=UTC:20260115T060000
DTSTAMP:20260422T165725
CREATED:20251120T184642Z
LAST-MODIFIED:20260113T040218Z
UID:10002373-1768456800-1768456800@events.excelsiorcitizen.com
SUMMARY:Basketball: Boys Varsity  vs. Lawson (Away)
DESCRIPTION:Type: Tournament  Opponent: Lawson
URL:https://events.excelsiorcitizen.com/event/basketball-boys-varsity-vs-lawson-away-4/
LOCATION:Lawson High School
END:VEVENT
BEGIN:VEVENT
DTSTART;TZID=UTC:20260115T003000
DTEND;TZID=UTC:20260115T020000
DTSTAMP:20260422T165725
CREATED:20260114T041643Z
LAST-MODIFIED:20260114T041643Z
UID:10003809-1768437000-1768442400@events.excelsiorcitizen.com
SUMMARY:Basketball: Boys Varsity  vs. TBA (Away)
DESCRIPTION:Type: Tournament  Opponent: TBA
URL:https://events.excelsiorcitizen.com/event/basketball-boys-varsity-vs-tba-away-3/
LOCATION:Lawson High School
END:VEVENT
BEGIN:VEVENT
DTSTART;TZID=UTC:20260114T060000
DTEND;TZID=UTC:20260114T060000
DTSTAMP:20260422T165725
CREATED:20251120T184641Z
LAST-MODIFIED:20260113T040216Z
UID:10002367-1768370400-1768370400@events.excelsiorcitizen.com
SUMMARY:Basketball: Boys Varsity  vs. Lawson (Away)
DESCRIPTION:Type: Tournament  Opponent: Lawson
URL:https://events.excelsiorcitizen.com/event/basketball-boys-varsity-vs-lawson-away-3/
LOCATION:Lawson High School
END:VEVENT
BEGIN:VEVENT
DTSTART;TZID=UTC:20260114T060000
DTEND;TZID=UTC:20260114T060000
DTSTAMP:20260422T165725
CREATED:20251120T184640Z
LAST-MODIFIED:20260113T040216Z
UID:10002366-1768370400-1768370400@events.excelsiorcitizen.com
SUMMARY:Basketball: Girls Varsity  vs. Lawson (Away)
DESCRIPTION:Type: Tournament  Opponent: Lawson
URL:https://events.excelsiorcitizen.com/event/basketball-girls-varsity-vs-lawson-away-3/
LOCATION:Lawson High School
END:VEVENT
BEGIN:VEVENT
DTSTART;TZID=UTC:20260113T060000
DTEND;TZID=UTC:20260113T060000
DTSTAMP:20260422T165725
CREATED:20251120T184621Z
LAST-MODIFIED:20260105T185517Z
UID:10002361-1768284000-1768284000@events.excelsiorcitizen.com
SUMMARY:Basketball: Boys Varsity  vs. Lawson (Away)
DESCRIPTION:Type: Tournament  Opponent: Lawson
URL:https://events.excelsiorcitizen.com/event/basketball-boys-varsity-vs-lawson-away-2/
LOCATION:Lawson High School
END:VEVENT
BEGIN:VEVENT
DTSTART;TZID=UTC:20260113T060000
DTEND;TZID=UTC:20260113T060000
DTSTAMP:20260422T165725
CREATED:20251120T184621Z
LAST-MODIFIED:20260105T185517Z
UID:10002362-1768284000-1768284000@events.excelsiorcitizen.com
SUMMARY:Basketball: Girls Varsity  vs. Lawson (Away)
DESCRIPTION:Type: Tournament  Opponent: Lawson
URL:https://events.excelsiorcitizen.com/event/basketball-girls-varsity-vs-lawson-away-2/
LOCATION:Lawson High School
END:VEVENT
BEGIN:VEVENT
DTSTART;TZID=UTC:20260113T003000
DTEND;TZID=UTC:20260113T020000
DTSTAMP:20260422T165725
CREATED:20260105T201543Z
LAST-MODIFIED:20260112T034540Z
UID:10002722-1768264200-1768269600@events.excelsiorcitizen.com
SUMMARY:Basketball: Girls Varsity  vs. Cameron (Away)
DESCRIPTION:Type: Tournament  Opponent: Cameron
URL:https://events.excelsiorcitizen.com/event/basketball-girls-varsity-vs-cameron-away/
LOCATION:Lawson High School
END:VEVENT
BEGIN:VEVENT
DTSTART;TZID=UTC:20260112T230000
DTEND;TZID=UTC:20260113T003000
DTSTAMP:20260422T165725
CREATED:20260105T201543Z
LAST-MODIFIED:20260112T034540Z
UID:10002723-1768258800-1768264200@events.excelsiorcitizen.com
SUMMARY:Basketball: Boys Varsity  vs. West Platte (Away)
DESCRIPTION:Type: Tournament  Opponent: West Platte
URL:https://events.excelsiorcitizen.com/event/basketball-boys-varsity-vs-west-platte-away/
LOCATION:Lawson High School
END:VEVENT
BEGIN:VEVENT
DTSTART;TZID=UTC:20260112T060000
DTEND;TZID=UTC:20260112T060000
DTSTAMP:20260422T165725
CREATED:20251120T184559Z
LAST-MODIFIED:20260105T185514Z
UID:10002354-1768197600-1768197600@events.excelsiorcitizen.com
SUMMARY:Basketball: Girls Varsity  vs. Lawson (Away)
DESCRIPTION:Type: Tournament  Opponent: Lawson
URL:https://events.excelsiorcitizen.com/event/basketball-girls-varsity-vs-lawson-away/
LOCATION:Lawson High School
END:VEVENT
BEGIN:VEVENT
DTSTART;TZID=UTC:20260112T060000
DTEND;TZID=UTC:20260112T060000
DTSTAMP:20260422T165725
CREATED:20251120T184559Z
LAST-MODIFIED:20260113T051839Z
UID:10002355-1768197600-1768197600@events.excelsiorcitizen.com
SUMMARY:Basketball: Boys Varsity  vs. Lawson (Away)
DESCRIPTION:Type: Tournament  Opponent: Lawson
URL:https://events.excelsiorcitizen.com/event/basketball-boys-varsity-vs-lawson-away/
LOCATION:Lawson High School
END:VEVENT
END:VCALENDAR