BEGIN:VCALENDAR
VERSION:2.0
PRODID:-// - ECPv6.15.20//NONSGML v1.0//EN
CALSCALE:GREGORIAN
METHOD:PUBLISH
X-ORIGINAL-URL:https://events.excelsiorcitizen.com
X-WR-CALDESC:Events for 
REFRESH-INTERVAL;VALUE=DURATION:PT1H
X-Robots-Tag:noindex
X-PUBLISHED-TTL:PT1H
BEGIN:VTIMEZONE
TZID:UTC
BEGIN:STANDARD
TZOFFSETFROM:+0000
TZOFFSETTO:+0000
TZNAME:UTC
DTSTART:20250101T000000
END:STANDARD
END:VTIMEZONE
BEGIN:VEVENT
DTSTART;TZID=UTC:20260422T083000
DTEND;TZID=UTC:20260422T120000
DTSTAMP:20260421T190509
CREATED:20260108T165045Z
LAST-MODIFIED:20260420T045301Z
UID:10002759-1776846600-1776859200@events.excelsiorcitizen.com
SUMMARY:Golf: Boys Varsity vs. Lafayette County C-1 (Away)
DESCRIPTION:Tournament Opponent: Lafayette County C-1
URL:https://events.excelsiorcitizen.com/event/golf-boys-varsity-vs-lafayette-county-c-1-away/
LOCATION:Lafayette County C-1 High School
ATTACH;FMTTYPE=image/jpeg:https://events.excelsiorcitizen.com/wp-content/uploads/2024/08/golf-feat-090924.jpg
END:VEVENT
END:VCALENDAR