BEGIN:VCALENDAR
VERSION:2.0
PRODID:-// - ECPv6.15.20//NONSGML v1.0//EN
CALSCALE:GREGORIAN
METHOD:PUBLISH
X-ORIGINAL-URL:https://events.excelsiorcitizen.com
X-WR-CALDESC:Events for 
REFRESH-INTERVAL;VALUE=DURATION:PT1H
X-Robots-Tag:noindex
X-PUBLISHED-TTL:PT1H
BEGIN:VTIMEZONE
TZID:UTC
BEGIN:STANDARD
TZOFFSETFROM:+0000
TZOFFSETTO:+0000
TZNAME:UTC
DTSTART:20240101T000000
END:STANDARD
END:VTIMEZONE
BEGIN:VEVENT
DTSTART;TZID=UTC:20251203T230000
DTEND;TZID=UTC:20251204T000000
DTSTAMP:20260422T064227
CREATED:20251120T184124Z
LAST-MODIFIED:20251203T230135Z
UID:10002173-1764802800-1764806400@events.excelsiorcitizen.com
SUMMARY:Basketball: Boys C Gold  vs. Kearney (Away)
DESCRIPTION:Type: Game  Opponent: Kearney
URL:https://events.excelsiorcitizen.com/event/basketball-boys-c-gold-vs-kearney-away/
LOCATION:Kearney Junior High School
END:VEVENT
END:VCALENDAR