BEGIN:VCALENDAR
VERSION:2.0
PRODID:-// - ECPv6.15.20//NONSGML v1.0//EN
CALSCALE:GREGORIAN
METHOD:PUBLISH
X-ORIGINAL-URL:https://events.excelsiorcitizen.com
X-WR-CALDESC:Events for 
REFRESH-INTERVAL;VALUE=DURATION:PT1H
X-Robots-Tag:noindex
X-PUBLISHED-TTL:PT1H
BEGIN:VTIMEZONE
TZID:UTC
BEGIN:STANDARD
TZOFFSETFROM:+0000
TZOFFSETTO:+0000
TZNAME:UTC
DTSTART:20240101T000000
END:STANDARD
END:VTIMEZONE
BEGIN:VEVENT
DTSTART;TZID=UTC:20251220T000000
DTEND;TZID=UTC:20251220T013000
DTSTAMP:20260421T134556
CREATED:20251122T200556Z
LAST-MODIFIED:20251205T233303Z
UID:10002514-1766188800-1766194200@events.excelsiorcitizen.com
SUMMARY:Basketball: Girls Varsity  vs. Southern Boone School District (Away)
DESCRIPTION:Type: Game  Opponent: Southern Boone School District
URL:https://events.excelsiorcitizen.com/event/basketball-girls-varsity-vs-southern-boone-school-district-away-2/
LOCATION:Hy-Vee Arena
END:VEVENT
BEGIN:VEVENT
DTSTART;TZID=UTC:20251219T060000
DTEND;TZID=UTC:20251219T060000
DTSTAMP:20260421T134556
CREATED:20251120T184415Z
LAST-MODIFIED:20251121T195646Z
UID:10002304-1766124000-1766124000@events.excelsiorcitizen.com
SUMMARY:Basketball: Girls Varsity  vs. Southern Boone School District (Away)
DESCRIPTION:Type: Game  Opponent: Southern Boone School District
URL:https://events.excelsiorcitizen.com/event/basketball-girls-varsity-vs-southern-boone-school-district-away/
LOCATION:Hy-Vee Arena
END:VEVENT
END:VCALENDAR