BEGIN:VCALENDAR
VERSION:2.0
PRODID:-// - ECPv6.15.20//NONSGML v1.0//EN
CALSCALE:GREGORIAN
METHOD:PUBLISH
X-ORIGINAL-URL:https://events.excelsiorcitizen.com
X-WR-CALDESC:Events for 
REFRESH-INTERVAL;VALUE=DURATION:PT1H
X-Robots-Tag:noindex
X-PUBLISHED-TTL:PT1H
BEGIN:VTIMEZONE
TZID:America/Chicago
BEGIN:DAYLIGHT
TZOFFSETFROM:-0600
TZOFFSETTO:-0500
TZNAME:CDT
DTSTART:20250309T080000
END:DAYLIGHT
BEGIN:STANDARD
TZOFFSETFROM:-0500
TZOFFSETTO:-0600
TZNAME:CST
DTSTART:20251102T070000
END:STANDARD
BEGIN:DAYLIGHT
TZOFFSETFROM:-0600
TZOFFSETTO:-0500
TZNAME:CDT
DTSTART:20260308T080000
END:DAYLIGHT
BEGIN:STANDARD
TZOFFSETFROM:-0500
TZOFFSETTO:-0600
TZNAME:CST
DTSTART:20261101T070000
END:STANDARD
BEGIN:DAYLIGHT
TZOFFSETFROM:-0600
TZOFFSETTO:-0500
TZNAME:CDT
DTSTART:20270314T080000
END:DAYLIGHT
BEGIN:STANDARD
TZOFFSETFROM:-0500
TZOFFSETTO:-0600
TZNAME:CST
DTSTART:20271107T070000
END:STANDARD
END:VTIMEZONE
BEGIN:VEVENT
DTSTART;TZID=America/Chicago:20260505T110000
DTEND;TZID=America/Chicago:20260505T130000
DTSTAMP:20260420T201044
CREATED:20260412T162717Z
LAST-MODIFIED:20260412T162717Z
UID:10004712-1777978800-1777986000@events.excelsiorcitizen.com
SUMMARY:Cinco De Mayo with Hightower Heritage
DESCRIPTION:Join us for a special Cinco de Mayo edition of our #TuesdayTeamLunch Walking tacos\, dessert\, and drinks are on us!\nEvery good fiesta calls for great food and even better company. Our weekly tradition is all about connection\, community\, and taking time to enjoy the people around us. All that’s missing is you!\nTaco ’bout our event with your family and friends! Our community is a big part of this team\, and we appreciate the opportunity to serve and celebrate with you.\nRSVP here: https://forms.gle/JQqFCZW1epi2uic2A\n#TuesdayTeamLunch #HightowerHeritage #CincoDeMayo #ExcelsiorSprings #CommunityFirst #TacoTuesday #LocalEvents
URL:https://events.excelsiorcitizen.com/event/cinco-de-mayo-with-hightower-heritage/
LOCATION:Hightower Heritage Real Estate\, 225 N Jesse James Rd\, Excelsior Springs\, MO\, 64024\, United States
ATTACH;FMTTYPE=image/jpeg:https://events.excelsiorcitizen.com/wp-content/uploads/2026/04/Cinco-De-Mayo-HHRE.jpg
END:VEVENT
END:VCALENDAR