BEGIN:VCALENDAR
VERSION:2.0
PRODID:-// - ECPv6.15.20//NONSGML v1.0//EN
CALSCALE:GREGORIAN
METHOD:PUBLISH
X-ORIGINAL-URL:https://events.excelsiorcitizen.com
X-WR-CALDESC:Events for 
REFRESH-INTERVAL;VALUE=DURATION:PT1H
X-Robots-Tag:noindex
X-PUBLISHED-TTL:PT1H
BEGIN:VTIMEZONE
TZID:America/Chicago
BEGIN:DAYLIGHT
TZOFFSETFROM:-0600
TZOFFSETTO:-0500
TZNAME:CDT
DTSTART:20250309T080000
END:DAYLIGHT
BEGIN:STANDARD
TZOFFSETFROM:-0500
TZOFFSETTO:-0600
TZNAME:CST
DTSTART:20251102T070000
END:STANDARD
BEGIN:DAYLIGHT
TZOFFSETFROM:-0600
TZOFFSETTO:-0500
TZNAME:CDT
DTSTART:20260308T080000
END:DAYLIGHT
BEGIN:STANDARD
TZOFFSETFROM:-0500
TZOFFSETTO:-0600
TZNAME:CST
DTSTART:20261101T070000
END:STANDARD
BEGIN:DAYLIGHT
TZOFFSETFROM:-0600
TZOFFSETTO:-0500
TZNAME:CDT
DTSTART:20270314T080000
END:DAYLIGHT
BEGIN:STANDARD
TZOFFSETFROM:-0500
TZOFFSETTO:-0600
TZNAME:CST
DTSTART:20271107T070000
END:STANDARD
END:VTIMEZONE
BEGIN:VEVENT
DTSTART;TZID=America/Chicago:20260418T120000
DTEND;TZID=America/Chicago:20260418T150000
DTSTAMP:20260422T125215
CREATED:20260406T020110Z
LAST-MODIFIED:20260406T020110Z
UID:10004674-1776513600-1776524400@events.excelsiorcitizen.com
SUMMARY:Americana Rag Quilt Class
DESCRIPTION:You will leave class with a complete Americana rag quilt! The size is approximately 40″ X 50″.\nNever sewn before? This is a perfect learning event. Are you an experienced sewist whose never made a rag quilt? This is a great way to learn a new skill.\n\nDate: Saturday April 18. 12:00 – 3:00\nCost: $55 – includes fabric and instruction. Kits will be available to choose your fabric – which is all Americana themed fabrics.\n\nYou will need the following supplies that you can bring\, or purchase from Heartland Quilt Supply Co. onsite.\n\nRequired tools:– Sewing Machine (rent ours for $15 more)– Thread\, recommend cotton 50+ weight and full bobbin– seam ripper– scissors– clips or pins\nRecommended:– Rotary cutter– 6 1/2″ square ruler– 6 1/2″ Rectangle ruler\n\nRegister on our website (RSVP here are NOT reservations for class.) https://www.heartlandquiltsupplyco.com/…/americana-rag…\n\nHeartland Quilt Supply Co is located at 216 S Marietta St\, Excelsior Springs\, MO. This class will occur in our dedicated classroom and studio located at 200 S Marietta St\, Excelsior Springs\, MO.
URL:https://events.excelsiorcitizen.com/event/americana-rag-quilt-class/
LOCATION:Heartland Quilt Supply\, 216 S Marietta St\, Excelsior Springs\, MO\, 64024\, United States
ATTACH;FMTTYPE=image/jpeg:https://events.excelsiorcitizen.com/wp-content/uploads/2026/04/659688226_1566609865464825_9161784349337328339_n.jpg
END:VEVENT
BEGIN:VEVENT
DTSTART;TZID=America/Chicago:20260207T110000
DTEND;TZID=America/Chicago:20260207T190000
DTSTAMP:20260422T125215
CREATED:20260112T150925Z
LAST-MODIFIED:20260112T150925Z
UID:10003743-1770462000-1770490800@events.excelsiorcitizen.com
SUMMARY:Galentine's Day Party
DESCRIPTION:Come celebrate friendship and love with your gal pals in store on Saturday February 7th from 10-7!\n\nWe will have extended hours\, exclusive event day specials\, giveaways throughout the day\, demos\, make and takes\, photo ops and more!! It’s going to be a party… and you and your gals are invited.\n\nYou don’t want to miss this! Invite your friends and plan to stop by!   
URL:https://events.excelsiorcitizen.com/event/galentines-day-party/
LOCATION:Heartland Quilt Supply\, 216 S Marietta St\, Excelsior Springs\, MO\, 64024\, United States
END:VEVENT
END:VCALENDAR