BEGIN:VCALENDAR
VERSION:2.0
PRODID:-// - ECPv6.15.20//NONSGML v1.0//EN
CALSCALE:GREGORIAN
METHOD:PUBLISH
X-ORIGINAL-URL:https://events.excelsiorcitizen.com
X-WR-CALDESC:Events for 
REFRESH-INTERVAL;VALUE=DURATION:PT1H
X-Robots-Tag:noindex
X-PUBLISHED-TTL:PT1H
BEGIN:VTIMEZONE
TZID:America/Chicago
BEGIN:DAYLIGHT
TZOFFSETFROM:-0600
TZOFFSETTO:-0500
TZNAME:CDT
DTSTART:20250309T080000
END:DAYLIGHT
BEGIN:STANDARD
TZOFFSETFROM:-0500
TZOFFSETTO:-0600
TZNAME:CST
DTSTART:20251102T070000
END:STANDARD
BEGIN:DAYLIGHT
TZOFFSETFROM:-0600
TZOFFSETTO:-0500
TZNAME:CDT
DTSTART:20260308T080000
END:DAYLIGHT
BEGIN:STANDARD
TZOFFSETFROM:-0500
TZOFFSETTO:-0600
TZNAME:CST
DTSTART:20261101T070000
END:STANDARD
BEGIN:DAYLIGHT
TZOFFSETFROM:-0600
TZOFFSETTO:-0500
TZNAME:CDT
DTSTART:20270314T080000
END:DAYLIGHT
BEGIN:STANDARD
TZOFFSETFROM:-0500
TZOFFSETTO:-0600
TZNAME:CST
DTSTART:20271107T070000
END:STANDARD
END:VTIMEZONE
BEGIN:VEVENT
DTSTART;TZID=America/Chicago:20260503T180000
DTEND;TZID=America/Chicago:20260503T200000
DTSTAMP:20260420T214356
CREATED:20260419T160243Z
LAST-MODIFIED:20260419T160243Z
UID:10005377-1777831200-1777838400@events.excelsiorcitizen.com
SUMMARY:Pastors Jay and Debbie Ministering in Excelsior Springs
DESCRIPTION:Pastors Jay and Debbie Eberly invite you to join them at Grace Family Worship Center in Excelsior Springs\, MO\, with Pastors Forrest & Brenda Schreier on Sunday\, May 3rd. Come experience an encounter with God and be empowered to always live victorious through the spirit of faith!\n\nSunday\, May 3rd at 6:00 p.m.\nGrace Family Worship Center1816 Kearney RdExcelsior Springs\, MO 64024\nPhone: 816-630-9964\nWebsite: https://gracefamilyexcelsior.com/\n\nLivestream is available for these services at the following link: https://www.youtube.com/@GraceFamilyExcelsior
URL:https://events.excelsiorcitizen.com/event/pastors-jay-and-debbie-ministering-in-excelsior-springs/
LOCATION:Grace Family Worship Center\, 1816 Kearney Rd\, Excelsior Springs\, MO\, 64024\, United States
ATTACH;FMTTYPE=image/jpeg:https://events.excelsiorcitizen.com/wp-content/uploads/2026/04/671754379_990737190186241_7701331293901310163_n.jpg
END:VEVENT
END:VCALENDAR