BEGIN:VCALENDAR
VERSION:2.0
PRODID:-// - ECPv6.15.20//NONSGML v1.0//EN
CALSCALE:GREGORIAN
METHOD:PUBLISH
X-ORIGINAL-URL:https://events.excelsiorcitizen.com
X-WR-CALDESC:Events for 
REFRESH-INTERVAL;VALUE=DURATION:PT1H
X-Robots-Tag:noindex
X-PUBLISHED-TTL:PT1H
BEGIN:VTIMEZONE
TZID:UTC
BEGIN:STANDARD
TZOFFSETFROM:+0000
TZOFFSETTO:+0000
TZNAME:UTC
DTSTART:20250101T000000
END:STANDARD
END:VTIMEZONE
BEGIN:VEVENT
DTSTART;TZID=UTC:20260317T130000
DTEND;TZID=UTC:20260317T210000
DTSTAMP:20260421T110502
CREATED:20260103T022156Z
LAST-MODIFIED:20260223T010132Z
UID:10002611-1773752400-1773781200@events.excelsiorcitizen.com
SUMMARY:Special Events-ESHS  (Home)
DESCRIPTION:Comments: District Theatre Competition/ One Acts and Readers Theatre
URL:https://events.excelsiorcitizen.com/event/special-events-eshs-home-45/
LOCATION:Excelsior Springs High School – HS Commons\, Excelsior Springs High School – Performing Arts Center\, High School Choir Room\, High School Commons\, PAC Lobby\, Performing Arts Center
END:VEVENT
END:VCALENDAR