BEGIN:VCALENDAR
VERSION:2.0
PRODID:-// - ECPv6.15.20//NONSGML v1.0//EN
CALSCALE:GREGORIAN
METHOD:PUBLISH
X-ORIGINAL-URL:https://events.excelsiorcitizen.com
X-WR-CALDESC:Events for 
REFRESH-INTERVAL;VALUE=DURATION:PT1H
X-Robots-Tag:noindex
X-PUBLISHED-TTL:PT1H
BEGIN:VTIMEZONE
TZID:UTC
BEGIN:STANDARD
TZOFFSETFROM:+0000
TZOFFSETTO:+0000
TZNAME:UTC
DTSTART:20240101T000000
END:STANDARD
END:VTIMEZONE
BEGIN:VEVENT
DTSTART;TZID=UTC:20251213T180000
DTEND;TZID=UTC:20251213T230000
DTSTAMP:20260422T040350
CREATED:20251124T203133Z
LAST-MODIFIED:20251205T234637Z
UID:10002524-1765648800-1765666800@events.excelsiorcitizen.com
SUMMARY:Cocktails & Candy Canes
DESCRIPTION:Get into the holiday spirit with a fun and festive day in Downtown Excelsior Springs! Join us for Cocktails & Candy Canes\, where participating businesses will offer a unique holiday experience. Sip on seasonal cocktails at select stops\, savor delicious snacks at others\, and even receive special gifts at a few along the way!\nStroll through our beautifully decorated downtown\, enjoy the warm hospitality of local merchants\, and indulge in holiday cheer with friends and family. Whether you’re a cocktail connoisseur\, a foodie\, or just looking for a day of festive fun\, this event has something for everyone.\nCocktail Stops: Delight in holiday-themed drinks crafted by local favorites.\nSnack Stops: Enjoy tasty treats to fuel your evening of fun.\nGift Stops: Take home a little holiday surprise from participating businesses.\nThis is the perfect opportunity to explore the magic of Excelsior Springs\, shop local\, and make lasting memories. Grab your tickets today and get ready for a merry day out!\nhttps://www.facebook.com/events/877129134648287/
URL:https://events.excelsiorcitizen.com/event/cocktails-candy-canes-3/
LOCATION:Downtown Excelsior Springs\, Missouri
ORGANIZER;CN="Excelsior Springs Christmas":MAILTO:noreply@facebookmail.com
END:VEVENT
END:VCALENDAR