BEGIN:VCALENDAR
VERSION:2.0
PRODID:-// - ECPv6.15.20//NONSGML v1.0//EN
CALSCALE:GREGORIAN
METHOD:PUBLISH
X-ORIGINAL-URL:https://events.excelsiorcitizen.com
X-WR-CALDESC:Events for 
REFRESH-INTERVAL;VALUE=DURATION:PT1H
X-Robots-Tag:noindex
X-PUBLISHED-TTL:PT1H
BEGIN:VTIMEZONE
TZID:America/Chicago
BEGIN:DAYLIGHT
TZOFFSETFROM:-0600
TZOFFSETTO:-0500
TZNAME:CDT
DTSTART:20250309T080000
END:DAYLIGHT
BEGIN:STANDARD
TZOFFSETFROM:-0500
TZOFFSETTO:-0600
TZNAME:CST
DTSTART:20251102T070000
END:STANDARD
BEGIN:DAYLIGHT
TZOFFSETFROM:-0600
TZOFFSETTO:-0500
TZNAME:CDT
DTSTART:20260308T080000
END:DAYLIGHT
BEGIN:STANDARD
TZOFFSETFROM:-0500
TZOFFSETTO:-0600
TZNAME:CST
DTSTART:20261101T070000
END:STANDARD
BEGIN:DAYLIGHT
TZOFFSETFROM:-0600
TZOFFSETTO:-0500
TZNAME:CDT
DTSTART:20270314T080000
END:DAYLIGHT
BEGIN:STANDARD
TZOFFSETFROM:-0500
TZOFFSETTO:-0600
TZNAME:CST
DTSTART:20271107T070000
END:STANDARD
END:VTIMEZONE
BEGIN:VEVENT
DTSTART;TZID=America/Chicago:20260325T070000
DTEND;TZID=America/Chicago:20260325T083000
DTSTAMP:20260421T233316
CREATED:20260310T071214Z
LAST-MODIFIED:20260310T071214Z
UID:10004606-1774422000-1774427400@events.excelsiorcitizen.com
SUMMARY:Coffee Brew and View
DESCRIPTION: Chamber Brew & View \nJoin us for a Coffee Brew & View networking morning hosted by THE CO-OP at EXCELSIOR SPRINGS with founders Heather Heckroot and Bob Martin. Start your day with coffee\, pastries\, and casual networking while getting a tour of Excelsior’s newest hub for community and commerce.\n\nLocated inside the First United Methodist Church of Excelsior Springs at 1650 Rainbow Blvd\, Excelsior Springs\, MO 64024.\n\nThis is a great opportunity to connect with fellow Chamber members and learn more about a local business in a relaxed setting.\n\n Network. Explore. Connect.\nJoin us for a laid-back Morning Coffee Meet-Up where local businesses and available commercial spaces take center stage! This is the perfect opportunity to connect with fellow Chamber members\, sip a cup of freshly brewed coffee\, and discover the unique spaces that our community has to offer.\n\nWhat to Expect:Coffee & Breakfast: Hosts will provide complimentary coffee and light breakfast items (think muffins\, bagels\, and other morning treats).\n\nNetworking: Enjoy casual conversations and build meaningful connections with local business owners\, entrepreneurs\, and professionals.\n\nExplore Local Spaces: See firsthand the businesses and commercial properties that make our town special and envision the possibilities.\n\nDetails: Location: Rotating host locations\, including local businesses and available commercial buildings. Time: 7:00 AM – 8:30 AM (Drop in anytime!) When: Fourth Wednesday\n\nWould You Like to Host?\nHosting is a great way to showcase your business or property!\n\nAll you need to do is: Provide a small selection of breakfast items. Open your doors and welcome Chamber members and coffee to your space!\n\nLet’s make mornings meaningful—one coffee cup at a time! \n\nFor more details or to sign up as a host\, contact Cora Boothe at CoraBoothe@BeaconRealty.co or call/text 816-838-3796.\n\nWe look forward to seeing you at our next Morning Coffee Meet-Up!
URL:https://events.excelsiorcitizen.com/event/coffee-brew-and-view-6/
LOCATION:Co-Op at Excelsior Springs\, 1650 Rainbow Blvd\, Excelsior Springs\, MO\, 64024\, United States
ATTACH;FMTTYPE=image/jpeg:https://events.excelsiorcitizen.com/wp-content/uploads/2026/03/645350052_1431299269039581_5055009984626310290_n.jpg
END:VEVENT
END:VCALENDAR