BEGIN:VCALENDAR
VERSION:2.0
PRODID:-// - ECPv6.15.20//NONSGML v1.0//EN
CALSCALE:GREGORIAN
METHOD:PUBLISH
X-ORIGINAL-URL:https://events.excelsiorcitizen.com
X-WR-CALDESC:Events for 
REFRESH-INTERVAL;VALUE=DURATION:PT1H
X-Robots-Tag:noindex
X-PUBLISHED-TTL:PT1H
BEGIN:VTIMEZONE
TZID:UTC
BEGIN:STANDARD
TZOFFSETFROM:+0000
TZOFFSETTO:+0000
TZNAME:UTC
DTSTART:20240101T000000
END:STANDARD
END:VTIMEZONE
BEGIN:VEVENT
DTSTART;TZID=UTC:20251219T220000
DTEND;TZID=UTC:20251220T000000
DTSTAMP:20260421T064011
CREATED:20251120T184434Z
LAST-MODIFIED:20251205T233303Z
UID:10002308-1766181600-1766188800@events.excelsiorcitizen.com
SUMMARY:Basketball MS: Boys MS  vs.  Excelsior Springs Middle School vs.  Chillicothe Middle (Away)
DESCRIPTION:Type: Tournament  Opponent:  Excelsior Springs Middle School vs.  Chillicothe Middle
URL:https://events.excelsiorcitizen.com/event/basketball-ms-boys-ms-vs-excelsior-springs-middle-school-vs-chillicothe-middle-away-2/
LOCATION:Chillicothe Middle School
END:VEVENT
BEGIN:VEVENT
DTSTART;TZID=UTC:20251219T220000
DTEND;TZID=UTC:20251220T000000
DTSTAMP:20260421T064011
CREATED:20251120T184434Z
LAST-MODIFIED:20251205T233247Z
UID:10002309-1766181600-1766188800@events.excelsiorcitizen.com
SUMMARY:Basketball MS: Girls MS  vs.  Excelsior Springs Middle School vs.  Chillicothe Middle (Away)
DESCRIPTION:Type: Tournament  Opponent:  Excelsior Springs Middle School vs.  Chillicothe Middle
URL:https://events.excelsiorcitizen.com/event/basketball-ms-girls-ms-vs-excelsior-springs-middle-school-vs-chillicothe-middle-away-2/
LOCATION:Chillicothe Middle School
END:VEVENT
BEGIN:VEVENT
DTSTART;TZID=UTC:20251218T220000
DTEND;TZID=UTC:20251219T000000
DTSTAMP:20260421T064011
CREATED:20251120T184413Z
LAST-MODIFIED:20251205T233228Z
UID:10002301-1766095200-1766102400@events.excelsiorcitizen.com
SUMMARY:Basketball MS: Boys MS  vs.  Excelsior Springs Middle School vs.  Chillicothe Middle (Away)
DESCRIPTION:Type: Tournament  Opponent:  Excelsior Springs Middle School vs.  Chillicothe Middle
URL:https://events.excelsiorcitizen.com/event/basketball-ms-boys-ms-vs-excelsior-springs-middle-school-vs-chillicothe-middle-away/
LOCATION:Chillicothe Middle School
END:VEVENT
BEGIN:VEVENT
DTSTART;TZID=UTC:20251218T220000
DTEND;TZID=UTC:20251219T000000
DTSTAMP:20260421T064011
CREATED:20251120T184412Z
LAST-MODIFIED:20251205T233244Z
UID:10002297-1766095200-1766102400@events.excelsiorcitizen.com
SUMMARY:Basketball MS: Girls MS  vs.  Excelsior Springs Middle School vs.  Chillicothe Middle (Away)
DESCRIPTION:Type: Tournament  Opponent:  Excelsior Springs Middle School vs.  Chillicothe Middle
URL:https://events.excelsiorcitizen.com/event/basketball-ms-girls-ms-vs-excelsior-springs-middle-school-vs-chillicothe-middle-away/
LOCATION:Chillicothe Middle School
END:VEVENT
END:VCALENDAR