BEGIN:VCALENDAR
VERSION:2.0
PRODID:-// - ECPv6.15.20//NONSGML v1.0//EN
CALSCALE:GREGORIAN
METHOD:PUBLISH
X-ORIGINAL-URL:https://events.excelsiorcitizen.com
X-WR-CALDESC:Events for 
REFRESH-INTERVAL;VALUE=DURATION:PT1H
X-Robots-Tag:noindex
X-PUBLISHED-TTL:PT1H
BEGIN:VTIMEZONE
TZID:UTC
BEGIN:STANDARD
TZOFFSETFROM:+0000
TZOFFSETTO:+0000
TZNAME:UTC
DTSTART:20240101T000000
END:STANDARD
END:VTIMEZONE
BEGIN:VEVENT
DTSTART;TZID=UTC:20251227T150000
DTEND;TZID=UTC:20251227T220000
DTSTAMP:20260421T180607
CREATED:20251120T184455Z
LAST-MODIFIED:20251205T233322Z
UID:10002320-1766847600-1766872800@events.excelsiorcitizen.com
SUMMARY:Wrestling: Boys JV  vs. Center (Away)
DESCRIPTION:Type: Tournament  Opponent: Center
URL:https://events.excelsiorcitizen.com/event/wrestling-boys-jv-vs-center-away/
LOCATION:Center High School
END:VEVENT
END:VCALENDAR