BEGIN:VCALENDAR
VERSION:2.0
PRODID:-// - ECPv6.15.20//NONSGML v1.0//EN
CALSCALE:GREGORIAN
METHOD:PUBLISH
X-ORIGINAL-URL:https://events.excelsiorcitizen.com
X-WR-CALDESC:Events for 
REFRESH-INTERVAL;VALUE=DURATION:PT1H
X-Robots-Tag:noindex
X-PUBLISHED-TTL:PT1H
BEGIN:VTIMEZONE
TZID:America/Chicago
BEGIN:DAYLIGHT
TZOFFSETFROM:-0600
TZOFFSETTO:-0500
TZNAME:CDT
DTSTART:20230312T080000
END:DAYLIGHT
BEGIN:STANDARD
TZOFFSETFROM:-0500
TZOFFSETTO:-0600
TZNAME:CST
DTSTART:20231105T070000
END:STANDARD
BEGIN:DAYLIGHT
TZOFFSETFROM:-0600
TZOFFSETTO:-0500
TZNAME:CDT
DTSTART:20240310T080000
END:DAYLIGHT
BEGIN:STANDARD
TZOFFSETFROM:-0500
TZOFFSETTO:-0600
TZNAME:CST
DTSTART:20241103T070000
END:STANDARD
BEGIN:DAYLIGHT
TZOFFSETFROM:-0600
TZOFFSETTO:-0500
TZNAME:CDT
DTSTART:20250309T080000
END:DAYLIGHT
BEGIN:STANDARD
TZOFFSETFROM:-0500
TZOFFSETTO:-0600
TZNAME:CST
DTSTART:20251102T070000
END:STANDARD
BEGIN:DAYLIGHT
TZOFFSETFROM:-0600
TZOFFSETTO:-0500
TZNAME:CDT
DTSTART:20260308T080000
END:DAYLIGHT
BEGIN:STANDARD
TZOFFSETFROM:-0500
TZOFFSETTO:-0600
TZNAME:CST
DTSTART:20261101T070000
END:STANDARD
BEGIN:DAYLIGHT
TZOFFSETFROM:-0600
TZOFFSETTO:-0500
TZNAME:CDT
DTSTART:20270314T080000
END:DAYLIGHT
BEGIN:STANDARD
TZOFFSETFROM:-0500
TZOFFSETTO:-0600
TZNAME:CST
DTSTART:20271107T070000
END:STANDARD
END:VTIMEZONE
BEGIN:VEVENT
DTSTART;TZID=America/Chicago:20260327T190000
DTEND;TZID=America/Chicago:20260327T210000
DTSTAMP:20260421T181049
CREATED:20260310T033942Z
LAST-MODIFIED:20260310T033942Z
UID:10004582-1774638000-1774645200@events.excelsiorcitizen.com
SUMMARY:Second Psychic Friday Gallery Event with Erin Wray
DESCRIPTION:Psychic Medium Erin Wray will be doing a special Gallery Reading on March 27th at 7:00pm. Buy your tickets now to reserve your spot.
URL:https://events.excelsiorcitizen.com/event/second-psychic-friday-gallery-event-with-erin-wray/
LOCATION:Casa Di Vite International Wine Cafe\, 216 Spring St.\, Excelsior Springs\, MO\, 64024\, United States
ATTACH;FMTTYPE=image/jpeg:https://events.excelsiorcitizen.com/wp-content/uploads/2026/03/647208315_1440318988105186_3141281074031759451_n.jpg
END:VEVENT
BEGIN:VEVENT
DTSTART;TZID=America/Chicago:20260214T160000
DTEND;TZID=America/Chicago:20260214T220000
DTSTAMP:20260421T181049
CREATED:20260209T020138Z
LAST-MODIFIED:20260209T020138Z
UID:10004097-1771084800-1771106400@events.excelsiorcitizen.com
SUMMARY:Valentine Happy Hour
DESCRIPTION: Celebrate love this Valentine’s Day with us! Buy a glass for your sweetheart and get yours FREE during our happy hour! Don’t miss out on this sweet deal!  Join the fun and tag who you’re bringing! https://wix.to/u8Xl1CC #ValentinesDay #HappyHour #Love
URL:https://events.excelsiorcitizen.com/event/valentine-happy-hour/
LOCATION:Casa Di Vite International Wine Cafe\, 216 Spring St.\, Excelsior Springs\, MO\, 64024\, United States
ATTACH;FMTTYPE=image/jpeg:https://events.excelsiorcitizen.com/wp-content/uploads/2026/02/627096201_1416535083816910_6018657760152956760_n-1.jpg
END:VEVENT
BEGIN:VEVENT
DTSTART;TZID=America/Chicago:20251031T183000
DTEND;TZID=America/Chicago:20251031T193000
DTSTAMP:20260421T181049
CREATED:20260112T052223Z
LAST-MODIFIED:20260112T052223Z
UID:10002942-1761935400-1761939000@events.excelsiorcitizen.com
SUMMARY:Halloween Dog Costume Contest
DESCRIPTION:Join Casa Di Vite for a Halloween Dog Costume Contest on October 31stCheck in at 6:30pm
URL:https://events.excelsiorcitizen.com/event/halloween-dog-costume-contest/
LOCATION:Casa Di Vite International Wine Cafe\, 216 Spring St.\, Excelsior Springs\, MO\, 64024\, United States
END:VEVENT
BEGIN:VEVENT
DTSTART;TZID=America/Chicago:20250412T190000
DTEND;TZID=America/Chicago:20250412T200000
DTSTAMP:20260421T181049
CREATED:20260112T055238Z
LAST-MODIFIED:20260112T055238Z
UID:10003568-1744484400-1744488000@events.excelsiorcitizen.com
SUMMARY:Erin Wray – Psychic Medium – Casa Di Vite
DESCRIPTION:Join us for an enchanting evening with Erin Wray\, a gifted psychic medium\, on Saturday\, April 12th at 7:00 PM. Immerse yourself in a captivating experience as Erin shares her insights connections. Please remember to RSVP for this special event\, as spaces are limited. We look forward to seeing you there!Join us today and book your spot! Please remember\, you must be 21 to attend. Don’t miss out on the fun and – secure your place now!@casadivite.com #psychicmedium #ErnWray #wine #KC
URL:https://events.excelsiorcitizen.com/event/erin-wray-psychic-medium-casa-di-vite/
LOCATION:Casa Di Vite International Wine Cafe\, 216 Spring St.\, Excelsior Springs\, MO\, 64024\, United States
END:VEVENT
BEGIN:VEVENT
DTSTART;TZID=America/Chicago:20250412T190000
DTEND;TZID=America/Chicago:20250412T200000
DTSTAMP:20260421T181049
CREATED:20260112T055052Z
LAST-MODIFIED:20260112T055052Z
UID:10003533-1744484400-1744488000@events.excelsiorcitizen.com
SUMMARY:Gallery Event: Erin Wray
DESCRIPTION:Join us for an enchanting evening with Erin Wray\, a gifted psychic medium\, on Saturday\, April 12th at 7:00 PM. Immerse yourself in a captivating experience as Erin shares her insights connections. Please remember to RSVP for this special event\, as spaces are limited. We look forward to seeing you there! \nJoin us today and book your spot! Please remember\, you must be 21 to attend. Don’t miss out on the fun and – secure your place now!\n@casadivite.com
URL:https://events.excelsiorcitizen.com/event/gallery-event-erin-wray/
LOCATION:Casa Di Vite International Wine Cafe\, 216 Spring St.\, Excelsior Springs\, MO\, 64024\, United States
END:VEVENT
BEGIN:VEVENT
DTSTART;TZID=America/Chicago:20250322T183000
DTEND;TZID=America/Chicago:20250322T193000
DTSTAMP:20260421T181049
CREATED:20260112T055538Z
LAST-MODIFIED:20260112T055538Z
UID:10003631-1742668200-1742671800@events.excelsiorcitizen.com
SUMMARY:Italian Wine Experience: Sips & Savors
DESCRIPTION:Spirited Bluffs and Casa Di Vite are excited to host an upcoming event featuring Italian wines\, led by Spirited Bluff’s Italian wine import manager\, Lorenzo Giusto. Guests will have the opportunity to sample a selection of Italian wines paired with small bites to enhance the tasting experience. Tickets are available for $35.00\, with $10.00 of the ticket price applicable toward the purchase of a bottle.Casadivite.com under MORE
URL:https://events.excelsiorcitizen.com/event/italian-wine-experience-sips-savors/
LOCATION:Casa Di Vite International Wine Cafe\, 216 Spring St.\, Excelsior Springs\, MO\, 64024\, United States
END:VEVENT
BEGIN:VEVENT
DTSTART;TZID=America/Chicago:20250221T170000
DTEND;TZID=America/Chicago:20250221T190000
DTSTAMP:20260421T181049
CREATED:20250131T040647Z
LAST-MODIFIED:20260112T062931Z
UID:10000096-1740157200-1740164400@events.excelsiorcitizen.com
SUMMARY:Claire’s Pop-Up Art Gala
DESCRIPTION:Join Paintings by Claire for an Art Gala Pop-Up at Casa Di Vite International Wine Cafe on Friday\, February 21st from 5-7pm. This will be an Open House with complimentary cookies\, non-alcoholic drinks\, cash bar\, and silent auction. 50% of the proceeds will be donated to the Ray County Humane Society.
URL:https://events.excelsiorcitizen.com/event/claires-pop-up-art-gala/
LOCATION:Casa Di Vite International Wine Cafe\, 216 Spring St.\, Excelsior Springs\, MO\, 64024\, United States
END:VEVENT
BEGIN:VEVENT
DTSTART;TZID=America/Chicago:20250118T150000
DTEND;TZID=America/Chicago:20250118T160000
DTSTAMP:20260421T181049
CREATED:20250131T040601Z
LAST-MODIFIED:20260112T062907Z
UID:10000077-1737212400-1737216000@events.excelsiorcitizen.com
SUMMARY:Kansas City/Excelsior Springs/Liberty MO Mediumship Event
DESCRIPTION:Join Renowned International Evidential Medium Britney Buckwalter for an afternoon of spirit connection!\nBritney Buckwalter\, Translator for Spirit\, will connect live audience members with spirit by passing along incredibly accurate evidence and personality traits that will ignite closure\, healing\, comfort\, and best of all humor! Britney has made appearances on multiple pod casts\, A Psychic’s Story\, Spirit Whisperer and the Discovery/Travel Channel just to name a few! In addition to being a Medium\, Britney Buckwalter is also an author\, comedian\, online content creator\, and life coach. Over the last decade she has facilitated over eight thousand undeniably precise connections between loved ones in spirit and their family and friends here on earth\, proving that there truly is LIFE AFTER DEATH!\n*Please note that purchase of a ticket does not guarantee a reading\, all readings are random and at the discretion of Spirit.*If alcohol is available at your venue\, disrespectful or negative actions and or inappropriate behavior of any kind will not be tolerated. You will be asked to leave the event without a refund and Police may become involved. Please Drink Responsibly!*Some events may be recorded or photographed for promotional use. By purchasing a ticket\, you are consenting to being photographed and or recorded.*All sales are final. No refunds. No transfers.*Doors will open at 2:30pm and close at 3pm\, you will not be able to enter after the show begins!*Recording by ticket holders is strictly prohibited.* Britney Buckwalter LLC is NOT responsible for ANY injury or accident en route to events\, during the event\, or after the event.\n****PLEASE NOTE ****There Are No Refunds\, Rain Checks or Exchanges For Any Britney Buckwalter Event Unless The Event Is Cancelled In Its’ Entirety (if an event is rescheduled it is still your choice and responsibility to attend the new date as emails will be sent out to all ticket buyers\, or you may sell your tickets\, however there are NO refunds for rescheduled events as this is standard.)
URL:https://events.excelsiorcitizen.com/event/kansas-city-excelsior-springs-liberty-mo-mediumship-event/
LOCATION:Casa Di Vite International Wine Cafe\, 216 Spring St.\, Excelsior Springs\, MO\, 64024\, United States
END:VEVENT
BEGIN:VEVENT
DTSTART;TZID=America/Chicago:20250110T180000
DTEND;TZID=America/Chicago:20250110T190000
DTSTAMP:20260421T181049
CREATED:20250131T040915Z
LAST-MODIFIED:20260112T065943Z
UID:10000187-1736532000-1736535600@events.excelsiorcitizen.com
SUMMARY:Piccadilly Ticket Pre-Sale
DESCRIPTION:These tickets sell out quickly\, so set your reminders and be ready to grab yours at Casa Di Vite International Wine Cafe on Friday\, January 10\, 2025 at 6:00pm!
URL:https://events.excelsiorcitizen.com/event/piccadilly-ticket-pre-sale/
LOCATION:Casa Di Vite International Wine Cafe\, 216 Spring St.\, Excelsior Springs\, MO\, 64024\, United States
END:VEVENT
BEGIN:VEVENT
DTSTART;TZID=America/Chicago:20240803T150000
DTEND;TZID=America/Chicago:20240803T163000
DTSTAMP:20260421T181049
CREATED:20250131T042716Z
LAST-MODIFIED:20260112T110029Z
UID:10000622-1722697200-1722702600@events.excelsiorcitizen.com
SUMMARY:Renowned International Evidential Medium Britney Buckwalter
DESCRIPTION:Join Renowned International Evidential Medium Britney Buckwalter for an afternoon of spirit connection! Britney will connect live audience members with spirit by passing along incredibly accurate evidence and personality traits that will ignite closure\, healing\, comfort\, and best of all humor!*Please note that purchase of a ticket does not guarantee a reading\, all readings are random and at the discretion of Spirit.\n*All sales are final. No refunds. No transfers.\n*Door’s will open at 2pm and close at 3pm\, you will not be able to enter after the show begins!\n*Recording is strictly prohibited.\nPurchase tickets online
URL:https://events.excelsiorcitizen.com/event/renowned-international-evidential-medium-britney-buckwalter/
LOCATION:Casa Di Vite International Wine Cafe\, 216 Spring St.\, Excelsior Springs\, MO\, 64024\, United States
END:VEVENT
END:VCALENDAR