BEGIN:VCALENDAR
VERSION:2.0
PRODID:-// - ECPv6.15.20//NONSGML v1.0//EN
CALSCALE:GREGORIAN
METHOD:PUBLISH
X-ORIGINAL-URL:https://events.excelsiorcitizen.com
X-WR-CALDESC:Events for 
REFRESH-INTERVAL;VALUE=DURATION:PT1H
X-Robots-Tag:noindex
X-PUBLISHED-TTL:PT1H
BEGIN:VTIMEZONE
TZID:UTC
BEGIN:STANDARD
TZOFFSETFROM:+0000
TZOFFSETTO:+0000
TZNAME:UTC
DTSTART:20240101T000000
END:STANDARD
END:VTIMEZONE
BEGIN:VEVENT
DTSTART;TZID=UTC:20251210T230000
DTEND;TZID=UTC:20251211T020000
DTSTAMP:20260421T152558
CREATED:20251120T184227Z
LAST-MODIFIED:20251205T233110Z
UID:10002233-1765407600-1765418400@events.excelsiorcitizen.com
SUMMARY:Wrestling: Boys Varsity  vs.  Maysville Pleasant Hill">Multiple Schools (Away)
DESCRIPTION:Type: Quad  Opponent:  Maysville Pleasant Hill”>Multiple Schools
URL:https://events.excelsiorcitizen.com/event/wrestling-boys-varsity-vs-maysville-pleasant-hillmultiple-schools-away/
LOCATION:Cameron R-1 High School
END:VEVENT
END:VCALENDAR