BEGIN:VCALENDAR
VERSION:2.0
PRODID:-// - ECPv6.15.20//NONSGML v1.0//EN
CALSCALE:GREGORIAN
METHOD:PUBLISH
X-ORIGINAL-URL:https://events.excelsiorcitizen.com
X-WR-CALDESC:Events for 
REFRESH-INTERVAL;VALUE=DURATION:PT1H
X-Robots-Tag:noindex
X-PUBLISHED-TTL:PT1H
BEGIN:VTIMEZONE
TZID:America/Chicago
BEGIN:DAYLIGHT
TZOFFSETFROM:-0600
TZOFFSETTO:-0500
TZNAME:CDT
DTSTART:20250309T080000
END:DAYLIGHT
BEGIN:STANDARD
TZOFFSETFROM:-0500
TZOFFSETTO:-0600
TZNAME:CST
DTSTART:20251102T070000
END:STANDARD
BEGIN:DAYLIGHT
TZOFFSETFROM:-0600
TZOFFSETTO:-0500
TZNAME:CDT
DTSTART:20260308T080000
END:DAYLIGHT
BEGIN:STANDARD
TZOFFSETFROM:-0500
TZOFFSETTO:-0600
TZNAME:CST
DTSTART:20261101T070000
END:STANDARD
BEGIN:DAYLIGHT
TZOFFSETFROM:-0600
TZOFFSETTO:-0500
TZNAME:CDT
DTSTART:20270314T080000
END:DAYLIGHT
BEGIN:STANDARD
TZOFFSETFROM:-0500
TZOFFSETTO:-0600
TZNAME:CST
DTSTART:20271107T070000
END:STANDARD
END:VTIMEZONE
BEGIN:VEVENT
DTSTART;TZID=America/Chicago:20260424T130000
DTEND;TZID=America/Chicago:20260424T170000
DTSTAMP:20260421T070249
CREATED:20260407T052029Z
LAST-MODIFIED:20260420T041953Z
UID:10004686-1777035600-1777050000@events.excelsiorcitizen.com
SUMMARY:Blood Drive - Calvary Christian Union Church
DESCRIPTION:Basement of 438 Benton Ave\, Excelsior Springs \nPlease call 1-800-RED-CROSS (1-800-733-2767) or visit RedCrossBlood.org and enter CalvaryChristian to schedule an appointment.
URL:https://events.excelsiorcitizen.com/event/blood-drive-calvary-christian-union-church-2/
LOCATION:Calvary Christian Union\, 438 Benton Ave\, Excelsior Springs\, MO\, 64024\, United States
ATTACH;FMTTYPE=image/png:https://events.excelsiorcitizen.com/wp-content/uploads/2026/04/Screenshot-2026-04-06-at-11.20.50-PM.png
END:VEVENT
END:VCALENDAR