BEGIN:VCALENDAR
VERSION:2.0
PRODID:-// - ECPv6.15.20//NONSGML v1.0//EN
CALSCALE:GREGORIAN
METHOD:PUBLISH
X-ORIGINAL-URL:https://events.excelsiorcitizen.com
X-WR-CALDESC:Events for 
REFRESH-INTERVAL;VALUE=DURATION:PT1H
X-Robots-Tag:noindex
X-PUBLISHED-TTL:PT1H
BEGIN:VTIMEZONE
TZID:UTC
BEGIN:STANDARD
TZOFFSETFROM:+0000
TZOFFSETTO:+0000
TZNAME:UTC
DTSTART:20240101T000000
END:STANDARD
END:VTIMEZONE
BEGIN:VEVENT
DTSTART;TZID=UTC:20251215T220000
DTEND;TZID=UTC:20251216T010000
DTSTAMP:20260422T041359
CREATED:20251120T184313Z
LAST-MODIFIED:20251205T233148Z
UID:10002275-1765836000-1765846800@events.excelsiorcitizen.com
SUMMARY:Wrestling MS: MS  vs.  Excelsior Springs Middle School vs.  Moreland Ridge Middle Raytown South Middle School">Multiple Schools (Away)
DESCRIPTION:Type: Quad  Opponent:  Excelsior Springs Middle School vs.  Moreland Ridge Middle Raytown South Middle School”>Multiple Schools
URL:https://events.excelsiorcitizen.com/event/wrestling-ms-ms-vs-excelsior-springs-middle-school-vs-moreland-ridge-middle-raytown-south-middle-schoolmultiple-schools-away/
LOCATION:Blue Springs South High School
END:VEVENT
END:VCALENDAR