BEGIN:VCALENDAR
VERSION:2.0
PRODID:-// - ECPv6.15.20//NONSGML v1.0//EN
CALSCALE:GREGORIAN
METHOD:PUBLISH
X-ORIGINAL-URL:https://events.excelsiorcitizen.com
X-WR-CALDESC:Events for 
REFRESH-INTERVAL;VALUE=DURATION:PT1H
X-Robots-Tag:noindex
X-PUBLISHED-TTL:PT1H
BEGIN:VTIMEZONE
TZID:UTC
BEGIN:STANDARD
TZOFFSETFROM:+0000
TZOFFSETTO:+0000
TZNAME:UTC
DTSTART:20240101T000000
END:STANDARD
END:VTIMEZONE
BEGIN:VEVENT
DTSTART;TZID=UTC:20251205T010000
DTEND;TZID=UTC:20251205T023000
DTSTAMP:20260422T004606
CREATED:20251120T184126Z
LAST-MODIFIED:20251202T224600Z
UID:10002180-1764896400-1764901800@events.excelsiorcitizen.com
SUMMARY:Basketball: Girls Varsity  (Location Changed) vs. East High School (Away)
DESCRIPTION:Type: Game  Opponent: East High School
URL:https://events.excelsiorcitizen.com/event/basketball-girls-varsity-vs-east-high-school-away/
LOCATION:Anderson
END:VEVENT
BEGIN:VEVENT
DTSTART;TZID=UTC:20251204T233000
DTEND;TZID=UTC:20251205T010000
DTSTAMP:20260422T004606
CREATED:20251203T230135Z
LAST-MODIFIED:20251204T231631Z
UID:10002573-1764891000-1764896400@events.excelsiorcitizen.com
SUMMARY:Basketball: Girls Varsity  (Time Changed) vs. East High School (Away)
DESCRIPTION:Type: Game  Opponent: East High School
URL:https://events.excelsiorcitizen.com/event/basketball-girls-varsity-time-changed-vs-east-high-school-away/
LOCATION:Anderson
END:VEVENT
BEGIN:VEVENT
DTSTART;TZID=UTC:20251122T010000
DTEND;TZID=UTC:20251122T023000
DTSTAMP:20260422T004606
CREATED:20251120T184024Z
LAST-MODIFIED:20251121T195322Z
UID:10002148-1763773200-1763778600@events.excelsiorcitizen.com
SUMMARY:Basketball: Boys Varsity  vs. East High School (Away)
DESCRIPTION:Type: Game  Opponent: East High School
URL:https://events.excelsiorcitizen.com/event/basketball-boys-varsity-vs-east-high-school-away/
LOCATION:Anderson
END:VEVENT
BEGIN:VEVENT
DTSTART;TZID=UTC:20251121T233000
DTEND;TZID=UTC:20251122T010000
DTSTAMP:20260422T004606
CREATED:20251120T184024Z
LAST-MODIFIED:20251121T195321Z
UID:10002147-1763767800-1763773200@events.excelsiorcitizen.com
SUMMARY:Basketball: Boys JV  vs. East High School (Away)
DESCRIPTION:Type: Game  Opponent: East High School
URL:https://events.excelsiorcitizen.com/event/basketball-boys-jv-vs-east-high-school-away/
LOCATION:Anderson
END:VEVENT
END:VCALENDAR