BEGIN:VCALENDAR
VERSION:2.0
PRODID:-// - ECPv6.15.20//NONSGML v1.0//EN
CALSCALE:GREGORIAN
METHOD:PUBLISH
X-ORIGINAL-URL:https://events.excelsiorcitizen.com
X-WR-CALDESC:Events for 
REFRESH-INTERVAL;VALUE=DURATION:PT1H
X-Robots-Tag:noindex
X-PUBLISHED-TTL:PT1H
BEGIN:VTIMEZONE
TZID:UTC
BEGIN:STANDARD
TZOFFSETFROM:+0000
TZOFFSETTO:+0000
TZNAME:UTC
DTSTART:20250101T000000
END:STANDARD
END:VTIMEZONE
BEGIN:VEVENT
DTSTART;TZID=UTC:20260101T230000
DTEND;TZID=UTC:20260102T020000
DTSTAMP:20260420T035316
CREATED:20251120T184308Z
LAST-MODIFIED:20251205T234641Z
UID:10002262-1767308400-1767319200@events.excelsiorcitizen.com
SUMMARY:New Years Day Meeting - 2026
DESCRIPTION:Please plan to attend our New Years Day meeting on January 1st\, 2026 – dinner starting at 5:00PM and service at 6:00PM\nTheme – Fostering Fruitfulness (…in under 5 minutes)\nCorbin Tutterow – Love\nMoses Morton – Joy\nIsaac Range – Peace\nCamden Anderson – Longsuffering\nCalvin Range – Kindness\nJude Houseworth – Goodness\nAlex Ross – Faithfulness\nShea Hermon – Gentleness\nBlake Harvey – Self-Control\nhttps://www.facebook.com/events/799099659160566/
URL:https://events.excelsiorcitizen.com/event/new-years-day-meeting-2026/
LOCATION:505 Elms Blvd\, 10580 Mo O Hwy\, Excelsior Springs\, MO\, United States
ORGANIZER;CN="Excelsior Springs Church of Christ (505 Elms Blvd)":MAILTO:noreply@facebookmail.com
GEO:39.287005;-94.174309
X-APPLE-STRUCTURED-LOCATION;VALUE=URI;X-ADDRESS=505 Elms Blvd 10580 Mo O Hwy Excelsior Springs MO United States;X-APPLE-RADIUS=500;X-TITLE=10580 Mo O Hwy:geo:-94.174309,39.287005
END:VEVENT
END:VCALENDAR