BEGIN:VCALENDAR
VERSION:2.0
PRODID:-// - ECPv6.15.20//NONSGML v1.0//EN
CALSCALE:GREGORIAN
METHOD:PUBLISH
X-ORIGINAL-URL:https://events.excelsiorcitizen.com
X-WR-CALDESC:Events for 
REFRESH-INTERVAL;VALUE=DURATION:PT1H
X-Robots-Tag:noindex
X-PUBLISHED-TTL:PT1H
BEGIN:VTIMEZONE
TZID:UTC
BEGIN:STANDARD
TZOFFSETFROM:+0000
TZOFFSETTO:+0000
TZNAME:UTC
DTSTART:20250101T000000
END:STANDARD
END:VTIMEZONE
BEGIN:VEVENT
DTSTART;TZID=UTC:20260228T170000
DTEND;TZID=UTC:20260228T200000
DTSTAMP:20260421T155052
CREATED:20260113T041653Z
LAST-MODIFIED:20260223T010029Z
UID:10003799-1772298000-1772308800@events.excelsiorcitizen.com
SUMMARY:Musket Cellars Wine Tasting
DESCRIPTION:Kim with Musket Cellars will be sampling their award winning wines.  As the winemaker\, she will share the story of one of Missouri’s newest wineries.  Already winning awards and earning the Missouri Wise Choice recognition for quality wine\, Kim is showcasing what makes the local fruit so wonderful. A great “Try before you buy event and tasting”.\nhttps://www.facebook.com/events/1050817790567769/
URL:https://events.excelsiorcitizen.com/event/musket-cellars-wine-tasting-2/
LOCATION:249 E Broadway St\, 10580 Mo O Hwy\, Excelsior Springs\, MO\, United States
GEO:39.287005;-94.174309
X-APPLE-STRUCTURED-LOCATION;VALUE=URI;X-ADDRESS=249 E Broadway St 10580 Mo O Hwy Excelsior Springs MO United States;X-APPLE-RADIUS=500;X-TITLE=10580 Mo O Hwy:geo:-94.174309,39.287005
END:VEVENT
BEGIN:VEVENT
DTSTART;TZID=UTC:20260214T010000
DTEND;TZID=UTC:20260214T040000
DTSTAMP:20260421T155052
CREATED:20260113T041655Z
LAST-MODIFIED:20260208T235643Z
UID:10003802-1771030800-1771041600@events.excelsiorcitizen.com
SUMMARY:Valentine Four Course Wine Dinner at Willow Spring Mercantile
DESCRIPTION:A special dinner that includes beef tenderloin for the main course & chocolate decadence for dessert. Enjoy a strawberry spinach salad along with roasted beet hummus crostini for a starter. All are paired with wonderful wines from all around the state. Reservations required. \nhttps://www.facebook.com/events/919375513939550/
URL:https://events.excelsiorcitizen.com/event/valentine-four-course-wine-dinner-2/
LOCATION:249 E Broadway St\, 10580 Mo O Hwy\, Excelsior Springs\, MO\, United States
ATTACH;FMTTYPE=image/jpeg:https://events.excelsiorcitizen.com/wp-content/uploads/2026/02/613133490_1327223849423087_7031135478094728064_n-1.jpg
GEO:39.287005;-94.174309
X-APPLE-STRUCTURED-LOCATION;VALUE=URI;X-ADDRESS=249 E Broadway St 10580 Mo O Hwy Excelsior Springs MO United States;X-APPLE-RADIUS=500;X-TITLE=10580 Mo O Hwy:geo:-94.174309,39.287005
END:VEVENT
BEGIN:VEVENT
DTSTART;TZID=UTC:20260131T010000
DTEND;TZID=UTC:20260131T040000
DTSTAMP:20260421T155052
CREATED:20260113T041652Z
LAST-MODIFIED:20260121T171554Z
UID:10003797-1769821200-1769832000@events.excelsiorcitizen.com
SUMMARY:Four Course Wine Dinner with Pennington Wines
DESCRIPTION:An evening of wine and food paired perfectly together in an intimate setting.  The European style slow dinner event has four dinner courses paired perfectly with wine. Course 1 – Shrimp stuffed Pequillo Peppers with Ruby Sky Dry Rose\, Course 2 – Roasted Beet & Grapefruit Salad with Bleu Cheese  with Paradox Sweet Red\, Main Course – Smoked Porkloin with Chimichurri\, Black Bean Rice and Col a La Mexicana (roasted cabbage with peppers & tomatoes) served with Chambourcin\, Course 4 – Chocolate Mousse with oranges\, raspberries and cocoa powder dust.\nhttps://www.facebook.com/events/25785986950997124/
URL:https://events.excelsiorcitizen.com/event/four-course-wine-dinner-with-pennington-wines-4/
LOCATION:249 E Broadway St\, 10580 Mo O Hwy\, Excelsior Springs\, MO\, United States
GEO:39.287005;-94.174309
X-APPLE-STRUCTURED-LOCATION;VALUE=URI;X-ADDRESS=249 E Broadway St 10580 Mo O Hwy Excelsior Springs MO United States;X-APPLE-RADIUS=500;X-TITLE=10580 Mo O Hwy:geo:-94.174309,39.287005
END:VEVENT
END:VCALENDAR