BEGIN:VCALENDAR
VERSION:2.0
PRODID:-// - ECPv6.15.20//NONSGML v1.0//EN
CALSCALE:GREGORIAN
METHOD:PUBLISH
X-ORIGINAL-URL:https://events.excelsiorcitizen.com
X-WR-CALDESC:Events for 
REFRESH-INTERVAL;VALUE=DURATION:PT1H
X-Robots-Tag:noindex
X-PUBLISHED-TTL:PT1H
BEGIN:VTIMEZONE
TZID:UTC
BEGIN:STANDARD
TZOFFSETFROM:+0000
TZOFFSETTO:+0000
TZNAME:UTC
DTSTART:20240101T000000
END:STANDARD
END:VTIMEZONE
BEGIN:VEVENT
DTSTART;TZID=UTC:20260115T174500
DTEND;TZID=UTC:20260115T204500
DTSTAMP:20260421T173241
CREATED:20260105T021847Z
LAST-MODIFIED:20260115T050036Z
UID:10002717-1768499100-1768509900@events.excelsiorcitizen.com
SUMMARY:Lunch & Learn
DESCRIPTION:Feeling busy but not making progress? Join us for a FREE Lunch & Learn at The CO-OP at Excelsior Springs on January 15 at 11:45am featuring Shauna Huntington.\nLearn how to break free from endless to-do lists and start making real impact — plus lunch is on us!\nHosted with the Excelsior Springs Chamber of Commerce\nhttps://www.facebook.com/events/25400759159551822/
URL:https://events.excelsiorcitizen.com/event/lunch-learn/
LOCATION:1650 Rainbow Blvd\, Excelsior Springs\, MO\, United States
ORGANIZER;CN="The CO-OP Coworking &amp%3B Event Spaces":MAILTO:noreply@facebookmail.com
GEO:39.332601;-94.274632
END:VEVENT
BEGIN:VEVENT
DTSTART;TZID=UTC:20251123T150000
DTEND;TZID=UTC:20251123T180000
DTSTAMP:20260421T173241
CREATED:20251120T184200Z
LAST-MODIFIED:20251122T200227Z
UID:10002206-1763910000-1763920800@events.excelsiorcitizen.com
SUMMARY:Hanging of the Greenery
DESCRIPTION:Mark your calendars: Join us for Hanging of the Greenery on November 23\, at 9:00 am. Coffee and donuts provided!\nhttps://www.facebook.com/events/834230325851097/
URL:https://events.excelsiorcitizen.com/event/hanging-of-the-greenery/
LOCATION:1650 Rainbow Blvd\, Excelsior Springs\, MO\, United States
ORGANIZER;CN="First United Methodist Church of Excelsior Springs":MAILTO:noreply@facebookmail.com
GEO:39.332601;-94.274632
END:VEVENT
END:VCALENDAR