BEGIN:VCALENDAR
VERSION:2.0
PRODID:-// - ECPv6.15.20//NONSGML v1.0//EN
CALSCALE:GREGORIAN
METHOD:PUBLISH
X-ORIGINAL-URL:https://events.excelsiorcitizen.com
X-WR-CALDESC:Events for 
REFRESH-INTERVAL;VALUE=DURATION:PT1H
X-Robots-Tag:noindex
X-PUBLISHED-TTL:PT1H
BEGIN:VTIMEZONE
TZID:UTC
BEGIN:STANDARD
TZOFFSETFROM:+0000
TZOFFSETTO:+0000
TZNAME:UTC
DTSTART:20240101T000000
END:STANDARD
END:VTIMEZONE
BEGIN:VEVENT
DTSTART;TZID=UTC:20251122T150000
DTEND;TZID=UTC:20251122T200000
DTSTAMP:20260421T134459
CREATED:20251120T184159Z
LAST-MODIFIED:20251121T194641Z
UID:10002202-1763823600-1763841600@events.excelsiorcitizen.com
SUMMARY:Christmas & Candles
DESCRIPTION:Join us as Downtown Excelsior kicks off the Christmas season. We will be at Other Trails with our clean fall candles! What does clean mean: NO carcinogens\, NO mutagens\, and NO toxins are in our candles. This makes it so you don’t get headaches and you keep our environment clean! Scents like Frazier Fir\, Christmas Cheer\, and Brandied Pear will make you home smell like the holidays! Make sure to pop down and get some!\nhttps://www.facebook.com/events/1556437508716327/
URL:https://events.excelsiorcitizen.com/event/christmas-candles/
LOCATION:115 E Broadway Ave\, Excelsior Springs\, MO\, United States
ORGANIZER;CN="C and Z Candle Co.":MAILTO:noreply@facebookmail.com
GEO:39.332601;-94.274632
END:VEVENT
END:VCALENDAR