BEGIN:VCALENDAR
VERSION:2.0
PRODID:-// - ECPv6.15.20//NONSGML v1.0//EN
CALSCALE:GREGORIAN
METHOD:PUBLISH
X-ORIGINAL-URL:https://events.excelsiorcitizen.com
X-WR-CALDESC:Events for 
REFRESH-INTERVAL;VALUE=DURATION:PT1H
X-Robots-Tag:noindex
X-PUBLISHED-TTL:PT1H
BEGIN:VTIMEZONE
TZID:UTC
BEGIN:STANDARD
TZOFFSETFROM:+0000
TZOFFSETTO:+0000
TZNAME:UTC
DTSTART:20250101T000000
END:STANDARD
END:VTIMEZONE
BEGIN:VEVENT
DTSTART;TZID=UTC:20260220T000000
DTEND;TZID=UTC:20260227T000100
DTSTAMP:20260421T114542
CREATED:20260223T004531Z
LAST-MODIFIED:20260223T010029Z
UID:10004437-1771545600-1772150460@events.excelsiorcitizen.com
SUMMARY:Excelsior Springs area Real Estate Investors
DESCRIPTION:We are looking forward to meeting everyone February 19th at 6pm for our 1st area meeting.\nWhat future topics would you like to discuss?\nhttps://www.facebook.com/events/937167655638290/?event_time_id=937167662304956
URL:https://events.excelsiorcitizen.com/event/excelsior-springs-area-real-estate-investors/
LOCATION:Warbird Whiskey
ORGANIZER;CN="Stacy LaBarge":MAILTO:noreply@facebookmail.com
END:VEVENT
END:VCALENDAR