BEGIN:VCALENDAR
VERSION:2.0
PRODID:-// - ECPv6.15.20//NONSGML v1.0//EN
CALSCALE:GREGORIAN
METHOD:PUBLISH
X-ORIGINAL-URL:https://events.excelsiorcitizen.com
X-WR-CALDESC:Events for 
REFRESH-INTERVAL;VALUE=DURATION:PT1H
X-Robots-Tag:noindex
X-PUBLISHED-TTL:PT1H
BEGIN:VTIMEZONE
TZID:UTC
BEGIN:STANDARD
TZOFFSETFROM:+0000
TZOFFSETTO:+0000
TZNAME:UTC
DTSTART:20240101T000000
END:STANDARD
END:VTIMEZONE
BEGIN:VEVENT
DTSTART;TZID=UTC:20251206T140000
DTEND;TZID=UTC:20251206T160000
DTSTAMP:20260421T192048
CREATED:20251201T230117Z
LAST-MODIFIED:20251205T234630Z
UID:10002552-1765029600-1765036800@events.excelsiorcitizen.com
SUMMARY:Breakfast with Santa
DESCRIPTION:‼️Come and enjoy a delicious pancake breakfast and get a picture with Santa🎅 $10 per/person. Tickets are available from Clay Lodge #207\, AF & AM Brothers\, or pay at the door🎄\nFundraiser benefit for Clay Lodge #207\nhttps://www.facebook.com/events/810919581942361/
URL:https://events.excelsiorcitizen.com/event/breakfast-with-santa/
LOCATION:Applebee’s Grill + Bar
ORGANIZER;CN="Kaylen Pigg":MAILTO:noreply@facebookmail.com
END:VEVENT
END:VCALENDAR