BEGIN:VCALENDAR
VERSION:2.0
PRODID:-// - ECPv6.15.20//NONSGML v1.0//EN
CALSCALE:GREGORIAN
METHOD:PUBLISH
X-ORIGINAL-URL:https://events.excelsiorcitizen.com
X-WR-CALDESC:Events for 
REFRESH-INTERVAL;VALUE=DURATION:PT1H
X-Robots-Tag:noindex
X-PUBLISHED-TTL:PT1H
BEGIN:VTIMEZONE
TZID:UTC
BEGIN:STANDARD
TZOFFSETFROM:+0000
TZOFFSETTO:+0000
TZNAME:UTC
DTSTART:20250101T000000
END:STANDARD
END:VTIMEZONE
BEGIN:VEVENT
DTSTART;TZID=UTC:20260227T003000
DTEND;TZID=UTC:20260227T020000
DTSTAMP:20260421T122944
CREATED:20260223T004532Z
LAST-MODIFIED:20260223T010029Z
UID:10004438-1772152200-1772157600@events.excelsiorcitizen.com
SUMMARY:Excelsior Springs Area Beekeeping Club - February Meeting
DESCRIPTION:Join us for our February club meeting!  We will cover a variety of topics\, ranging from beginner beekeeping tips  and information on equipment to current things to be watching for with your colonies.\nhttps://www.facebook.com/events/715507464833047/
URL:https://events.excelsiorcitizen.com/event/excelsior-springs-area-beekeeping-club-february-meeting-3/
LOCATION:Mid-Continent Public Library – Excelsior Springs Branch
ORGANIZER;CN="Hitch Hive Honey":MAILTO:noreply@facebookmail.com
END:VEVENT
BEGIN:VEVENT
DTSTART;TZID=UTC:20260130T003000
DTEND;TZID=UTC:20260130T020000
DTSTAMP:20260421T122944
CREATED:20260103T010038Z
LAST-MODIFIED:20260121T171554Z
UID:10002601-1769733000-1769738400@events.excelsiorcitizen.com
SUMMARY:Excelsior Springs Area Beekeeping Club January Meeting
DESCRIPTION:Join us for our January club meeting!   The 2026 beekeeping season is quickly approaching and we have plenty to discuss in preparation for it.\nhttps://www.facebook.com/events/1810996356218958/
URL:https://events.excelsiorcitizen.com/event/excelsior-springs-area-beekeeping-club-january-meeting/
LOCATION:Mid-Continent Public Library – Excelsior Springs Branch
ORGANIZER;CN="Hitch Hive Honey":MAILTO:noreply@facebookmail.com
END:VEVENT
END:VCALENDAR