BEGIN:VCALENDAR
VERSION:2.0
PRODID:-// - ECPv6.15.20//NONSGML v1.0//EN
CALSCALE:GREGORIAN
METHOD:PUBLISH
X-ORIGINAL-URL:https://events.excelsiorcitizen.com
X-WR-CALDESC:Events for 
REFRESH-INTERVAL;VALUE=DURATION:PT1H
X-Robots-Tag:noindex
X-PUBLISHED-TTL:PT1H
BEGIN:VTIMEZONE
TZID:UTC
BEGIN:STANDARD
TZOFFSETFROM:+0000
TZOFFSETTO:+0000
TZNAME:UTC
DTSTART:20240101T000000
END:STANDARD
END:VTIMEZONE
BEGIN:VEVENT
DTSTART;TZID=UTC:20260101T003000
DTEND;TZID=UTC:20260101T013000
DTSTAMP:20260421T190711
CREATED:20251120T184308Z
LAST-MODIFIED:20251205T234640Z
UID:10002261-1767227400-1767231000@events.excelsiorcitizen.com
SUMMARY:Mid-week Recharge Yoga
DESCRIPTION:Every month we focus on a theme and introduce a new sequence. The sequences build on each other but you can jump in at any time.\n*Women Only* / $15 per class\nPlease message me if you have any questions.\nhttps://www.facebook.com/events/694079926648960/?event_time_id=694079939982292
URL:https://events.excelsiorcitizen.com/event/mid-week-recharge-yoga-7/
LOCATION:the Empowerment Studio LLC
ORGANIZER;CN="Healthy Dragon Wellness":MAILTO:noreply@facebookmail.com
END:VEVENT
BEGIN:VEVENT
DTSTART;TZID=UTC:20251225T003000
DTEND;TZID=UTC:20251225T013000
DTSTAMP:20260421T190711
CREATED:20251120T184247Z
LAST-MODIFIED:20251205T234639Z
UID:10002250-1766622600-1766626200@events.excelsiorcitizen.com
SUMMARY:Mid-week Recharge Yoga
DESCRIPTION:Every month we focus on a theme and introduce a new sequence. The sequences build on each other but you can jump in at any time.\n*Women Only* / $15 per class\nPlease message me if you have any questions.\nhttps://www.facebook.com/events/694079926648960/?event_time_id=694079943315625
URL:https://events.excelsiorcitizen.com/event/mid-week-recharge-yoga-6/
LOCATION:the Empowerment Studio LLC
ORGANIZER;CN="Healthy Dragon Wellness":MAILTO:noreply@facebookmail.com
END:VEVENT
BEGIN:VEVENT
DTSTART;TZID=UTC:20251218T003000
DTEND;TZID=UTC:20251218T013000
DTSTAMP:20260421T190711
CREATED:20251120T184246Z
LAST-MODIFIED:20251205T234638Z
UID:10002247-1766017800-1766021400@events.excelsiorcitizen.com
SUMMARY:Mid-week Recharge Yoga
DESCRIPTION:Every month we focus on a theme and introduce a new sequence. The sequences build on each other but you can jump in at any time.\n*Women Only* / $15 per class\nPlease message me if you have any questions.\nhttps://www.facebook.com/events/694079926648960/?event_time_id=694079946648958
URL:https://events.excelsiorcitizen.com/event/mid-week-recharge-yoga-5/
LOCATION:the Empowerment Studio LLC
ORGANIZER;CN="Healthy Dragon Wellness":MAILTO:noreply@facebookmail.com
END:VEVENT
BEGIN:VEVENT
DTSTART;TZID=UTC:20251211T003000
DTEND;TZID=UTC:20251211T013000
DTSTAMP:20260421T190711
CREATED:20251120T184243Z
LAST-MODIFIED:20251205T234634Z
UID:10002242-1765413000-1765416600@events.excelsiorcitizen.com
SUMMARY:Mid-week Recharge Yoga
DESCRIPTION:Every month we focus on a theme and introduce a new sequence. The sequences build on each other but you can jump in at any time.\n*Women Only* / $15 per class\nPlease message me if you have any questions.\nhttps://www.facebook.com/events/694079926648960/?event_time_id=694079933315626
URL:https://events.excelsiorcitizen.com/event/mid-week-recharge-yoga-4/
LOCATION:the Empowerment Studio LLC
ORGANIZER;CN="Healthy Dragon Wellness":MAILTO:noreply@facebookmail.com
END:VEVENT
BEGIN:VEVENT
DTSTART;TZID=UTC:20251204T003000
DTEND;TZID=UTC:20251204T013000
DTSTAMP:20260421T190711
CREATED:20251120T184224Z
LAST-MODIFIED:20251203T231546Z
UID:10002227-1764808200-1764811800@events.excelsiorcitizen.com
SUMMARY:Mid-week Recharge Yoga
DESCRIPTION:Every month we focus on a theme and introduce a new sequence. The sequences build on each other but you can jump in at any time.\n*Women Only* / $15 per class\nPlease message me if you have any questions.\nhttps://www.facebook.com/events/694079926648960/?event_time_id=694079949982291
URL:https://events.excelsiorcitizen.com/event/mid-week-recharge-yoga-3/
LOCATION:the Empowerment Studio LLC
ORGANIZER;CN="Healthy Dragon Wellness":MAILTO:noreply@facebookmail.com
END:VEVENT
BEGIN:VEVENT
DTSTART;TZID=UTC:20251127T003000
DTEND;TZID=UTC:20251127T013000
DTSTAMP:20260421T190711
CREATED:20251120T184202Z
LAST-MODIFIED:20251126T212058Z
UID:10002210-1764203400-1764207000@events.excelsiorcitizen.com
SUMMARY:Mid-week Recharge Yoga
DESCRIPTION:Every month we focus on a theme and introduce a new sequence. The sequences build on each other but you can jump in at any time.\n*Women Only* / $15 per class\nPlease message me if you have any questions.\nhttps://www.facebook.com/events/694079926648960/?event_time_id=694079959982290
URL:https://events.excelsiorcitizen.com/event/mid-week-recharge-yoga-2/
LOCATION:the Empowerment Studio LLC
ORGANIZER;CN="Healthy Dragon Wellness":MAILTO:noreply@facebookmail.com
END:VEVENT
BEGIN:VEVENT
DTSTART;TZID=UTC:20251127T003000
DTEND;TZID=UTC:20251127T013000
DTSTAMP:20260421T190711
CREATED:20251120T184202Z
LAST-MODIFIED:20251126T212057Z
UID:10002209-1764203400-1764207000@events.excelsiorcitizen.com
SUMMARY:Mid-week Recharge Yoga
DESCRIPTION:Every month we focus on a theme and introduce a new sequence. The sequences build on each other but you can jump in at any time.\n*Women Only* / $15 per class\nPlease message me if you have any questions.\nhttps://www.facebook.com/events/694079926648960/?event_time_id=694079956648957
URL:https://events.excelsiorcitizen.com/event/mid-week-recharge-yoga/
LOCATION:the Empowerment Studio LLC
ORGANIZER;CN="Healthy Dragon Wellness":MAILTO:noreply@facebookmail.com
END:VEVENT
END:VCALENDAR