BEGIN:VCALENDAR
VERSION:2.0
PRODID:-// - ECPv6.15.20//NONSGML v1.0//EN
CALSCALE:GREGORIAN
METHOD:PUBLISH
X-ORIGINAL-URL:https://events.excelsiorcitizen.com
X-WR-CALDESC:Events for 
REFRESH-INTERVAL;VALUE=DURATION:PT1H
X-Robots-Tag:noindex
X-PUBLISHED-TTL:PT1H
BEGIN:VTIMEZONE
TZID:UTC
BEGIN:STANDARD
TZOFFSETFROM:+0000
TZOFFSETTO:+0000
TZNAME:UTC
DTSTART:20240101T000000
END:STANDARD
END:VTIMEZONE
BEGIN:VEVENT
DTSTART;TZID=UTC:20251206T150000
DTEND;TZID=UTC:20251206T190000
DTSTAMP:20260422T024337
CREATED:20251120T184243Z
LAST-MODIFIED:20251205T234631Z
UID:10002241-1765033200-1765047600@events.excelsiorcitizen.com
SUMMARY:Excelsior Springs Christmas Market
DESCRIPTION:Join us for our Annual Christmas Market.  There will be a huge selection of vendors which includes crafts\, baked goods\, honey\, handmade gift ideas.\nhttps://www.facebook.com/events/3660910304043918/
URL:https://events.excelsiorcitizen.com/event/excelsior-springs-christmas-market/
LOCATION:Excelsior Springs Community Center\, 500 Tiger Dr\, Excelsior Springs\, MO\, United States
ORGANIZER;CN="Excelsior Springs Farmers Market":MAILTO:noreply@facebookmail.com
GEO:39.349002;-94.244358
X-APPLE-STRUCTURED-LOCATION;VALUE=URI;X-ADDRESS=Excelsior Springs Community Center 500 Tiger Dr Excelsior Springs MO United States;X-APPLE-RADIUS=500;X-TITLE=500 Tiger Dr:geo:-94.244358,39.349002
END:VEVENT
END:VCALENDAR