BEGIN:VCALENDAR
VERSION:2.0
PRODID:-// - ECPv6.15.20//NONSGML v1.0//EN
CALSCALE:GREGORIAN
METHOD:PUBLISH
X-ORIGINAL-URL:https://events.excelsiorcitizen.com
X-WR-CALDESC:Events for 
REFRESH-INTERVAL;VALUE=DURATION:PT1H
X-Robots-Tag:noindex
X-PUBLISHED-TTL:PT1H
BEGIN:VTIMEZONE
TZID:UTC
BEGIN:STANDARD
TZOFFSETFROM:+0000
TZOFFSETTO:+0000
TZNAME:UTC
DTSTART:20250101T000000
END:STANDARD
END:VTIMEZONE
BEGIN:VEVENT
DTSTART;TZID=UTC:20260227T140000
DTEND;TZID=UTC:20260301T140000
DTSTAMP:20260421T230011
CREATED:20251130T224642Z
LAST-MODIFIED:20260223T010029Z
UID:10002551-1772200800-1772373600@events.excelsiorcitizen.com
SUMMARY:Epic Dance - Kansas City\, MO 2026
DESCRIPTION:Epic Dance 2026 Tour\nhttps://www.facebook.com/events/1031020165686789/
URL:https://events.excelsiorcitizen.com/event/epic-dance-kansas-city-mo-2026/
LOCATION:Excelsior Springs Performing Arts Center
ORGANIZER;CN="Epic Dance Inc":MAILTO:noreply@facebookmail.com
END:VEVENT
END:VCALENDAR