BEGIN:VCALENDAR
VERSION:2.0
PRODID:-// - ECPv6.15.20//NONSGML v1.0//EN
CALSCALE:GREGORIAN
METHOD:PUBLISH
X-ORIGINAL-URL:https://events.excelsiorcitizen.com
X-WR-CALDESC:Events for 
REFRESH-INTERVAL;VALUE=DURATION:PT1H
X-Robots-Tag:noindex
X-PUBLISHED-TTL:PT1H
BEGIN:VTIMEZONE
TZID:America/Chicago
BEGIN:DAYLIGHT
TZOFFSETFROM:-0600
TZOFFSETTO:-0500
TZNAME:CDT
DTSTART:20290311T080000
END:DAYLIGHT
BEGIN:STANDARD
TZOFFSETFROM:-0500
TZOFFSETTO:-0600
TZNAME:CST
DTSTART:20291104T070000
END:STANDARD
BEGIN:DAYLIGHT
TZOFFSETFROM:-0600
TZOFFSETTO:-0500
TZNAME:CDT
DTSTART:20300310T080000
END:DAYLIGHT
BEGIN:STANDARD
TZOFFSETFROM:-0500
TZOFFSETTO:-0600
TZNAME:CST
DTSTART:20301103T070000
END:STANDARD
BEGIN:DAYLIGHT
TZOFFSETFROM:-0600
TZOFFSETTO:-0500
TZNAME:CDT
DTSTART:20310309T080000
END:DAYLIGHT
BEGIN:STANDARD
TZOFFSETFROM:-0500
TZOFFSETTO:-0600
TZNAME:CST
DTSTART:20311102T070000
END:STANDARD
BEGIN:DAYLIGHT
TZOFFSETFROM:-0600
TZOFFSETTO:-0500
TZNAME:CDT
DTSTART:20320314T080000
END:DAYLIGHT
BEGIN:STANDARD
TZOFFSETFROM:-0500
TZOFFSETTO:-0600
TZNAME:CST
DTSTART:20321107T070000
END:STANDARD
END:VTIMEZONE
BEGIN:VEVENT
DTSTART;TZID=America/Chicago:20300516T190000
DTEND;TZID=America/Chicago:20300516T210000
DTSTAMP:20260421T185637
CREATED:20260413T051227Z
LAST-MODIFIED:20260413T051227Z
UID:10005357-1905188400-1905195600@events.excelsiorcitizen.com
SUMMARY:Karaoke Night at The Atlas Saloon
DESCRIPTION:Karaoke this week at The Atlas Saloon from 7-9pm. Come hang out with us for a couple hours. Singers and spectators are all welcome. Come support local and show them some love. 
URL:https://events.excelsiorcitizen.com/event/karaoke-night-at-the-atlas-saloon-2/2030-05-16/
LOCATION:The Atlas Saloon\, 100 W Broadway Ave\, Excelsior Springs\, MO\, 64024\, United States
ATTACH;FMTTYPE=image/jpeg:https://events.excelsiorcitizen.com/wp-content/uploads/2026/04/KaraokeNight.jpg
END:VEVENT
BEGIN:VEVENT
DTSTART;TZID=America/Chicago:20300620T190000
DTEND;TZID=America/Chicago:20300620T210000
DTSTAMP:20260421T185637
CREATED:20260413T051227Z
LAST-MODIFIED:20260413T051227Z
UID:10005358-1908212400-1908219600@events.excelsiorcitizen.com
SUMMARY:Karaoke Night at The Atlas Saloon
DESCRIPTION:Karaoke this week at The Atlas Saloon from 7-9pm. Come hang out with us for a couple hours. Singers and spectators are all welcome. Come support local and show them some love. 
URL:https://events.excelsiorcitizen.com/event/karaoke-night-at-the-atlas-saloon-2/2030-06-20/
LOCATION:The Atlas Saloon\, 100 W Broadway Ave\, Excelsior Springs\, MO\, 64024\, United States
ATTACH;FMTTYPE=image/jpeg:https://events.excelsiorcitizen.com/wp-content/uploads/2026/04/KaraokeNight.jpg
END:VEVENT
BEGIN:VEVENT
DTSTART;TZID=America/Chicago:20300718T190000
DTEND;TZID=America/Chicago:20300718T210000
DTSTAMP:20260421T185637
CREATED:20260413T051227Z
LAST-MODIFIED:20260413T051227Z
UID:10005359-1910631600-1910638800@events.excelsiorcitizen.com
SUMMARY:Karaoke Night at The Atlas Saloon
DESCRIPTION:Karaoke this week at The Atlas Saloon from 7-9pm. Come hang out with us for a couple hours. Singers and spectators are all welcome. Come support local and show them some love. 
URL:https://events.excelsiorcitizen.com/event/karaoke-night-at-the-atlas-saloon-2/2030-07-18/
LOCATION:The Atlas Saloon\, 100 W Broadway Ave\, Excelsior Springs\, MO\, 64024\, United States
ATTACH;FMTTYPE=image/jpeg:https://events.excelsiorcitizen.com/wp-content/uploads/2026/04/KaraokeNight.jpg
END:VEVENT
BEGIN:VEVENT
DTSTART;TZID=America/Chicago:20300815T190000
DTEND;TZID=America/Chicago:20300815T210000
DTSTAMP:20260421T185637
CREATED:20260413T051227Z
LAST-MODIFIED:20260413T051227Z
UID:10005360-1913050800-1913058000@events.excelsiorcitizen.com
SUMMARY:Karaoke Night at The Atlas Saloon
DESCRIPTION:Karaoke this week at The Atlas Saloon from 7-9pm. Come hang out with us for a couple hours. Singers and spectators are all welcome. Come support local and show them some love. 
URL:https://events.excelsiorcitizen.com/event/karaoke-night-at-the-atlas-saloon-2/2030-08-15/
LOCATION:The Atlas Saloon\, 100 W Broadway Ave\, Excelsior Springs\, MO\, 64024\, United States
ATTACH;FMTTYPE=image/jpeg:https://events.excelsiorcitizen.com/wp-content/uploads/2026/04/KaraokeNight.jpg
END:VEVENT
BEGIN:VEVENT
DTSTART;TZID=America/Chicago:20300919T190000
DTEND;TZID=America/Chicago:20300919T210000
DTSTAMP:20260421T185637
CREATED:20260413T051227Z
LAST-MODIFIED:20260413T051227Z
UID:10005361-1916074800-1916082000@events.excelsiorcitizen.com
SUMMARY:Karaoke Night at The Atlas Saloon
DESCRIPTION:Karaoke this week at The Atlas Saloon from 7-9pm. Come hang out with us for a couple hours. Singers and spectators are all welcome. Come support local and show them some love. 
URL:https://events.excelsiorcitizen.com/event/karaoke-night-at-the-atlas-saloon-2/2030-09-19/
LOCATION:The Atlas Saloon\, 100 W Broadway Ave\, Excelsior Springs\, MO\, 64024\, United States
ATTACH;FMTTYPE=image/jpeg:https://events.excelsiorcitizen.com/wp-content/uploads/2026/04/KaraokeNight.jpg
END:VEVENT
BEGIN:VEVENT
DTSTART;TZID=America/Chicago:20301017T190000
DTEND;TZID=America/Chicago:20301017T210000
DTSTAMP:20260421T185637
CREATED:20260413T051227Z
LAST-MODIFIED:20260413T051227Z
UID:10005362-1918494000-1918501200@events.excelsiorcitizen.com
SUMMARY:Karaoke Night at The Atlas Saloon
DESCRIPTION:Karaoke this week at The Atlas Saloon from 7-9pm. Come hang out with us for a couple hours. Singers and spectators are all welcome. Come support local and show them some love. 
URL:https://events.excelsiorcitizen.com/event/karaoke-night-at-the-atlas-saloon-2/2030-10-17/
LOCATION:The Atlas Saloon\, 100 W Broadway Ave\, Excelsior Springs\, MO\, 64024\, United States
ATTACH;FMTTYPE=image/jpeg:https://events.excelsiorcitizen.com/wp-content/uploads/2026/04/KaraokeNight.jpg
END:VEVENT
BEGIN:VEVENT
DTSTART;TZID=America/Chicago:20301121T190000
DTEND;TZID=America/Chicago:20301121T210000
DTSTAMP:20260421T185637
CREATED:20260413T051227Z
LAST-MODIFIED:20260413T051227Z
UID:10005363-1921518000-1921525200@events.excelsiorcitizen.com
SUMMARY:Karaoke Night at The Atlas Saloon
DESCRIPTION:Karaoke this week at The Atlas Saloon from 7-9pm. Come hang out with us for a couple hours. Singers and spectators are all welcome. Come support local and show them some love. 
URL:https://events.excelsiorcitizen.com/event/karaoke-night-at-the-atlas-saloon-2/2030-11-21/
LOCATION:The Atlas Saloon\, 100 W Broadway Ave\, Excelsior Springs\, MO\, 64024\, United States
ATTACH;FMTTYPE=image/jpeg:https://events.excelsiorcitizen.com/wp-content/uploads/2026/04/KaraokeNight.jpg
END:VEVENT
BEGIN:VEVENT
DTSTART;TZID=America/Chicago:20301219T190000
DTEND;TZID=America/Chicago:20301219T210000
DTSTAMP:20260421T185637
CREATED:20260413T051227Z
LAST-MODIFIED:20260413T051227Z
UID:10005364-1923937200-1923944400@events.excelsiorcitizen.com
SUMMARY:Karaoke Night at The Atlas Saloon
DESCRIPTION:Karaoke this week at The Atlas Saloon from 7-9pm. Come hang out with us for a couple hours. Singers and spectators are all welcome. Come support local and show them some love. 
URL:https://events.excelsiorcitizen.com/event/karaoke-night-at-the-atlas-saloon-2/2030-12-19/
LOCATION:The Atlas Saloon\, 100 W Broadway Ave\, Excelsior Springs\, MO\, 64024\, United States
ATTACH;FMTTYPE=image/jpeg:https://events.excelsiorcitizen.com/wp-content/uploads/2026/04/KaraokeNight.jpg
END:VEVENT
BEGIN:VEVENT
DTSTART;TZID=America/Chicago:20310116T190000
DTEND;TZID=America/Chicago:20310116T210000
DTSTAMP:20260421T185637
CREATED:20260413T051227Z
LAST-MODIFIED:20260413T051227Z
UID:10005365-1926356400-1926363600@events.excelsiorcitizen.com
SUMMARY:Karaoke Night at The Atlas Saloon
DESCRIPTION:Karaoke this week at The Atlas Saloon from 7-9pm. Come hang out with us for a couple hours. Singers and spectators are all welcome. Come support local and show them some love. 
URL:https://events.excelsiorcitizen.com/event/karaoke-night-at-the-atlas-saloon-2/2031-01-16/
LOCATION:The Atlas Saloon\, 100 W Broadway Ave\, Excelsior Springs\, MO\, 64024\, United States
ATTACH;FMTTYPE=image/jpeg:https://events.excelsiorcitizen.com/wp-content/uploads/2026/04/KaraokeNight.jpg
END:VEVENT
BEGIN:VEVENT
DTSTART;TZID=America/Chicago:20310220T190000
DTEND;TZID=America/Chicago:20310220T210000
DTSTAMP:20260421T185637
CREATED:20260413T051227Z
LAST-MODIFIED:20260413T051227Z
UID:10005366-1929380400-1929387600@events.excelsiorcitizen.com
SUMMARY:Karaoke Night at The Atlas Saloon
DESCRIPTION:Karaoke this week at The Atlas Saloon from 7-9pm. Come hang out with us for a couple hours. Singers and spectators are all welcome. Come support local and show them some love. 
URL:https://events.excelsiorcitizen.com/event/karaoke-night-at-the-atlas-saloon-2/2031-02-20/
LOCATION:The Atlas Saloon\, 100 W Broadway Ave\, Excelsior Springs\, MO\, 64024\, United States
ATTACH;FMTTYPE=image/jpeg:https://events.excelsiorcitizen.com/wp-content/uploads/2026/04/KaraokeNight.jpg
END:VEVENT
BEGIN:VEVENT
DTSTART;TZID=America/Chicago:20310320T190000
DTEND;TZID=America/Chicago:20310320T210000
DTSTAMP:20260421T185637
CREATED:20260413T051227Z
LAST-MODIFIED:20260413T051227Z
UID:10005367-1931799600-1931806800@events.excelsiorcitizen.com
SUMMARY:Karaoke Night at The Atlas Saloon
DESCRIPTION:Karaoke this week at The Atlas Saloon from 7-9pm. Come hang out with us for a couple hours. Singers and spectators are all welcome. Come support local and show them some love. 
URL:https://events.excelsiorcitizen.com/event/karaoke-night-at-the-atlas-saloon-2/2031-03-20/
LOCATION:The Atlas Saloon\, 100 W Broadway Ave\, Excelsior Springs\, MO\, 64024\, United States
ATTACH;FMTTYPE=image/jpeg:https://events.excelsiorcitizen.com/wp-content/uploads/2026/04/KaraokeNight.jpg
END:VEVENT
END:VCALENDAR