BEGIN:VCALENDAR
VERSION:2.0
PRODID:-// - ECPv6.15.20//NONSGML v1.0//EN
CALSCALE:GREGORIAN
METHOD:PUBLISH
X-ORIGINAL-URL:https://events.excelsiorcitizen.com
X-WR-CALDESC:Events for 
REFRESH-INTERVAL;VALUE=DURATION:PT1H
X-Robots-Tag:noindex
X-PUBLISHED-TTL:PT1H
BEGIN:VTIMEZONE
TZID:America/Chicago
BEGIN:DAYLIGHT
TZOFFSETFROM:-0600
TZOFFSETTO:-0500
TZNAME:CDT
DTSTART:20250309T080000
END:DAYLIGHT
BEGIN:STANDARD
TZOFFSETFROM:-0500
TZOFFSETTO:-0600
TZNAME:CST
DTSTART:20251102T070000
END:STANDARD
BEGIN:DAYLIGHT
TZOFFSETFROM:-0600
TZOFFSETTO:-0500
TZNAME:CDT
DTSTART:20260308T080000
END:DAYLIGHT
BEGIN:STANDARD
TZOFFSETFROM:-0500
TZOFFSETTO:-0600
TZNAME:CST
DTSTART:20261101T070000
END:STANDARD
BEGIN:DAYLIGHT
TZOFFSETFROM:-0600
TZOFFSETTO:-0500
TZNAME:CDT
DTSTART:20270314T080000
END:DAYLIGHT
BEGIN:STANDARD
TZOFFSETFROM:-0500
TZOFFSETTO:-0600
TZNAME:CST
DTSTART:20271107T070000
END:STANDARD
END:VTIMEZONE
BEGIN:VTIMEZONE
TZID:UTC
BEGIN:STANDARD
TZOFFSETFROM:+0000
TZOFFSETTO:+0000
TZNAME:UTC
DTSTART:20250101T000000
END:STANDARD
END:VTIMEZONE
BEGIN:VEVENT
DTSTART;TZID=America/Chicago:20260509T080000
DTEND;TZID=America/Chicago:20260509T170000
DTSTAMP:20260420T214836
CREATED:20260316T065204Z
LAST-MODIFIED:20260316T152042Z
UID:10004618-1778313600-1778346000@events.excelsiorcitizen.com
SUMMARY:Frank at Van Till Family Farm Winery
DESCRIPTION:I’ll be performing a mix of original music and favorites from the 60s\, 70s\, 80s\, and 90s\,
URL:https://events.excelsiorcitizen.com/event/frank-at-van-till-family-farm-winery-13/
LOCATION:MO
ATTACH;FMTTYPE=image/jpeg:https://events.excelsiorcitizen.com/wp-content/uploads/2026/03/645024084_1277907470985231_5796627859308106881_n.jpg
END:VEVENT
BEGIN:VEVENT
DTSTART;TZID=America/Chicago:20260509T100000
DTEND;TZID=America/Chicago:20260509T160000
DTSTAMP:20260420T214836
CREATED:20260406T015722Z
LAST-MODIFIED:20260406T015722Z
UID:10004672-1778320800-1778342400@events.excelsiorcitizen.com
SUMMARY:First Stitch at Sewcial Bar
DESCRIPTION:Join us for the Sewcial Bar Launch Party at Heartland Quilt Supply Co.! \nGet it? We are getting SEW-cial. Once you visit the Hat Bar\, Candle Bar\, Jewelry Bar and others in Excelsior\, you can hit one more at Heartland!\nStop in\, get creative\, and make a quick project while learning a new skill. Choose a needlebook or fabric bookmark\, and stitch it by hand or machine. Projects are just $5–$10 and take about 15–30 minutes.\nBring a friend\, try something new\, and leave with something handmade! \n 216 S Marietta\, Excelsior Springs\, MO\nThe Sewcial Bar will be open regular Heartland Quilt Supply Co. hours (Wed-Sat 10-5) after the launch party! Join us there or at the Sewing Studio at Heartland for quilting classes. Check our class schedule online.
URL:https://events.excelsiorcitizen.com/event/first-stitch-at-sewcial-bar/
LOCATION:Heartland Quilt Supply\, 216 S Marietta St\, Excelsior Springs\, MO\, 64024\, United States
ATTACH;FMTTYPE=image/jpeg:https://events.excelsiorcitizen.com/wp-content/uploads/2026/04/659541683_1566718575453954_2148651408258188843_n.jpg
END:VEVENT
BEGIN:VEVENT
DTSTART;TZID=America/Chicago:20260509T100000
DTEND;TZID=America/Chicago:20260509T170000
DTSTAMP:20260420T214836
CREATED:20260419T161342Z
LAST-MODIFIED:20260419T161342Z
UID:10005381-1778320800-1778346000@events.excelsiorcitizen.com
SUMMARY:Pop Up Patio Sale at Vesta Hearth & Home
DESCRIPTION:Exciting events are planned for Mother’s Day weekend in Downtown Excelsior Springs\, Missouri. ‘Mimosa’s with Mom’\, a ticketed downtown event sponsored by DEP\, will take place on Saturday\, May 9th. To secure tickets\, visit: https://visitexcelsior.com/.Vesta Hearth & Home will participate in the event as a Mimosa sampling spot and we will also host a Pop Up Patio sale right outside our building on Saturday and Sunday\, May 9th and 10th\, weather permitting. Our sale will feature a wide range of spring and summer home and garden furnishings\, gifts for mom\, live flowers and plants\, as well as special sale items! Come and shop all things vintage on the patio!
URL:https://events.excelsiorcitizen.com/event/pop-up-patio-sale-at-vesta-hearth-home/2026-05-09/
LOCATION:Vesta Hearth & Home\, 215 E Broadway\, Excelsior Springs\, MO\, 64024\, United States
ATTACH;FMTTYPE=image/jpeg:https://events.excelsiorcitizen.com/wp-content/uploads/2026/04/674592661_122229380120126340_844172737827970117_n.jpg
END:VEVENT
BEGIN:VEVENT
DTSTART;TZID=America/Chicago:20260509T103000
DTEND;TZID=America/Chicago:20260509T153000
DTSTAMP:20260420T214836
CREATED:20260124T235718Z
LAST-MODIFIED:20260125T000250Z
UID:10003899-1778322600-1778340600@events.excelsiorcitizen.com
SUMMARY:Second Saturday Wine Tour
DESCRIPTION:Join us for an all-inclusive Trolley Wine Tour experience.\nYour wine tour includes these three destinations:\n​ \n\nWillow Spring Mercantile-  Your adventure begins in the charming downtown of Excelsior Springs. Opened in 2005 by Jim and Daphne Bowman\, Willow Spring Mercantile is a beloved local gem. It proudly offers the largest selection of Missouri wines in the state\, along with an impressive lineup of craft beers and distilled spirits.  Settle into their beautiful wine cellar bistro and enjoy a relaxed brunch thoughtfully paired with Missouri-made wines. The brunch features a made-from-scratch pork (ham/bacon) vegetable quiche\, a fresh salad with seasonal toppings\, and a selection of fresh fruit. To finish on a sweet note\, guests are treated to a rich chocolate cappuccino brownie for dessert\, paired with the finale wine.\n\n  \n\nShamrock Hills Vineyard & Winery is second up. Nestled in the beautiful Missouri River Valley\, Shamrock Hills Vineyard and Winery is a hidden gem on a 323-acre farm. Mike & Denise Riley opened their doors in April 2023\, creating a welcoming space for visitors to enjoy great Missouri wines\, stunning views\, and the warmth of camaraderie. In 2023\, Shamrock planted 3\,000 vines across 5 acres\, adding an additional acre and 600 vines in 2024. While the estate vineyard grows and develops\, Shamrock Hills has partnered with Mid-Missouri Vineyards to provide grapes and produce their first couple of vintages. We are excited for you to try our wines and savor the beauty of the land that surrounds the tasting room.\n\n  \n\nVan Till Family Farm Winery\, your final destination is a scenic 20-minute Trolley ride to Van Till Family Farm Winery in Rayville\, where warm hospitality and handcrafted wines await. Relax in their picturesque garden setting and explore a variety of wines made from locally grown grapes. Don’t forget to place your order for their renowned wood-fired oven pizza- order sheets will be available on the trolley. (Food not included in ticket price)\n\nThis is a 21+ event only. ID required.
URL:https://events.excelsiorcitizen.com/event/second-saturday-wine-tour/2026-05-09/
LOCATION:Willow Spring Mercantile\, 249 E Broadway\, Excelsior Springs\, MO\, 64024\, United States
ATTACH;FMTTYPE=image/jpeg:https://events.excelsiorcitizen.com/wp-content/uploads/2025/11/trolley-other-trails-102525.jpg
END:VEVENT
BEGIN:VEVENT
DTSTART;TZID=America/Chicago:20260509T110000
DTEND;TZID=America/Chicago:20260509T150000
DTSTAMP:20260420T214836
CREATED:20260412T160526Z
LAST-MODIFIED:20260412T160526Z
UID:10004690-1778324400-1778338800@events.excelsiorcitizen.com
SUMMARY:Bead Besties Pop Up at Style by Ry
DESCRIPTION:Stop by and shop our first official Pop up during Mimosas with Mom!\nWe’ll have stretch beaded bracelets\, anklets\, stacker sets and Mommy and Me sets! Oh and some super cute earrings too!
URL:https://events.excelsiorcitizen.com/event/bead-besties-pop-up-at-style-by-ry/
LOCATION:Style By Ry\, 116 E Broadway\, Excelsior Springs\, MO\, 64024\, United States
ATTACH;FMTTYPE=image/jpeg:https://events.excelsiorcitizen.com/wp-content/uploads/2026/04/StylebyRy-PopUp.jpg
END:VEVENT
BEGIN:VEVENT
DTSTART;TZID=America/Chicago:20260509T110000
DTEND;TZID=America/Chicago:20260509T170000
DTSTAMP:20260420T214836
CREATED:20260302T061943Z
LAST-MODIFIED:20260302T061943Z
UID:10004571-1778324400-1778346000@events.excelsiorcitizen.com
SUMMARY:Mimosas with Mom
DESCRIPTION:Sip\, Stroll and Celebrate Moms!Treat the leading lady in your life to a Mother’s Day weekend she’ll never forget during the debut of Mimosas with Mom.\n\nThis brand new ticketed tasting event invites you and your favorite mamas\, daughters\, aunties\, and besties to sip your way through downtown with a mimosa in hand. Each participating business will offer a unique mimosa flavor to sample while you shop\, chat\, and create memories together.\n\nWhether you’re raising a glass to the moms who raised you\, celebrating your own motherhood journey\, or just looking for an fun excuse to brunch and browse\, Mimosas with Mom is the ultimate toast to the women who make life beautiful.\n\nPlan to spend the weekend in Excelsior Springs. Book a stay\, make a brunch reservation\, and let us help you turn Mother’s Day into a special experience.
URL:https://events.excelsiorcitizen.com/event/mimosas-with-mom-2/
LOCATION:Downtown Excelsior Springs\, Excelsior Springs\, MO\, 64024\, United States
ATTACH;FMTTYPE=image/jpeg:https://events.excelsiorcitizen.com/wp-content/uploads/2026/03/641423061_1496109295850314_7549307475008913114_n.jpg
END:VEVENT
BEGIN:VEVENT
DTSTART;TZID=America/Chicago:20260509T120000
DTEND;TZID=America/Chicago:20260509T170000
DTSTAMP:20260420T214836
CREATED:20260412T163707Z
LAST-MODIFIED:20260412T163707Z
UID:10004716-1778328000-1778346000@events.excelsiorcitizen.com
SUMMARY:Building Memories Bouquet
DESCRIPTION:This is our event going on Saturday May 9th! You can scan the QR code to purchase your bouquet! Price is per person\, you must pre register to ensure we have enough product! Hope to see you there!
URL:https://events.excelsiorcitizen.com/event/building-memories-bouquet/
LOCATION:Blooms and Things Excelsior Springs\, 413 S Thompson Ave\, Excelsior Springs\, MO\, 64024\, United States
ATTACH;FMTTYPE=image/jpeg:https://events.excelsiorcitizen.com/wp-content/uploads/2026/04/Blooms-Workshop.jpg
END:VEVENT
BEGIN:VEVENT
DTSTART;TZID=America/Chicago:20260509T200000
DTEND;TZID=America/Chicago:20260509T210000
DTSTAMP:20260420T214836
CREATED:20260216T203238Z
LAST-MODIFIED:20260216T203238Z
UID:10004099-1778356800-1778360400@events.excelsiorcitizen.com
SUMMARY:Double Jointed at the Atlas Saloon
DESCRIPTION:Double Jointed returns with the acoustic show to the historic Atlas Saloon in downtown Excelsior Springs\, offering a night of laid-back rock\, country classics\, deep cuts\, and original music.
URL:https://events.excelsiorcitizen.com/event/double-jointed-at-the-atlas-saloon/
LOCATION:The Atlas Saloon\, 100 W Broadway Ave\, Excelsior Springs\, MO\, 64024\, United States
ATTACH;FMTTYPE=image/jpeg:https://events.excelsiorcitizen.com/wp-content/uploads/2026/02/DoubleJointed.jpg
END:VEVENT
BEGIN:VEVENT
DTSTART;TZID=UTC:20260510T010000
DTEND;TZID=UTC:20260510T040000
DTSTAMP:20260420T214836
CREATED:20260223T004537Z
LAST-MODIFIED:20260223T010034Z
UID:10004449-1778374800-1778385600@events.excelsiorcitizen.com
SUMMARY:Double Jointed at the Atlas Saloon
DESCRIPTION:Double Jointed returns with the acoustic show to the historic Atlas Saloon in downtown Excelsior Springs\, offering a night of laid-back rock\, country classics\, deep cuts\, and original music.\nhttps://www.facebook.com/events/33429943139985630/
URL:https://events.excelsiorcitizen.com/event/double-jointed-at-the-atlas-saloon-2/
LOCATION:Atlas Saloon
ORGANIZER;CN="Double Jointed Music":MAILTO:noreply@facebookmail.com
END:VEVENT
BEGIN:VEVENT
DTSTART;VALUE=DATE:20260510
DTEND;VALUE=DATE:20260512
DTSTAMP:20260420T214836
CREATED:20251120T183115Z
LAST-MODIFIED:20260223T173026Z
UID:10002075-1778378400-1778464799@events.excelsiorcitizen.com
SUMMARY:Mother's Day
DESCRIPTION:Observance\nTo hide observances\, go to Google Calendar Settings > Holidays in United States
URL:https://events.excelsiorcitizen.com/event/mothers-day/
LOCATION:MO
END:VEVENT
BEGIN:VEVENT
DTSTART;TZID=America/Chicago:20260510T100000
DTEND;TZID=America/Chicago:20260510T120000
DTSTAMP:20260420T214836
CREATED:20260112T052339Z
LAST-MODIFIED:20260112T052339Z
UID:10002968-1778407200-1778414400@events.excelsiorcitizen.com
SUMMARY:Watkins Mill Hand-Sewing Workshop
DESCRIPTION:Hand Sewing Poster May 10th
URL:https://events.excelsiorcitizen.com/event/watkins-mill-hand-sewing-workshop/
LOCATION:MO
END:VEVENT
BEGIN:VEVENT
DTSTART;TZID=America/Chicago:20260510T100000
DTEND;TZID=America/Chicago:20260510T150000
DTSTAMP:20260420T214836
CREATED:20260419T161342Z
LAST-MODIFIED:20260419T161342Z
UID:10005382-1778407200-1778425200@events.excelsiorcitizen.com
SUMMARY:Pop Up Patio Sale at Vesta Hearth & Home
DESCRIPTION:Exciting events are planned for Mother’s Day weekend in Downtown Excelsior Springs\, Missouri. ‘Mimosa’s with Mom’\, a ticketed downtown event sponsored by DEP\, will take place on Saturday\, May 9th. To secure tickets\, visit: https://visitexcelsior.com/.Vesta Hearth & Home will participate in the event as a Mimosa sampling spot and we will also host a Pop Up Patio sale right outside our building on Saturday and Sunday\, May 9th and 10th\, weather permitting. Our sale will feature a wide range of spring and summer home and garden furnishings\, gifts for mom\, live flowers and plants\, as well as special sale items! Come and shop all things vintage on the patio!
URL:https://events.excelsiorcitizen.com/event/pop-up-patio-sale-at-vesta-hearth-home/2026-05-10/
LOCATION:Vesta Hearth & Home\, 215 E Broadway\, Excelsior Springs\, MO\, 64024\, United States
ATTACH;FMTTYPE=image/jpeg:https://events.excelsiorcitizen.com/wp-content/uploads/2026/04/674592661_122229380120126340_844172737827970117_n.jpg
END:VEVENT
BEGIN:VEVENT
DTSTART;TZID=UTC:20260510T203000
DTEND;TZID=UTC:20260510T223000
DTSTAMP:20260420T214836
CREATED:20260205T171643Z
LAST-MODIFIED:20260223T010034Z
UID:10004031-1778445000-1778452200@events.excelsiorcitizen.com
SUMMARY:Phil Vandel at Shamrock Hills Vineyard & Winery
DESCRIPTION:PV Solo 3:30-5:30!\nhttps://www.facebook.com/events/1628010415279249/
URL:https://events.excelsiorcitizen.com/event/phil-vandel-at-shamrock-hills-vineyard-winery/
LOCATION:MO
ORGANIZER;CN="Phil Vandel":MAILTO:noreply@facebookmail.com
END:VEVENT
BEGIN:VEVENT
DTSTART;TZID=America/Chicago:20260511T110000
DTEND;TZID=America/Chicago:20260511T150000
DTSTAMP:20260420T214836
CREATED:20260412T180559Z
LAST-MODIFIED:20260412T180726Z
UID:10004725-1778497200-1778511600@events.excelsiorcitizen.com
SUMMARY:Toddler Swim
DESCRIPTION:Bring your little ones to enjoy the indoor pool with pool toys and fun aquatic features! FREE for ESCC Members and just $5 for Non-Members (parents/guardians get in free and must be present). Every Monday from 11:00 AM – 3:00 PM​\, Ages 2- 5 Years
URL:https://events.excelsiorcitizen.com/event/toddler-swim-2/2026-05-11/
LOCATION:Excelsior Springs Community Center\, 500 Tiger Dr\, Excelsior Springs\, MO\, United States
ATTACH;FMTTYPE=image/png:https://events.excelsiorcitizen.com/wp-content/uploads/2026/04/toddlerswim-1.png
GEO:39.349002;-94.244358
X-APPLE-STRUCTURED-LOCATION;VALUE=URI;X-ADDRESS=Excelsior Springs Community Center 500 Tiger Dr Excelsior Springs MO United States;X-APPLE-RADIUS=500;X-TITLE=500 Tiger Dr:geo:-94.244358,39.349002
END:VEVENT
BEGIN:VEVENT
DTSTART;TZID=UTC:20260511T134500
DTEND;TZID=UTC:20260511T194500
DTSTAMP:20260420T214836
CREATED:20260223T004610Z
LAST-MODIFIED:20260223T010109Z
UID:10004510-1778507100-1778528700@events.excelsiorcitizen.com
SUMMARY:Elementary Special Events  (Home)
DESCRIPTION:Comments: Elkhorn  Mile Run
URL:https://events.excelsiorcitizen.com/event/elementary-special-events-home-40/
LOCATION:Excelsior Springs High School – Tiger Stadium
END:VEVENT
BEGIN:VEVENT
DTSTART;TZID=America/Chicago:20260511T180000
DTEND;TZID=America/Chicago:20260511T200000
DTSTAMP:20260420T214836
CREATED:20260413T050948Z
LAST-MODIFIED:20260413T050948Z
UID:10005249-1778522400-1778529600@events.excelsiorcitizen.com
SUMMARY:Hall of Writers April 2026 Meeting
DESCRIPTION:The Hall of Writers offers writers and poets of Excelsior Springs\, MO and surrounding areas with a creative community and support system. They meet the 2nd Monday of every month.
URL:https://events.excelsiorcitizen.com/event/hall-of-writers-april-2026-meeting/2026-05-11/
LOCATION:Other Trails – Coffee & Goods\, 115 E Broadway Ave\, Excelsior Springs\, MO\, 64024\, United States
ATTACH;FMTTYPE=image/jpeg:https://events.excelsiorcitizen.com/wp-content/uploads/2026/04/hall-of-writers.jpeg
END:VEVENT
BEGIN:VEVENT
DTSTART;TZID=UTC:20260511T210000
DTEND;TZID=UTC:20260511T230000
DTSTAMP:20260420T214836
CREATED:20260223T004610Z
LAST-MODIFIED:20260223T010109Z
UID:10004511-1778533200-1778540400@events.excelsiorcitizen.com
SUMMARY:Baseball: JV  vs. Winnetonka (Away)
DESCRIPTION:Type: Game  Opponent: Winnetonka
URL:https://events.excelsiorcitizen.com/event/baseball-jv-vs-winnetonka-away/
LOCATION:Winnetonka High School
END:VEVENT
BEGIN:VEVENT
DTSTART;TZID=UTC:20260511T210000
DTEND;TZID=UTC:20260511T230000
DTSTAMP:20260420T214836
CREATED:20260223T004610Z
LAST-MODIFIED:20260223T010109Z
UID:10004513-1778533200-1778540400@events.excelsiorcitizen.com
SUMMARY:Baseball: Varsity  vs. Winnetonka (Home)
DESCRIPTION:Type: Game  Opponent: Winnetonka
URL:https://events.excelsiorcitizen.com/event/baseball-varsity-vs-winnetonka-home/
LOCATION:Excelsior Springs High School  Baseball Field 3 (turf)
END:VEVENT
BEGIN:VEVENT
DTSTART;TZID=UTC:20260511T220000
DTEND;TZID=UTC:20260511T233000
DTSTAMP:20260420T214836
CREATED:20260223T004610Z
LAST-MODIFIED:20260223T010109Z
UID:10004512-1778536800-1778542200@events.excelsiorcitizen.com
SUMMARY:Soccer: Girls JV  vs. Odessa (Away)
DESCRIPTION:Type: Game  Opponent: Odessa
URL:https://events.excelsiorcitizen.com/event/soccer-girls-jv-vs-odessa-away/
LOCATION:Odessa High School
END:VEVENT
BEGIN:VEVENT
DTSTART;TZID=UTC:20260511T233000
DTEND;TZID=UTC:20260512T010000
DTSTAMP:20260420T214836
CREATED:20260223T004610Z
LAST-MODIFIED:20260223T010109Z
UID:10004514-1778542200-1778547600@events.excelsiorcitizen.com
SUMMARY:Soccer: Girls Varsity  vs. Odessa (Away)
DESCRIPTION:Type: Game  Opponent: Odessa
URL:https://events.excelsiorcitizen.com/event/soccer-girls-varsity-vs-odessa-away/
LOCATION:Odessa High School
END:VEVENT
BEGIN:VEVENT
DTSTART;VALUE=DATE:20260512
DTEND;VALUE=DATE:20260514
DTSTAMP:20260420T214836
CREATED:20260419T154541Z
LAST-MODIFIED:20260419T154541Z
UID:10005373-1778551200-1778637599@events.excelsiorcitizen.com
SUMMARY:On-Site School Immunization Clinics
DESCRIPTION:Here is our schedule for the final school immunization clinics during the spring semester. Learn more and register your child today at clayhealth.com/schoolimms.
URL:https://events.excelsiorcitizen.com/event/on-site-school-immunization-clinics/
LOCATION:Excelsior Springs High School\, 612 Tiger Drive\, Excelsior Springs\, MO\, 64024\, United States
ATTACH;FMTTYPE=image/jpeg:https://events.excelsiorcitizen.com/wp-content/uploads/2026/04/670919966_1377166331107669_6023374633166662103_n.jpg
END:VEVENT
BEGIN:VEVENT
DTSTART;TZID=UTC:20260512T134500
DTEND;TZID=UTC:20260512T194500
DTSTAMP:20260420T214836
CREATED:20260223T004611Z
LAST-MODIFIED:20260223T010110Z
UID:10004516-1778593500-1778615100@events.excelsiorcitizen.com
SUMMARY:Elementary Special Events  (Home)
DESCRIPTION:Comments: Elkhorn  Mile Run Rain Date
URL:https://events.excelsiorcitizen.com/event/elementary-special-events-home-41/
LOCATION:Excelsior Springs High School – Tiger Stadium
END:VEVENT
BEGIN:VEVENT
DTSTART;TZID=America/Chicago:20260512T183000
DTEND;TZID=America/Chicago:20260512T193000
DTSTAMP:20260420T214836
CREATED:20260217T002652Z
LAST-MODIFIED:20260217T002652Z
UID:10004120-1778610600-1778614200@events.excelsiorcitizen.com
SUMMARY:Financial Peace University
DESCRIPTION:Take a step toward financial confidence and peace of mind.Oasis Outreach Ministries is hosting Financial Peace University\, a practical\, step-by-step course to help you take control of your money and plan for your future.Tuesday eveningsMarch 3 – April 286:30 p.m.Oasis Outreach Ministries\, 108 W. Broadway\, Excelsior SpringsSeating is limited\, so register early at OasisOutreachMO.org and start winning with money.
URL:https://events.excelsiorcitizen.com/event/financial-peace-university/2026-05-12/
LOCATION:Oasis Outreach Ministry\, 108 W Broadway Ave\, Excelsior Springs\, MO\, 64024\, United States
ATTACH;FMTTYPE=image/jpeg:https://events.excelsiorcitizen.com/wp-content/uploads/2026/02/629847948_1407153758120799_4226016857652137779_n-1.jpg
END:VEVENT
BEGIN:VEVENT
DTSTART;TZID=America/Chicago:20260512T190000
DTEND;TZID=America/Chicago:20260512T200000
DTSTAMP:20260420T214836
CREATED:20260217T023150Z
LAST-MODIFIED:20260217T023150Z
UID:10004186-1778612400-1778616000@events.excelsiorcitizen.com
SUMMARY:New Freedom Recovery Program
DESCRIPTION:Join New Freedom Recovery Program on Tuesdays at 7:00pm at Crescent Lake Christian Center\, 1250 St Louis Ave\, Excelsior Springs\, as we journey through “Hope”. Rather than seeking hope within ourself\, find peace in trusting God\, who loves and accepts us unconditionally\, despite our imperfections. Lead me; instruct me; for You are the God who grants me salvation. My hope is solely in You. Psalm 25:5 \nAddictions\, Alcoholism\, Hang-ups\, Depression\, Substance Abuse \nFor more information\, call Steve Waymen 816-377-7226 \n 
URL:https://events.excelsiorcitizen.com/event/new-freedom-recovery-program-3/2026-05-12/
LOCATION:Crescent Lake Christian Center\, 1250 St Louis Ave\, Excelsior Springs\, MO\, 64024\, United States
ATTACH;FMTTYPE=image/jpeg:https://events.excelsiorcitizen.com/wp-content/uploads/2026/02/631611260_10236263434379618_5041821824909759256_n-1.jpg
END:VEVENT
BEGIN:VEVENT
DTSTART;TZID=UTC:20260512T194500
DTEND;TZID=UTC:20260512T211500
DTSTAMP:20260420T214836
CREATED:20260223T004611Z
LAST-MODIFIED:20260223T010110Z
UID:10004515-1778615100-1778620500@events.excelsiorcitizen.com
SUMMARY:Middle School Special Events  (Home)
DESCRIPTION:Comments: Talent Show Rehearsal
URL:https://events.excelsiorcitizen.com/event/middle-school-special-events-home-13/
LOCATION:Excelsior Springs High School – Performing Arts Center
END:VEVENT
BEGIN:VEVENT
DTSTART;TZID=UTC:20260512T213000
DTEND;TZID=UTC:20260512T233000
DTSTAMP:20260420T214836
CREATED:20260223T004611Z
LAST-MODIFIED:20260223T010110Z
UID:10004519-1778621400-1778628600@events.excelsiorcitizen.com
SUMMARY:Baseball: Varsity  vs. Pleasant Hill (Away)
DESCRIPTION:Type: Game  Opponent: Pleasant Hill
URL:https://events.excelsiorcitizen.com/event/baseball-varsity-vs-pleasant-hill-away/
LOCATION:Pleasant Hill – Baseball Field
END:VEVENT
BEGIN:VEVENT
DTSTART;TZID=UTC:20260512T220000
DTEND;TZID=UTC:20260512T233000
DTSTAMP:20260420T214836
CREATED:20260223T004611Z
LAST-MODIFIED:20260223T010110Z
UID:10004517-1778623200-1778628600@events.excelsiorcitizen.com
SUMMARY:Soccer: Girls JV  vs. Grandview (Away)
DESCRIPTION:Type: Game  Opponent: Grandview
URL:https://events.excelsiorcitizen.com/event/soccer-girls-jv-vs-grandview-away/
LOCATION:Grandview High School
END:VEVENT
BEGIN:VEVENT
DTSTART;TZID=UTC:20260512T233000
DTEND;TZID=UTC:20260513T010000
DTSTAMP:20260420T214836
CREATED:20260223T004611Z
LAST-MODIFIED:20260223T010110Z
UID:10004518-1778628600-1778634000@events.excelsiorcitizen.com
SUMMARY:Soccer: Girls Varsity  vs. Grandview (Away)
DESCRIPTION:Type: Game  Opponent: Grandview
URL:https://events.excelsiorcitizen.com/event/soccer-girls-varsity-vs-grandview-away/
LOCATION:Grandview High School
END:VEVENT
BEGIN:VEVENT
DTSTART;VALUE=DATE:20260513
DTEND;VALUE=DATE:20260515
DTSTAMP:20260420T214836
CREATED:20260310T061142Z
LAST-MODIFIED:20260310T061142Z
UID:10004596-1778637600-1778723999@events.excelsiorcitizen.com
SUMMARY:Handwoven Fabric Journals
DESCRIPTION: Turn Your Handwoven Fabric into a Handmade Journal Join us on May 13th for Handwoven Fabric as Amazing Journals\, a full-day workshop with local fiber artist Barrie Mason.Bring your own piece of handwoven fabric and learn how to transform it into a beautiful custom journal. You’ll learn the basics of bookbinding while creating a one-of-a-kind piece featuring a leather spine and 120 pages of drawing paper; perfect for sketching\, writing\, or gifting!All materials are provided (except your handwoven fabric!) $60 per participant | Please bring a cold lunch* Watkins Woolen Mill State Park and State Historic SiteSpots are limited → Register today at WatkinsMill.org/Events
URL:https://events.excelsiorcitizen.com/event/handwoven-fabric-journals/
LOCATION:Watkins Mill State Park
ATTACH;FMTTYPE=image/jpeg:https://events.excelsiorcitizen.com/wp-content/uploads/2026/03/646918401_1431450978778410_3614777414121088103_n.jpg
END:VEVENT
BEGIN:VEVENT
DTSTART;TZID=America/Chicago:20260513T110000
DTEND;TZID=America/Chicago:20260513T150000
DTSTAMP:20260420T214836
CREATED:20260412T181521Z
LAST-MODIFIED:20260412T181521Z
UID:10004986-1778670000-1778684400@events.excelsiorcitizen.com
SUMMARY:Home School Swim
DESCRIPTION:Bring your home school students ages 18 and under to enjoy the indoor pool and all that is has to offer! FREE for ESCC Members and just $5 for Non-Members (parent/guardian gets in free and must be present). Every Wednesday from 11:00 AM- 3:00 PM.
URL:https://events.excelsiorcitizen.com/event/home-school-swim-2/2026-05-13/
LOCATION:Excelsior Springs Community Center\, 500 Tiger Dr\, Excelsior Springs\, MO\, United States
ATTACH;FMTTYPE=image/jpeg:https://events.excelsiorcitizen.com/wp-content/uploads/2026/04/home-school-swim-1.jpg
GEO:39.349002;-94.244358
X-APPLE-STRUCTURED-LOCATION;VALUE=URI;X-ADDRESS=Excelsior Springs Community Center 500 Tiger Dr Excelsior Springs MO United States;X-APPLE-RADIUS=500;X-TITLE=500 Tiger Dr:geo:-94.244358,39.349002
END:VEVENT
END:VCALENDAR