BEGIN:VCALENDAR
VERSION:2.0
PRODID:-// - ECPv6.15.20//NONSGML v1.0//EN
CALSCALE:GREGORIAN
METHOD:PUBLISH
X-ORIGINAL-URL:https://events.excelsiorcitizen.com
X-WR-CALDESC:Events for 
REFRESH-INTERVAL;VALUE=DURATION:PT1H
X-Robots-Tag:noindex
X-PUBLISHED-TTL:PT1H
BEGIN:VTIMEZONE
TZID:America/Chicago
BEGIN:DAYLIGHT
TZOFFSETFROM:-0600
TZOFFSETTO:-0500
TZNAME:CDT
DTSTART:20250309T080000
END:DAYLIGHT
BEGIN:STANDARD
TZOFFSETFROM:-0500
TZOFFSETTO:-0600
TZNAME:CST
DTSTART:20251102T070000
END:STANDARD
BEGIN:DAYLIGHT
TZOFFSETFROM:-0600
TZOFFSETTO:-0500
TZNAME:CDT
DTSTART:20260308T080000
END:DAYLIGHT
BEGIN:STANDARD
TZOFFSETFROM:-0500
TZOFFSETTO:-0600
TZNAME:CST
DTSTART:20261101T070000
END:STANDARD
BEGIN:DAYLIGHT
TZOFFSETFROM:-0600
TZOFFSETTO:-0500
TZNAME:CDT
DTSTART:20270314T080000
END:DAYLIGHT
BEGIN:STANDARD
TZOFFSETFROM:-0500
TZOFFSETTO:-0600
TZNAME:CST
DTSTART:20271107T070000
END:STANDARD
END:VTIMEZONE
BEGIN:VTIMEZONE
TZID:UTC
BEGIN:STANDARD
TZOFFSETFROM:+0000
TZOFFSETTO:+0000
TZNAME:UTC
DTSTART:20250101T000000
END:STANDARD
END:VTIMEZONE
BEGIN:VEVENT
DTSTART;TZID=America/Chicago:20260411T130000
DTEND;TZID=America/Chicago:20260411T160000
DTSTAMP:20260420T025705
CREATED:20260208T200357Z
LAST-MODIFIED:20260208T200518Z
UID:10004092-1775912400-1775923200@events.excelsiorcitizen.com
SUMMARY:Frank at Van Till Family Farm Winery
DESCRIPTION:Frank Rardon will be performing a mix of original music and favorites from the 60s\, 70s\, 80s\, and 90s\,
URL:https://events.excelsiorcitizen.com/event/frank-at-van-till-family-farm-winery-12/2026-04-11/
LOCATION:Van Till Family Farm Winery\, 36575 W 140th St\, Rayville\, MO\, 64024\, United States
ATTACH;FMTTYPE=image/jpeg:https://events.excelsiorcitizen.com/wp-content/uploads/2026/02/frank-vantill-1.jpg
END:VEVENT
BEGIN:VEVENT
DTSTART;TZID=America/Chicago:20260411T140000
DTEND;TZID=America/Chicago:20260411T173000
DTSTAMP:20260420T025705
CREATED:20260112T055038Z
LAST-MODIFIED:20260407T052529Z
UID:10003531-1775916000-1775928600@events.excelsiorcitizen.com
SUMMARY:Prom Closet
DESCRIPTION:Excelsior Springs High School Student Council is hosting a Prom event for area students to shop our prom closet for FREE prom attire. The Prom closet will be open on Saturday\, April 11th\, from 2:00 to 5:30 pm at the ESHS Commons. In order to make this event AWESOME for our students\, we are in need of donations! \nPlease check your closets for items that could help a student go to prom. \nDonations will be accepted at the High School main entrance any day school is open from 7:00 am to 3:00 pm. We are in need of dresses\, shirts/ties/pants\, and accessories.
URL:https://events.excelsiorcitizen.com/event/prom-closet/
LOCATION:Excelsior Springs High School\, 612 Tiger Drive\, Excelsior Springs\, MO\, 64024\, United States
END:VEVENT
BEGIN:VEVENT
DTSTART;TZID=America/Chicago:20260411T150000
DTEND;TZID=America/Chicago:20260411T170000
DTSTAMP:20260420T025705
CREATED:20260316T063339Z
LAST-MODIFIED:20260316T063339Z
UID:10004609-1775919600-1775926800@events.excelsiorcitizen.com
SUMMARY:Live Music - JenKees
DESCRIPTION:Enjoy free live music!! A variety of wine\, spirits\, beer\, non alcoholic options and nibbles to choose from!
URL:https://events.excelsiorcitizen.com/event/live-music-jenkees-3/
LOCATION:Fence Stile Vineyards and Winery\, 31010 W 124th St\, Excelsior Springs\, MO\, 64024\, United States
ATTACH;FMTTYPE=image/jpeg:https://events.excelsiorcitizen.com/wp-content/uploads/2026/03/650107539_1518950736902932_3984768697377771688_n.jpg
END:VEVENT
BEGIN:VEVENT
DTSTART;TZID=America/Chicago:20260411T150000
DTEND;TZID=America/Chicago:20260411T170000
DTSTAMP:20260420T025705
CREATED:20260322T210607Z
LAST-MODIFIED:20260322T210607Z
UID:10004656-1775919600-1775926800@events.excelsiorcitizen.com
SUMMARY:Live Music with Butter & Honey at Shamrock Hills
DESCRIPTION:Butter & Honey make their winery debut on Saturday\, April 11\, performing live from 3–5 p.m. This Kansas City duo blends soulful vocals\, creative guitar work\, and an intimate acoustic vibe that pairs perfectly with award-winning wine and a relaxed afternoon among the vineyards
URL:https://events.excelsiorcitizen.com/event/live-music-with-butter-honey-at-shamrock-hills/
LOCATION:Shamrock Hills Vineyard and Winery\, 12300 Shoemaker Rd.\, Excelsior Springs\, MO\, 64024\, United States
ATTACH;FMTTYPE=image/jpeg:https://events.excelsiorcitizen.com/wp-content/uploads/2026/03/654669762_957757030535553_1143228254772061498_n-1.jpg
END:VEVENT
BEGIN:VEVENT
DTSTART;TZID=America/Chicago:20260411T190000
DTEND;TZID=America/Chicago:20260411T210000
DTSTAMP:20260420T025705
CREATED:20260316T070045Z
LAST-MODIFIED:20260316T070045Z
UID:10004622-1775934000-1775941200@events.excelsiorcitizen.com
SUMMARY:Peter Pan & Wendy | ES PAC
DESCRIPTION:ESHS Performing Arts Players\nApril 10-11 at 7:00pm\n\n\nSunday April 12 at 2pm
URL:https://events.excelsiorcitizen.com/event/peter-pan-wendy-es-pac/2026-04-11/
LOCATION:Excelsior Springs Performing Arts Center
ATTACH;FMTTYPE=image/jpeg:https://events.excelsiorcitizen.com/wp-content/uploads/2026/03/649822143_25910172705320895_7173013930759643882_n.jpg
END:VEVENT
BEGIN:VEVENT
DTSTART;TZID=America/Chicago:20260411T200000
DTEND;TZID=America/Chicago:20260411T230000
DTSTAMP:20260420T025705
CREATED:20260407T045339Z
LAST-MODIFIED:20260407T045339Z
UID:10004681-1775937600-1775948400@events.excelsiorcitizen.com
SUMMARY:Cruise Into Sonic for a Cause
DESCRIPTION:Cruise into Sonic for a cause this April!\n\n\nOn Saturdays from 8 p.m. to close\, the Excelsior Springs Sonic will donate 10% of sales to support two great local causes.\n\n\n\nApril 4 – Meals & a Visit\nApril 11 – Excelsior Springs Farmers Market\nApril 18 – Meals & a Visit\nApril 25 – Excelsior Springs Farmers Market\n\n\n\nIt is an easy and delicious way to support programs that make a difference right here in our community. Grab your favorite Sonic treats\, spread the word\, and help give back close to home.
URL:https://events.excelsiorcitizen.com/event/cruise-into-sonic-for-a-cause/
LOCATION:Sonic Drive-Thru\, 1715 W Jesse James Rd\, Excelsior Springs\, MO\, 64024\, United States
ATTACH;FMTTYPE=image/jpeg:https://events.excelsiorcitizen.com/wp-content/uploads/2026/04/662204502_921849103947579_8283984696993560289_n.jpg
END:VEVENT
BEGIN:VEVENT
DTSTART;TZID=America/Chicago:20260412T140000
DTEND;TZID=America/Chicago:20260412T160000
DTSTAMP:20260420T025705
CREATED:20260316T063714Z
LAST-MODIFIED:20260316T063714Z
UID:10004611-1776002400-1776009600@events.excelsiorcitizen.com
SUMMARY:Foray for Fungi!
DESCRIPTION:Join the KC Chapter for the first foray of the year! We’ll be exploring the river bottoms in search of spring mushrooms — morels\, false morels\, Dryad’s saddle\, turkey tails\, wood ears\, and more.\n\nWe’ll also spend some time practicing iNaturalist and reviewing how to submit DNA samples for our MycoMap initiative\, so bring your curiosity and your phones.\n\nRegistration is required at MOMyco.org.\n\nThe exact meet-up location will be emailed to registered participants as the event gets closer.
URL:https://events.excelsiorcitizen.com/event/foray-for-fungi/
LOCATION:Cooley Lake
ATTACH;FMTTYPE=image/jpeg:https://events.excelsiorcitizen.com/wp-content/uploads/2026/03/650371872_27014957548090888_3156377540243558799_n.jpg
END:VEVENT
BEGIN:VEVENT
DTSTART;TZID=America/Chicago:20260412T140000
DTEND;TZID=America/Chicago:20260412T160000
DTSTAMP:20260420T025705
CREATED:20260316T070045Z
LAST-MODIFIED:20260316T070045Z
UID:10004623-1776002400-1776009600@events.excelsiorcitizen.com
SUMMARY:Peter Pan & Wendy | ES PAC
DESCRIPTION:ESHS Performing Arts Players\nApril 10-11 at 7:00pm\n\n\nSunday April 12 at 2pm
URL:https://events.excelsiorcitizen.com/event/peter-pan-wendy-es-pac/2026-04-12/
LOCATION:Excelsior Springs Performing Arts Center
ATTACH;FMTTYPE=image/jpeg:https://events.excelsiorcitizen.com/wp-content/uploads/2026/03/649822143_25910172705320895_7173013930759643882_n.jpg
END:VEVENT
BEGIN:VEVENT
DTSTART;TZID=America/Chicago:20260412T150000
DTEND;TZID=America/Chicago:20260412T170000
DTSTAMP:20260420T025705
CREATED:20260322T210401Z
LAST-MODIFIED:20260322T210401Z
UID:10004655-1776006000-1776013200@events.excelsiorcitizen.com
SUMMARY:Live Music with Jillian Riscoe at Shamrock Hills
DESCRIPTION:Jillian Riscoe returns to the winery with her award-winning vocals and engaging stage presence. A Kansas City native who tours nationally and splits her time between KC and Nashville\, Jillian delivers heartfelt country-pop performances that pair perfectly with wine\, food\, and vineyard views.
URL:https://events.excelsiorcitizen.com/event/live-music-with-jillian-riscoe-at-shamrock-hills/
LOCATION:Shamrock Hills Vineyard and Winery\, 12300 Shoemaker Rd.\, Excelsior Springs\, MO\, 64024\, United States
ATTACH;FMTTYPE=image/jpeg:https://events.excelsiorcitizen.com/wp-content/uploads/2026/03/654409891_957757797202143_2414667426684588746_n-1.jpg
END:VEVENT
BEGIN:VEVENT
DTSTART;TZID=UTC:20260413T080000
DTEND;TZID=UTC:20260413T100000
DTSTAMP:20260420T025705
CREATED:20260103T022508Z
LAST-MODIFIED:20260412T174437Z
UID:10002680-1776067200-1776074400@events.excelsiorcitizen.com
SUMMARY:Golf: Boys Varsity vs. Oak Park (Away)
DESCRIPTION:Type: Tournament Opponent: Oak Park
URL:https://events.excelsiorcitizen.com/event/golf-boys-varsity-vs-oak-park-away/
LOCATION:Paradise Pointe Golf Complex
ATTACH;FMTTYPE=image/jpeg:https://events.excelsiorcitizen.com/wp-content/uploads/2026/03/ESHS-Activities.jpg
END:VEVENT
BEGIN:VEVENT
DTSTART;TZID=America/Chicago:20260413T080000
DTEND;TZID=America/Chicago:20260413T110000
DTSTAMP:20260420T025705
CREATED:20260412T174639Z
LAST-MODIFIED:20260412T174639Z
UID:10004720-1776067200-1776078000@events.excelsiorcitizen.com
SUMMARY:ESHS Golf: Boys JV Tournament vs Kearney
DESCRIPTION:Boys Golf JV Tournament vs Kearney at Marimack Golf Complex
URL:https://events.excelsiorcitizen.com/event/eshs-golf-boys-jv-tournament-vs-kearney/
LOCATION:Marimack Golf Complex
ATTACH;FMTTYPE=image/jpeg:https://events.excelsiorcitizen.com/wp-content/uploads/2024/08/golf-feat-090924.jpg
END:VEVENT
BEGIN:VEVENT
DTSTART;TZID=America/Chicago:20260413T093000
DTEND;TZID=America/Chicago:20260413T110000
DTSTAMP:20260420T025705
CREATED:20260303T045255Z
LAST-MODIFIED:20260303T045255Z
UID:10004574-1776072600-1776078000@events.excelsiorcitizen.com
SUMMARY:Thrive Excelsior Community Resource Fair
DESCRIPTION:Open to all\, come discover local resources available to you.
URL:https://events.excelsiorcitizen.com/event/thrive-excelsior-community-resource-fair/
LOCATION:Good Samaritan Center\, 108 S Thompson Ave\, Excelsior Springs\, MO\, 64024\, United States
ATTACH;FMTTYPE=image/jpeg:https://events.excelsiorcitizen.com/wp-content/uploads/2026/03/645172654_1378566164303822_2995886438762167415_n.jpg
END:VEVENT
BEGIN:VEVENT
DTSTART;TZID=America/Chicago:20260413T110000
DTEND;TZID=America/Chicago:20260413T150000
DTSTAMP:20260420T025705
CREATED:20260412T180559Z
LAST-MODIFIED:20260412T180726Z
UID:10004721-1776078000-1776092400@events.excelsiorcitizen.com
SUMMARY:Toddler Swim
DESCRIPTION:Bring your little ones to enjoy the indoor pool with pool toys and fun aquatic features! FREE for ESCC Members and just $5 for Non-Members (parents/guardians get in free and must be present). Every Monday from 11:00 AM – 3:00 PM​\, Ages 2- 5 Years
URL:https://events.excelsiorcitizen.com/event/toddler-swim-2/2026-04-13/
LOCATION:Excelsior Springs Community Center\, 500 Tiger Dr\, Excelsior Springs\, MO\, United States
ATTACH;FMTTYPE=image/png:https://events.excelsiorcitizen.com/wp-content/uploads/2026/04/toddlerswim-1.png
GEO:39.349002;-94.244358
X-APPLE-STRUCTURED-LOCATION;VALUE=URI;X-ADDRESS=Excelsior Springs Community Center 500 Tiger Dr Excelsior Springs MO United States;X-APPLE-RADIUS=500;X-TITLE=500 Tiger Dr:geo:-94.244358,39.349002
END:VEVENT
BEGIN:VEVENT
DTSTART;TZID=UTC:20260413T133000
DTEND;TZID=UTC:20260414T153000
DTSTAMP:20260420T025705
CREATED:20260103T022448Z
LAST-MODIFIED:20260412T165613Z
UID:10002674-1776087000-1776180600@events.excelsiorcitizen.com
SUMMARY:Soccer: Girls Varsity  vs. Multiple Schools (Home)
DESCRIPTION:Type: Tournament Opponent: North Kansas City\, Oak Park\, Odessa\, Savannah\, St. Joseph Benton\, St. Joseph Lafayette – Multiple Schools
URL:https://events.excelsiorcitizen.com/event/soccer-girls-varsity-vs-north-kansas-cityoak-parkodessasavannahst-joseph-bentonst-joseph-lafayettemultiple-schools-home-2/
LOCATION:Excelsior Springs High School  Tiger Stadium
ATTACH;FMTTYPE=image/jpeg:https://events.excelsiorcitizen.com/wp-content/uploads/2024/08/soccer-feat-090924.jpg
END:VEVENT
BEGIN:VEVENT
DTSTART;TZID=UTC:20260413T160000
DTEND;TZID=UTC:20260413T180000
DTSTAMP:20260420T025705
CREATED:20260103T022508Z
LAST-MODIFIED:20260412T170032Z
UID:10002678-1776096000-1776103200@events.excelsiorcitizen.com
SUMMARY:Baseball: C Gold  vs. St. Joseph Central (Home)
DESCRIPTION:Type: Game Opponent: St. Joseph Central
URL:https://events.excelsiorcitizen.com/event/baseball-c-gold-vs-st-joseph-central-home/
LOCATION:Excelsior Springs High School  Baseball Field 3 (turf)
ATTACH;FMTTYPE=image/jpeg:https://events.excelsiorcitizen.com/wp-content/uploads/2024/03/harlan-baseball-jam-030924.jpg
END:VEVENT
BEGIN:VEVENT
DTSTART;TZID=America/Chicago:20260413T160000
DTEND;TZID=America/Chicago:20260413T200000
DTSTAMP:20260420T025705
CREATED:20260412T162851Z
LAST-MODIFIED:20260412T162851Z
UID:10004713-1776096000-1776110400@events.excelsiorcitizen.com
SUMMARY:Mom's Day Out Monday's
DESCRIPTION: Mom’s Day Out Monday \nMondays aren’t for meetings… they’re reserved for moms.\nAfter a weekend of doing everything for everyone else\, it’s officially your turn to clock out and let loose. Come smash\, splatter\, and shake off the chaos — no kids\, no stress\, no guilt.\nGrab your girls or take a solo reset… either way\, you’re walking out feeling like a whole new woman.\n Because Mondays hit different when they’re made for YOU.\n Call or text to book: 816-946-9062Reservations are required 
URL:https://events.excelsiorcitizen.com/event/moms-day-out-mondays/
LOCATION:Rage Cave\, 215 Spring St\, Excelsior Springs\, MO\, 64024\, United States
ATTACH;FMTTYPE=image/jpeg:https://events.excelsiorcitizen.com/wp-content/uploads/2026/04/RageCave-Moms.jpg
END:VEVENT
BEGIN:VEVENT
DTSTART;TZID=America/Chicago:20260413T180000
DTEND;TZID=America/Chicago:20260413T200000
DTSTAMP:20260420T025705
CREATED:20260413T050948Z
LAST-MODIFIED:20260413T050948Z
UID:10005248-1776103200-1776110400@events.excelsiorcitizen.com
SUMMARY:Hall of Writers April 2026 Meeting
DESCRIPTION:The Hall of Writers offers writers and poets of Excelsior Springs\, MO and surrounding areas with a creative community and support system. They meet the 2nd Monday of every month.
URL:https://events.excelsiorcitizen.com/event/hall-of-writers-april-2026-meeting/2026-04-13/
LOCATION:Other Trails – Coffee & Goods\, 115 E Broadway Ave\, Excelsior Springs\, MO\, 64024\, United States
ATTACH;FMTTYPE=image/jpeg:https://events.excelsiorcitizen.com/wp-content/uploads/2026/04/hall-of-writers.jpeg
END:VEVENT
BEGIN:VEVENT
DTSTART;TZID=America/Chicago:20260413T183000
DTEND;TZID=America/Chicago:20260413T200000
DTSTAMP:20260420T025705
CREATED:20260412T174250Z
LAST-MODIFIED:20260412T174734Z
UID:10004719-1776105000-1776110400@events.excelsiorcitizen.com
SUMMARY:ESHS Boys Basketball Banquet
DESCRIPTION:ESHS Boys Basketball Banquet in HS Commons
URL:https://events.excelsiorcitizen.com/event/eshs-boys-basketball-banquet/
LOCATION:Excelsior Springs High School\, 612 Tiger Drive\, Excelsior Springs\, MO\, 64024\, United States
ATTACH;FMTTYPE=image/jpeg:https://events.excelsiorcitizen.com/wp-content/uploads/2025/12/basketball.jpg
END:VEVENT
BEGIN:VEVENT
DTSTART;TZID=America/Chicago:20260414T100000
DTEND;TZID=America/Chicago:20260414T123000
DTSTAMP:20260420T025705
CREATED:20260407T044138Z
LAST-MODIFIED:20260407T044138Z
UID:10004679-1776160800-1776169800@events.excelsiorcitizen.com
SUMMARY:Senior Farmers Market Nutrition Program Sign Ups
DESCRIPTION:Join us on April 9th or April 14th from 10-12:30 in the Wellness Cafe area at the Excelsior Springs Community Center to sign up for your Senior Farmers Market Nutrition Program. You will receive $50 to spend throughout the season on fresh produce with qualified farmers OR you can sign up to receive a 1 time bag of produce delivered to the Community Center.Income requirements are:1 person household – $2413 monthly2 person household – $3261 monthly
URL:https://events.excelsiorcitizen.com/event/senior-farmers-market-nutrition-program-sign-ups/
LOCATION:Excelsior Springs Community Center\, 500 Tiger Dr\, Excelsior Springs\, MO\, United States
ATTACH;FMTTYPE=image/png:https://events.excelsiorcitizen.com/wp-content/uploads/2026/04/Screenshot-2026-04-06-at-10.51.23-PM.png
GEO:39.349002;-94.244358
X-APPLE-STRUCTURED-LOCATION;VALUE=URI;X-ADDRESS=Excelsior Springs Community Center 500 Tiger Dr Excelsior Springs MO United States;X-APPLE-RADIUS=500;X-TITLE=500 Tiger Dr:geo:-94.244358,39.349002
END:VEVENT
BEGIN:VEVENT
DTSTART;TZID=UTC:20260414T160000
DTEND;TZID=UTC:20260414T190000
DTSTAMP:20260420T025705
CREATED:20260103T022509Z
LAST-MODIFIED:20260412T175019Z
UID:10002682-1776182400-1776193200@events.excelsiorcitizen.com
SUMMARY:Track: MS Invitational - ESMS vs. Multiple Schools (Home)
DESCRIPTION:Type: Invitational Opponent: Excelsior Springs Middle School vs. Lathrop\, Lawson Middle\, Oak Grove Middle\, Plattsburg >Multiple Schools
URL:https://events.excelsiorcitizen.com/event/track-ms-ms-vs-excelsior-springs-middle-school-vs-lathroplawson-middleoak-grove-middleplattsburgmultiple-schools-home/
LOCATION:Excelsior Springs High School  Tiger Stadium
ATTACH;FMTTYPE=image/jpeg:https://events.excelsiorcitizen.com/wp-content/uploads/2026/03/ESHS.jpg
END:VEVENT
BEGIN:VEVENT
DTSTART;TZID=UTC:20260414T160000
DTEND;TZID=UTC:20260414T190000
DTSTAMP:20260420T025705
CREATED:20260103T022509Z
LAST-MODIFIED:20260412T170406Z
UID:10002683-1776182400-1776193200@events.excelsiorcitizen.com
SUMMARY:Baseball: Varsity  vs. William Chrisman (Away)
DESCRIPTION:Type: Tournament Opponent: William Chrisman
URL:https://events.excelsiorcitizen.com/event/baseball-varsity-vs-tba-away-2/
LOCATION:Oak Park Activities Complex
ATTACH;FMTTYPE=image/jpeg:https://events.excelsiorcitizen.com/wp-content/uploads/2024/03/harlan-baseball-jam-3-030924.jpg
END:VEVENT
BEGIN:VEVENT
DTSTART;TZID=UTC:20260414T160000
DTEND;TZID=UTC:20260414T190000
DTSTAMP:20260420T025705
CREATED:20260103T022510Z
LAST-MODIFIED:20260412T170718Z
UID:10002684-1776182400-1776193200@events.excelsiorcitizen.com
SUMMARY:Tennis: Boys Varsity and JV  vs. Ruskin (Home)
DESCRIPTION:Type: Match Opponent: Ruskin
URL:https://events.excelsiorcitizen.com/event/tennis-boys-varsity-vs-ruskin-home/
LOCATION:Excelsior Springs Middle School  Tennis Courts
ATTACH;FMTTYPE=image/jpeg:https://events.excelsiorcitizen.com/wp-content/uploads/2024/08/tennis-feat-090924.jpg
END:VEVENT
BEGIN:VEVENT
DTSTART;TZID=UTC:20260414T160000
DTEND;TZID=UTC:20260414T190000
DTSTAMP:20260420T025705
CREATED:20260223T004555Z
LAST-MODIFIED:20260412T174905Z
UID:10004464-1776182400-1776193200@events.excelsiorcitizen.com
SUMMARY:Baseball: C Gold  vs. Multiple Schools (Away)
DESCRIPTION:Type: Tournament Opponent: Liberty\, Oak Park\, Park Hill\, Park Hill South\, St. Joseph Central\, Staley – Multiple Schools
URL:https://events.excelsiorcitizen.com/event/baseball-c-gold-vs-liberty-oak-park-park-hill-park-hill-south-st-joseph-central-staleymultiple-schools-away/
LOCATION:North Kansas City High School
ATTACH;FMTTYPE=image/jpeg:https://events.excelsiorcitizen.com/wp-content/uploads/2023/06/tigers-baseball-pitch.jpeg
END:VEVENT
BEGIN:VEVENT
DTSTART;TZID=America/Chicago:20260414T160000
DTEND;TZID=America/Chicago:20260414T200000
DTSTAMP:20260420T025705
CREATED:20260412T162433Z
LAST-MODIFIED:20260412T162503Z
UID:10004709-1776182400-1776196800@events.excelsiorcitizen.com
SUMMARY:Tuesday is for the  Kids
DESCRIPTION: Kids Night Tuesday \nTuesdays are for the kids… and letting them go a little wild \nGot energy to burn? Attitudes to adjust? Or just need to get them out of your house for a minute? We got you.\nLet them smash\, splatter\, and make the kind of mess you don’t have to clean up. It’s loud\, it’s messy\, and it’s their new favorite way to blow off steam.\nBring the siblings\, bring their friends — the more chaos\, the better.\n Because bored kids = your problem…Happy\, tired kids = our specialty.\n Call or text to book: 816-946-9062
URL:https://events.excelsiorcitizen.com/event/tuesday-is-for-the-kids/2026-04-14/
LOCATION:Rage Cave\, 215 Spring St\, Excelsior Springs\, MO\, 64024\, United States
ATTACH;FMTTYPE=image/jpeg:https://events.excelsiorcitizen.com/wp-content/uploads/2026/04/RageCave-Tues.jpg
END:VEVENT
BEGIN:VEVENT
DTSTART;TZID=America/Chicago:20260414T183000
DTEND;TZID=America/Chicago:20260414T193000
DTSTAMP:20260420T025705
CREATED:20260217T002652Z
LAST-MODIFIED:20260217T002652Z
UID:10004116-1776191400-1776195000@events.excelsiorcitizen.com
SUMMARY:Financial Peace University
DESCRIPTION:Take a step toward financial confidence and peace of mind.Oasis Outreach Ministries is hosting Financial Peace University\, a practical\, step-by-step course to help you take control of your money and plan for your future.Tuesday eveningsMarch 3 – April 286:30 p.m.Oasis Outreach Ministries\, 108 W. Broadway\, Excelsior SpringsSeating is limited\, so register early at OasisOutreachMO.org and start winning with money.
URL:https://events.excelsiorcitizen.com/event/financial-peace-university/2026-04-14/
LOCATION:Oasis Outreach Ministry\, 108 W Broadway Ave\, Excelsior Springs\, MO\, 64024\, United States
ATTACH;FMTTYPE=image/jpeg:https://events.excelsiorcitizen.com/wp-content/uploads/2026/02/629847948_1407153758120799_4226016857652137779_n-1.jpg
END:VEVENT
BEGIN:VEVENT
DTSTART;TZID=America/Chicago:20260414T190000
DTEND;TZID=America/Chicago:20260414T200000
DTSTAMP:20260420T025705
CREATED:20260217T023150Z
LAST-MODIFIED:20260217T023150Z
UID:10004182-1776193200-1776196800@events.excelsiorcitizen.com
SUMMARY:New Freedom Recovery Program
DESCRIPTION:Join New Freedom Recovery Program on Tuesdays at 7:00pm at Crescent Lake Christian Center\, 1250 St Louis Ave\, Excelsior Springs\, as we journey through “Hope”. Rather than seeking hope within ourself\, find peace in trusting God\, who loves and accepts us unconditionally\, despite our imperfections. Lead me; instruct me; for You are the God who grants me salvation. My hope is solely in You. Psalm 25:5 \nAddictions\, Alcoholism\, Hang-ups\, Depression\, Substance Abuse \nFor more information\, call Steve Waymen 816-377-7226 \n 
URL:https://events.excelsiorcitizen.com/event/new-freedom-recovery-program-3/2026-04-14/
LOCATION:Crescent Lake Christian Center\, 1250 St Louis Ave\, Excelsior Springs\, MO\, 64024\, United States
ATTACH;FMTTYPE=image/jpeg:https://events.excelsiorcitizen.com/wp-content/uploads/2026/02/631611260_10236263434379618_5041821824909759256_n-1.jpg
END:VEVENT
BEGIN:VEVENT
DTSTART;VALUE=DATE:20260415
DTEND;VALUE=DATE:20260417
DTSTAMP:20260420T025705
CREATED:20251120T183114Z
LAST-MODIFIED:20260412T175251Z
UID:10002073-1776218400-1776304799@events.excelsiorcitizen.com
SUMMARY:Tax Day
DESCRIPTION:Observance
URL:https://events.excelsiorcitizen.com/event/tax-day/
LOCATION:MO
ATTACH;FMTTYPE=image/jpeg:https://events.excelsiorcitizen.com/wp-content/uploads/2023/10/tax-levy-feat.jpg
END:VEVENT
BEGIN:VEVENT
DTSTART;TZID=UTC:20260415T090000
DTEND;TZID=UTC:20260415T110000
DTSTAMP:20260420T025705
CREATED:20260103T022510Z
LAST-MODIFIED:20260412T175337Z
UID:10002686-1776243600-1776250800@events.excelsiorcitizen.com
SUMMARY:Tennis: Boys Varsity vs. Multiple Schools (Home)
DESCRIPTION:Type: Tournament Opponent: Cameron\, Carrollton\, Kearney\, Odessa\, Warrensburg\, Winnetonka > Multiple Schools
URL:https://events.excelsiorcitizen.com/event/tennis-boys-varsity-vs-cameroncarrolltonkearneyodessawarrensburgwinnetonkamultiple-schools-home/
LOCATION:Excelsior Springs Middle School  Tennis Courts
ATTACH;FMTTYPE=image/jpeg:https://events.excelsiorcitizen.com/wp-content/uploads/2024/08/tennis-feat-090924.jpg
END:VEVENT
BEGIN:VEVENT
DTSTART;TZID=America/Chicago:20260415T110000
DTEND;TZID=America/Chicago:20260415T150000
DTSTAMP:20260420T025705
CREATED:20260412T181521Z
LAST-MODIFIED:20260412T181521Z
UID:10004982-1776250800-1776265200@events.excelsiorcitizen.com
SUMMARY:Home School Swim
DESCRIPTION:Bring your home school students ages 18 and under to enjoy the indoor pool and all that is has to offer! FREE for ESCC Members and just $5 for Non-Members (parent/guardian gets in free and must be present). Every Wednesday from 11:00 AM- 3:00 PM.
URL:https://events.excelsiorcitizen.com/event/home-school-swim-2/2026-04-15/
LOCATION:Excelsior Springs Community Center\, 500 Tiger Dr\, Excelsior Springs\, MO\, United States
ATTACH;FMTTYPE=image/jpeg:https://events.excelsiorcitizen.com/wp-content/uploads/2026/04/home-school-swim-1.jpg
GEO:39.349002;-94.244358
X-APPLE-STRUCTURED-LOCATION;VALUE=URI;X-ADDRESS=Excelsior Springs Community Center 500 Tiger Dr Excelsior Springs MO United States;X-APPLE-RADIUS=500;X-TITLE=500 Tiger Dr:geo:-94.244358,39.349002
END:VEVENT
BEGIN:VEVENT
DTSTART;TZID=America/Chicago:20260415T144500
DTEND;TZID=America/Chicago:20260415T161500
DTSTAMP:20260420T025705
CREATED:20260322T192039Z
LAST-MODIFIED:20260322T192039Z
UID:10004634-1776264300-1776269700@events.excelsiorcitizen.com
SUMMARY:ESMS Walking Club
DESCRIPTION:Lace up your sneakers and join us for some campus walks after school. If it’s raining\, we will walk inside the middle school. \nStarts at 2:45pm and ends at 4:15pm. You will need your own transportation on Wednesdays. On Thursdays\, you can ride the activity bus if you sign up for tutoring after. \nContact Ms. Smith with any questions. \nDates: 3/25\, 3/26\, 4/8\, 4/9\, 4/15\, 4/22\, 4/23
URL:https://events.excelsiorcitizen.com/event/esms-walking-club/2026-04-15/
LOCATION:Excelsior Springs Middle School – Commons
ATTACH;FMTTYPE=image/jpeg:https://events.excelsiorcitizen.com/wp-content/uploads/2026/03/654424215_1554772193312877_3983473893440786525_n-1.jpg
END:VEVENT
END:VCALENDAR