BEGIN:VCALENDAR
VERSION:2.0
PRODID:-// - ECPv6.15.20//NONSGML v1.0//EN
CALSCALE:GREGORIAN
METHOD:PUBLISH
X-ORIGINAL-URL:https://events.excelsiorcitizen.com
X-WR-CALDESC:Events for 
REFRESH-INTERVAL;VALUE=DURATION:PT1H
X-Robots-Tag:noindex
X-PUBLISHED-TTL:PT1H
BEGIN:VTIMEZONE
TZID:America/Chicago
BEGIN:DAYLIGHT
TZOFFSETFROM:-0600
TZOFFSETTO:-0500
TZNAME:CDT
DTSTART:20290311T080000
END:DAYLIGHT
BEGIN:STANDARD
TZOFFSETFROM:-0500
TZOFFSETTO:-0600
TZNAME:CST
DTSTART:20291104T070000
END:STANDARD
BEGIN:DAYLIGHT
TZOFFSETFROM:-0600
TZOFFSETTO:-0500
TZNAME:CDT
DTSTART:20300310T080000
END:DAYLIGHT
BEGIN:STANDARD
TZOFFSETFROM:-0500
TZOFFSETTO:-0600
TZNAME:CST
DTSTART:20301103T070000
END:STANDARD
BEGIN:DAYLIGHT
TZOFFSETFROM:-0600
TZOFFSETTO:-0500
TZNAME:CDT
DTSTART:20310309T080000
END:DAYLIGHT
BEGIN:STANDARD
TZOFFSETFROM:-0500
TZOFFSETTO:-0600
TZNAME:CST
DTSTART:20311102T070000
END:STANDARD
BEGIN:DAYLIGHT
TZOFFSETFROM:-0600
TZOFFSETTO:-0500
TZNAME:CDT
DTSTART:20320314T080000
END:DAYLIGHT
BEGIN:STANDARD
TZOFFSETFROM:-0500
TZOFFSETTO:-0600
TZNAME:CST
DTSTART:20321107T070000
END:STANDARD
END:VTIMEZONE
BEGIN:VEVENT
DTSTART;TZID=America/Chicago:20301202T110000
DTEND;TZID=America/Chicago:20301202T150000
DTSTAMP:20260422T225002
CREATED:20260412T180559Z
LAST-MODIFIED:20260412T180726Z
UID:10004963-1922439600-1922454000@events.excelsiorcitizen.com
SUMMARY:Toddler Swim
DESCRIPTION:Bring your little ones to enjoy the indoor pool with pool toys and fun aquatic features! FREE for ESCC Members and just $5 for Non-Members (parents/guardians get in free and must be present). Every Monday from 11:00 AM – 3:00 PM​\, Ages 2- 5 Years
URL:https://events.excelsiorcitizen.com/event/toddler-swim-2/2030-12-02/
LOCATION:Excelsior Springs Community Center\, 500 Tiger Dr\, Excelsior Springs\, MO\, United States
ATTACH;FMTTYPE=image/png:https://events.excelsiorcitizen.com/wp-content/uploads/2026/04/toddlerswim-1.png
GEO:39.349002;-94.244358
X-APPLE-STRUCTURED-LOCATION;VALUE=URI;X-ADDRESS=Excelsior Springs Community Center 500 Tiger Dr Excelsior Springs MO United States;X-APPLE-RADIUS=500;X-TITLE=500 Tiger Dr:geo:-94.244358,39.349002
END:VEVENT
BEGIN:VEVENT
DTSTART;TZID=America/Chicago:20301209T110000
DTEND;TZID=America/Chicago:20301209T150000
DTSTAMP:20260422T225002
CREATED:20260412T180559Z
LAST-MODIFIED:20260412T180726Z
UID:10004964-1923044400-1923058800@events.excelsiorcitizen.com
SUMMARY:Toddler Swim
DESCRIPTION:Bring your little ones to enjoy the indoor pool with pool toys and fun aquatic features! FREE for ESCC Members and just $5 for Non-Members (parents/guardians get in free and must be present). Every Monday from 11:00 AM – 3:00 PM​\, Ages 2- 5 Years
URL:https://events.excelsiorcitizen.com/event/toddler-swim-2/2030-12-09/
LOCATION:Excelsior Springs Community Center\, 500 Tiger Dr\, Excelsior Springs\, MO\, United States
ATTACH;FMTTYPE=image/png:https://events.excelsiorcitizen.com/wp-content/uploads/2026/04/toddlerswim-1.png
GEO:39.349002;-94.244358
X-APPLE-STRUCTURED-LOCATION;VALUE=URI;X-ADDRESS=Excelsior Springs Community Center 500 Tiger Dr Excelsior Springs MO United States;X-APPLE-RADIUS=500;X-TITLE=500 Tiger Dr:geo:-94.244358,39.349002
END:VEVENT
BEGIN:VEVENT
DTSTART;TZID=America/Chicago:20301216T110000
DTEND;TZID=America/Chicago:20301216T150000
DTSTAMP:20260422T225002
CREATED:20260412T180559Z
LAST-MODIFIED:20260412T180726Z
UID:10004965-1923649200-1923663600@events.excelsiorcitizen.com
SUMMARY:Toddler Swim
DESCRIPTION:Bring your little ones to enjoy the indoor pool with pool toys and fun aquatic features! FREE for ESCC Members and just $5 for Non-Members (parents/guardians get in free and must be present). Every Monday from 11:00 AM – 3:00 PM​\, Ages 2- 5 Years
URL:https://events.excelsiorcitizen.com/event/toddler-swim-2/2030-12-16/
LOCATION:Excelsior Springs Community Center\, 500 Tiger Dr\, Excelsior Springs\, MO\, United States
ATTACH;FMTTYPE=image/png:https://events.excelsiorcitizen.com/wp-content/uploads/2026/04/toddlerswim-1.png
GEO:39.349002;-94.244358
X-APPLE-STRUCTURED-LOCATION;VALUE=URI;X-ADDRESS=Excelsior Springs Community Center 500 Tiger Dr Excelsior Springs MO United States;X-APPLE-RADIUS=500;X-TITLE=500 Tiger Dr:geo:-94.244358,39.349002
END:VEVENT
BEGIN:VEVENT
DTSTART;TZID=America/Chicago:20301223T110000
DTEND;TZID=America/Chicago:20301223T150000
DTSTAMP:20260422T225002
CREATED:20260412T180559Z
LAST-MODIFIED:20260412T180726Z
UID:10004966-1924254000-1924268400@events.excelsiorcitizen.com
SUMMARY:Toddler Swim
DESCRIPTION:Bring your little ones to enjoy the indoor pool with pool toys and fun aquatic features! FREE for ESCC Members and just $5 for Non-Members (parents/guardians get in free and must be present). Every Monday from 11:00 AM – 3:00 PM​\, Ages 2- 5 Years
URL:https://events.excelsiorcitizen.com/event/toddler-swim-2/2030-12-23/
LOCATION:Excelsior Springs Community Center\, 500 Tiger Dr\, Excelsior Springs\, MO\, United States
ATTACH;FMTTYPE=image/png:https://events.excelsiorcitizen.com/wp-content/uploads/2026/04/toddlerswim-1.png
GEO:39.349002;-94.244358
X-APPLE-STRUCTURED-LOCATION;VALUE=URI;X-ADDRESS=Excelsior Springs Community Center 500 Tiger Dr Excelsior Springs MO United States;X-APPLE-RADIUS=500;X-TITLE=500 Tiger Dr:geo:-94.244358,39.349002
END:VEVENT
BEGIN:VEVENT
DTSTART;TZID=America/Chicago:20301230T110000
DTEND;TZID=America/Chicago:20301230T150000
DTSTAMP:20260422T225002
CREATED:20260412T180559Z
LAST-MODIFIED:20260412T180726Z
UID:10004967-1924858800-1924873200@events.excelsiorcitizen.com
SUMMARY:Toddler Swim
DESCRIPTION:Bring your little ones to enjoy the indoor pool with pool toys and fun aquatic features! FREE for ESCC Members and just $5 for Non-Members (parents/guardians get in free and must be present). Every Monday from 11:00 AM – 3:00 PM​\, Ages 2- 5 Years
URL:https://events.excelsiorcitizen.com/event/toddler-swim-2/2030-12-30/
LOCATION:Excelsior Springs Community Center\, 500 Tiger Dr\, Excelsior Springs\, MO\, United States
ATTACH;FMTTYPE=image/png:https://events.excelsiorcitizen.com/wp-content/uploads/2026/04/toddlerswim-1.png
GEO:39.349002;-94.244358
X-APPLE-STRUCTURED-LOCATION;VALUE=URI;X-ADDRESS=Excelsior Springs Community Center 500 Tiger Dr Excelsior Springs MO United States;X-APPLE-RADIUS=500;X-TITLE=500 Tiger Dr:geo:-94.244358,39.349002
END:VEVENT
BEGIN:VEVENT
DTSTART;TZID=America/Chicago:20310106T110000
DTEND;TZID=America/Chicago:20310106T150000
DTSTAMP:20260422T225002
CREATED:20260412T180559Z
LAST-MODIFIED:20260412T180726Z
UID:10004968-1925463600-1925478000@events.excelsiorcitizen.com
SUMMARY:Toddler Swim
DESCRIPTION:Bring your little ones to enjoy the indoor pool with pool toys and fun aquatic features! FREE for ESCC Members and just $5 for Non-Members (parents/guardians get in free and must be present). Every Monday from 11:00 AM – 3:00 PM​\, Ages 2- 5 Years
URL:https://events.excelsiorcitizen.com/event/toddler-swim-2/2031-01-06/
LOCATION:Excelsior Springs Community Center\, 500 Tiger Dr\, Excelsior Springs\, MO\, United States
ATTACH;FMTTYPE=image/png:https://events.excelsiorcitizen.com/wp-content/uploads/2026/04/toddlerswim-1.png
GEO:39.349002;-94.244358
X-APPLE-STRUCTURED-LOCATION;VALUE=URI;X-ADDRESS=Excelsior Springs Community Center 500 Tiger Dr Excelsior Springs MO United States;X-APPLE-RADIUS=500;X-TITLE=500 Tiger Dr:geo:-94.244358,39.349002
END:VEVENT
BEGIN:VEVENT
DTSTART;TZID=America/Chicago:20310113T110000
DTEND;TZID=America/Chicago:20310113T150000
DTSTAMP:20260422T225002
CREATED:20260412T180559Z
LAST-MODIFIED:20260412T180726Z
UID:10004969-1926068400-1926082800@events.excelsiorcitizen.com
SUMMARY:Toddler Swim
DESCRIPTION:Bring your little ones to enjoy the indoor pool with pool toys and fun aquatic features! FREE for ESCC Members and just $5 for Non-Members (parents/guardians get in free and must be present). Every Monday from 11:00 AM – 3:00 PM​\, Ages 2- 5 Years
URL:https://events.excelsiorcitizen.com/event/toddler-swim-2/2031-01-13/
LOCATION:Excelsior Springs Community Center\, 500 Tiger Dr\, Excelsior Springs\, MO\, United States
ATTACH;FMTTYPE=image/png:https://events.excelsiorcitizen.com/wp-content/uploads/2026/04/toddlerswim-1.png
GEO:39.349002;-94.244358
X-APPLE-STRUCTURED-LOCATION;VALUE=URI;X-ADDRESS=Excelsior Springs Community Center 500 Tiger Dr Excelsior Springs MO United States;X-APPLE-RADIUS=500;X-TITLE=500 Tiger Dr:geo:-94.244358,39.349002
END:VEVENT
BEGIN:VEVENT
DTSTART;TZID=America/Chicago:20310120T110000
DTEND;TZID=America/Chicago:20310120T150000
DTSTAMP:20260422T225002
CREATED:20260412T180559Z
LAST-MODIFIED:20260412T180726Z
UID:10004970-1926673200-1926687600@events.excelsiorcitizen.com
SUMMARY:Toddler Swim
DESCRIPTION:Bring your little ones to enjoy the indoor pool with pool toys and fun aquatic features! FREE for ESCC Members and just $5 for Non-Members (parents/guardians get in free and must be present). Every Monday from 11:00 AM – 3:00 PM​\, Ages 2- 5 Years
URL:https://events.excelsiorcitizen.com/event/toddler-swim-2/2031-01-20/
LOCATION:Excelsior Springs Community Center\, 500 Tiger Dr\, Excelsior Springs\, MO\, United States
ATTACH;FMTTYPE=image/png:https://events.excelsiorcitizen.com/wp-content/uploads/2026/04/toddlerswim-1.png
GEO:39.349002;-94.244358
X-APPLE-STRUCTURED-LOCATION;VALUE=URI;X-ADDRESS=Excelsior Springs Community Center 500 Tiger Dr Excelsior Springs MO United States;X-APPLE-RADIUS=500;X-TITLE=500 Tiger Dr:geo:-94.244358,39.349002
END:VEVENT
BEGIN:VEVENT
DTSTART;TZID=America/Chicago:20310127T110000
DTEND;TZID=America/Chicago:20310127T150000
DTSTAMP:20260422T225002
CREATED:20260412T180559Z
LAST-MODIFIED:20260412T180726Z
UID:10004971-1927278000-1927292400@events.excelsiorcitizen.com
SUMMARY:Toddler Swim
DESCRIPTION:Bring your little ones to enjoy the indoor pool with pool toys and fun aquatic features! FREE for ESCC Members and just $5 for Non-Members (parents/guardians get in free and must be present). Every Monday from 11:00 AM – 3:00 PM​\, Ages 2- 5 Years
URL:https://events.excelsiorcitizen.com/event/toddler-swim-2/2031-01-27/
LOCATION:Excelsior Springs Community Center\, 500 Tiger Dr\, Excelsior Springs\, MO\, United States
ATTACH;FMTTYPE=image/png:https://events.excelsiorcitizen.com/wp-content/uploads/2026/04/toddlerswim-1.png
GEO:39.349002;-94.244358
X-APPLE-STRUCTURED-LOCATION;VALUE=URI;X-ADDRESS=Excelsior Springs Community Center 500 Tiger Dr Excelsior Springs MO United States;X-APPLE-RADIUS=500;X-TITLE=500 Tiger Dr:geo:-94.244358,39.349002
END:VEVENT
BEGIN:VEVENT
DTSTART;TZID=America/Chicago:20310203T110000
DTEND;TZID=America/Chicago:20310203T150000
DTSTAMP:20260422T225002
CREATED:20260412T180559Z
LAST-MODIFIED:20260412T180726Z
UID:10004972-1927882800-1927897200@events.excelsiorcitizen.com
SUMMARY:Toddler Swim
DESCRIPTION:Bring your little ones to enjoy the indoor pool with pool toys and fun aquatic features! FREE for ESCC Members and just $5 for Non-Members (parents/guardians get in free and must be present). Every Monday from 11:00 AM – 3:00 PM​\, Ages 2- 5 Years
URL:https://events.excelsiorcitizen.com/event/toddler-swim-2/2031-02-03/
LOCATION:Excelsior Springs Community Center\, 500 Tiger Dr\, Excelsior Springs\, MO\, United States
ATTACH;FMTTYPE=image/png:https://events.excelsiorcitizen.com/wp-content/uploads/2026/04/toddlerswim-1.png
GEO:39.349002;-94.244358
X-APPLE-STRUCTURED-LOCATION;VALUE=URI;X-ADDRESS=Excelsior Springs Community Center 500 Tiger Dr Excelsior Springs MO United States;X-APPLE-RADIUS=500;X-TITLE=500 Tiger Dr:geo:-94.244358,39.349002
END:VEVENT
BEGIN:VEVENT
DTSTART;TZID=America/Chicago:20310210T110000
DTEND;TZID=America/Chicago:20310210T150000
DTSTAMP:20260422T225002
CREATED:20260412T180559Z
LAST-MODIFIED:20260412T180726Z
UID:10004973-1928487600-1928502000@events.excelsiorcitizen.com
SUMMARY:Toddler Swim
DESCRIPTION:Bring your little ones to enjoy the indoor pool with pool toys and fun aquatic features! FREE for ESCC Members and just $5 for Non-Members (parents/guardians get in free and must be present). Every Monday from 11:00 AM – 3:00 PM​\, Ages 2- 5 Years
URL:https://events.excelsiorcitizen.com/event/toddler-swim-2/2031-02-10/
LOCATION:Excelsior Springs Community Center\, 500 Tiger Dr\, Excelsior Springs\, MO\, United States
ATTACH;FMTTYPE=image/png:https://events.excelsiorcitizen.com/wp-content/uploads/2026/04/toddlerswim-1.png
GEO:39.349002;-94.244358
X-APPLE-STRUCTURED-LOCATION;VALUE=URI;X-ADDRESS=Excelsior Springs Community Center 500 Tiger Dr Excelsior Springs MO United States;X-APPLE-RADIUS=500;X-TITLE=500 Tiger Dr:geo:-94.244358,39.349002
END:VEVENT
BEGIN:VEVENT
DTSTART;TZID=America/Chicago:20310217T110000
DTEND;TZID=America/Chicago:20310217T150000
DTSTAMP:20260422T225002
CREATED:20260412T180559Z
LAST-MODIFIED:20260412T180726Z
UID:10004974-1929092400-1929106800@events.excelsiorcitizen.com
SUMMARY:Toddler Swim
DESCRIPTION:Bring your little ones to enjoy the indoor pool with pool toys and fun aquatic features! FREE for ESCC Members and just $5 for Non-Members (parents/guardians get in free and must be present). Every Monday from 11:00 AM – 3:00 PM​\, Ages 2- 5 Years
URL:https://events.excelsiorcitizen.com/event/toddler-swim-2/2031-02-17/
LOCATION:Excelsior Springs Community Center\, 500 Tiger Dr\, Excelsior Springs\, MO\, United States
ATTACH;FMTTYPE=image/png:https://events.excelsiorcitizen.com/wp-content/uploads/2026/04/toddlerswim-1.png
GEO:39.349002;-94.244358
X-APPLE-STRUCTURED-LOCATION;VALUE=URI;X-ADDRESS=Excelsior Springs Community Center 500 Tiger Dr Excelsior Springs MO United States;X-APPLE-RADIUS=500;X-TITLE=500 Tiger Dr:geo:-94.244358,39.349002
END:VEVENT
BEGIN:VEVENT
DTSTART;TZID=America/Chicago:20310224T110000
DTEND;TZID=America/Chicago:20310224T150000
DTSTAMP:20260422T225002
CREATED:20260412T180559Z
LAST-MODIFIED:20260412T180726Z
UID:10004975-1929697200-1929711600@events.excelsiorcitizen.com
SUMMARY:Toddler Swim
DESCRIPTION:Bring your little ones to enjoy the indoor pool with pool toys and fun aquatic features! FREE for ESCC Members and just $5 for Non-Members (parents/guardians get in free and must be present). Every Monday from 11:00 AM – 3:00 PM​\, Ages 2- 5 Years
URL:https://events.excelsiorcitizen.com/event/toddler-swim-2/2031-02-24/
LOCATION:Excelsior Springs Community Center\, 500 Tiger Dr\, Excelsior Springs\, MO\, United States
ATTACH;FMTTYPE=image/png:https://events.excelsiorcitizen.com/wp-content/uploads/2026/04/toddlerswim-1.png
GEO:39.349002;-94.244358
X-APPLE-STRUCTURED-LOCATION;VALUE=URI;X-ADDRESS=Excelsior Springs Community Center 500 Tiger Dr Excelsior Springs MO United States;X-APPLE-RADIUS=500;X-TITLE=500 Tiger Dr:geo:-94.244358,39.349002
END:VEVENT
BEGIN:VEVENT
DTSTART;TZID=America/Chicago:20310303T110000
DTEND;TZID=America/Chicago:20310303T150000
DTSTAMP:20260422T225002
CREATED:20260412T180559Z
LAST-MODIFIED:20260412T180726Z
UID:10004976-1930302000-1930316400@events.excelsiorcitizen.com
SUMMARY:Toddler Swim
DESCRIPTION:Bring your little ones to enjoy the indoor pool with pool toys and fun aquatic features! FREE for ESCC Members and just $5 for Non-Members (parents/guardians get in free and must be present). Every Monday from 11:00 AM – 3:00 PM​\, Ages 2- 5 Years
URL:https://events.excelsiorcitizen.com/event/toddler-swim-2/2031-03-03/
LOCATION:Excelsior Springs Community Center\, 500 Tiger Dr\, Excelsior Springs\, MO\, United States
ATTACH;FMTTYPE=image/png:https://events.excelsiorcitizen.com/wp-content/uploads/2026/04/toddlerswim-1.png
GEO:39.349002;-94.244358
X-APPLE-STRUCTURED-LOCATION;VALUE=URI;X-ADDRESS=Excelsior Springs Community Center 500 Tiger Dr Excelsior Springs MO United States;X-APPLE-RADIUS=500;X-TITLE=500 Tiger Dr:geo:-94.244358,39.349002
END:VEVENT
BEGIN:VEVENT
DTSTART;TZID=America/Chicago:20310310T110000
DTEND;TZID=America/Chicago:20310310T150000
DTSTAMP:20260422T225002
CREATED:20260412T180559Z
LAST-MODIFIED:20260412T180726Z
UID:10004977-1930906800-1930921200@events.excelsiorcitizen.com
SUMMARY:Toddler Swim
DESCRIPTION:Bring your little ones to enjoy the indoor pool with pool toys and fun aquatic features! FREE for ESCC Members and just $5 for Non-Members (parents/guardians get in free and must be present). Every Monday from 11:00 AM – 3:00 PM​\, Ages 2- 5 Years
URL:https://events.excelsiorcitizen.com/event/toddler-swim-2/2031-03-10/
LOCATION:Excelsior Springs Community Center\, 500 Tiger Dr\, Excelsior Springs\, MO\, United States
ATTACH;FMTTYPE=image/png:https://events.excelsiorcitizen.com/wp-content/uploads/2026/04/toddlerswim-1.png
GEO:39.349002;-94.244358
X-APPLE-STRUCTURED-LOCATION;VALUE=URI;X-ADDRESS=Excelsior Springs Community Center 500 Tiger Dr Excelsior Springs MO United States;X-APPLE-RADIUS=500;X-TITLE=500 Tiger Dr:geo:-94.244358,39.349002
END:VEVENT
BEGIN:VEVENT
DTSTART;TZID=America/Chicago:20310317T110000
DTEND;TZID=America/Chicago:20310317T150000
DTSTAMP:20260422T225002
CREATED:20260412T180559Z
LAST-MODIFIED:20260412T180726Z
UID:10004978-1931511600-1931526000@events.excelsiorcitizen.com
SUMMARY:Toddler Swim
DESCRIPTION:Bring your little ones to enjoy the indoor pool with pool toys and fun aquatic features! FREE for ESCC Members and just $5 for Non-Members (parents/guardians get in free and must be present). Every Monday from 11:00 AM – 3:00 PM​\, Ages 2- 5 Years
URL:https://events.excelsiorcitizen.com/event/toddler-swim-2/2031-03-17/
LOCATION:Excelsior Springs Community Center\, 500 Tiger Dr\, Excelsior Springs\, MO\, United States
ATTACH;FMTTYPE=image/png:https://events.excelsiorcitizen.com/wp-content/uploads/2026/04/toddlerswim-1.png
GEO:39.349002;-94.244358
X-APPLE-STRUCTURED-LOCATION;VALUE=URI;X-ADDRESS=Excelsior Springs Community Center 500 Tiger Dr Excelsior Springs MO United States;X-APPLE-RADIUS=500;X-TITLE=500 Tiger Dr:geo:-94.244358,39.349002
END:VEVENT
BEGIN:VEVENT
DTSTART;TZID=America/Chicago:20310324T110000
DTEND;TZID=America/Chicago:20310324T150000
DTSTAMP:20260422T225002
CREATED:20260412T180559Z
LAST-MODIFIED:20260412T180726Z
UID:10004979-1932116400-1932130800@events.excelsiorcitizen.com
SUMMARY:Toddler Swim
DESCRIPTION:Bring your little ones to enjoy the indoor pool with pool toys and fun aquatic features! FREE for ESCC Members and just $5 for Non-Members (parents/guardians get in free and must be present). Every Monday from 11:00 AM – 3:00 PM​\, Ages 2- 5 Years
URL:https://events.excelsiorcitizen.com/event/toddler-swim-2/2031-03-24/
LOCATION:Excelsior Springs Community Center\, 500 Tiger Dr\, Excelsior Springs\, MO\, United States
ATTACH;FMTTYPE=image/png:https://events.excelsiorcitizen.com/wp-content/uploads/2026/04/toddlerswim-1.png
GEO:39.349002;-94.244358
X-APPLE-STRUCTURED-LOCATION;VALUE=URI;X-ADDRESS=Excelsior Springs Community Center 500 Tiger Dr Excelsior Springs MO United States;X-APPLE-RADIUS=500;X-TITLE=500 Tiger Dr:geo:-94.244358,39.349002
END:VEVENT
BEGIN:VEVENT
DTSTART;TZID=America/Chicago:20310331T110000
DTEND;TZID=America/Chicago:20310331T150000
DTSTAMP:20260422T225002
CREATED:20260412T180559Z
LAST-MODIFIED:20260412T180726Z
UID:10004980-1932721200-1932735600@events.excelsiorcitizen.com
SUMMARY:Toddler Swim
DESCRIPTION:Bring your little ones to enjoy the indoor pool with pool toys and fun aquatic features! FREE for ESCC Members and just $5 for Non-Members (parents/guardians get in free and must be present). Every Monday from 11:00 AM – 3:00 PM​\, Ages 2- 5 Years
URL:https://events.excelsiorcitizen.com/event/toddler-swim-2/2031-03-31/
LOCATION:Excelsior Springs Community Center\, 500 Tiger Dr\, Excelsior Springs\, MO\, United States
ATTACH;FMTTYPE=image/png:https://events.excelsiorcitizen.com/wp-content/uploads/2026/04/toddlerswim-1.png
GEO:39.349002;-94.244358
X-APPLE-STRUCTURED-LOCATION;VALUE=URI;X-ADDRESS=Excelsior Springs Community Center 500 Tiger Dr Excelsior Springs MO United States;X-APPLE-RADIUS=500;X-TITLE=500 Tiger Dr:geo:-94.244358,39.349002
END:VEVENT
BEGIN:VEVENT
DTSTART;TZID=America/Chicago:20310407T110000
DTEND;TZID=America/Chicago:20310407T150000
DTSTAMP:20260422T225002
CREATED:20260412T180559Z
LAST-MODIFIED:20260412T180726Z
UID:10004981-1933326000-1933340400@events.excelsiorcitizen.com
SUMMARY:Toddler Swim
DESCRIPTION:Bring your little ones to enjoy the indoor pool with pool toys and fun aquatic features! FREE for ESCC Members and just $5 for Non-Members (parents/guardians get in free and must be present). Every Monday from 11:00 AM – 3:00 PM​\, Ages 2- 5 Years
URL:https://events.excelsiorcitizen.com/event/toddler-swim-2/2031-04-07/
LOCATION:Excelsior Springs Community Center\, 500 Tiger Dr\, Excelsior Springs\, MO\, United States
ATTACH;FMTTYPE=image/png:https://events.excelsiorcitizen.com/wp-content/uploads/2026/04/toddlerswim-1.png
GEO:39.349002;-94.244358
X-APPLE-STRUCTURED-LOCATION;VALUE=URI;X-ADDRESS=Excelsior Springs Community Center 500 Tiger Dr Excelsior Springs MO United States;X-APPLE-RADIUS=500;X-TITLE=500 Tiger Dr:geo:-94.244358,39.349002
END:VEVENT
END:VCALENDAR