BEGIN:VCALENDAR
VERSION:2.0
PRODID:-// - ECPv6.15.20//NONSGML v1.0//EN
CALSCALE:GREGORIAN
METHOD:PUBLISH
X-ORIGINAL-URL:https://events.excelsiorcitizen.com
X-WR-CALDESC:Events for 
REFRESH-INTERVAL;VALUE=DURATION:PT1H
X-Robots-Tag:noindex
X-PUBLISHED-TTL:PT1H
BEGIN:VTIMEZONE
TZID:America/Chicago
BEGIN:DAYLIGHT
TZOFFSETFROM:-0600
TZOFFSETTO:-0500
TZNAME:CDT
DTSTART:20250309T080000
END:DAYLIGHT
BEGIN:STANDARD
TZOFFSETFROM:-0500
TZOFFSETTO:-0600
TZNAME:CST
DTSTART:20251102T070000
END:STANDARD
BEGIN:DAYLIGHT
TZOFFSETFROM:-0600
TZOFFSETTO:-0500
TZNAME:CDT
DTSTART:20260308T080000
END:DAYLIGHT
BEGIN:STANDARD
TZOFFSETFROM:-0500
TZOFFSETTO:-0600
TZNAME:CST
DTSTART:20261101T070000
END:STANDARD
BEGIN:DAYLIGHT
TZOFFSETFROM:-0600
TZOFFSETTO:-0500
TZNAME:CDT
DTSTART:20270314T080000
END:DAYLIGHT
BEGIN:STANDARD
TZOFFSETFROM:-0500
TZOFFSETTO:-0600
TZNAME:CST
DTSTART:20271107T070000
END:STANDARD
BEGIN:DAYLIGHT
TZOFFSETFROM:-0600
TZOFFSETTO:-0500
TZNAME:CDT
DTSTART:20280312T080000
END:DAYLIGHT
BEGIN:STANDARD
TZOFFSETFROM:-0500
TZOFFSETTO:-0600
TZNAME:CST
DTSTART:20281105T070000
END:STANDARD
BEGIN:DAYLIGHT
TZOFFSETFROM:-0600
TZOFFSETTO:-0500
TZNAME:CDT
DTSTART:20290311T080000
END:DAYLIGHT
BEGIN:STANDARD
TZOFFSETFROM:-0500
TZOFFSETTO:-0600
TZNAME:CST
DTSTART:20291104T070000
END:STANDARD
END:VTIMEZONE
BEGIN:VEVENT
DTSTART;TZID=America/Chicago:20260521T190000
DTEND;TZID=America/Chicago:20260521T210000
DTSTAMP:20260421T065303
CREATED:20260413T051227Z
LAST-MODIFIED:20260413T051227Z
UID:10005309-1779390000-1779397200@events.excelsiorcitizen.com
SUMMARY:Karaoke Night at The Atlas Saloon
DESCRIPTION:Karaoke this week at The Atlas Saloon from 7-9pm. Come hang out with us for a couple hours. Singers and spectators are all welcome. Come support local and show them some love. 
URL:https://events.excelsiorcitizen.com/event/karaoke-night-at-the-atlas-saloon-2/2026-05-21/
LOCATION:The Atlas Saloon\, 100 W Broadway Ave\, Excelsior Springs\, MO\, 64024\, United States
ATTACH;FMTTYPE=image/jpeg:https://events.excelsiorcitizen.com/wp-content/uploads/2026/04/KaraokeNight.jpg
END:VEVENT
BEGIN:VEVENT
DTSTART;TZID=America/Chicago:20260618T190000
DTEND;TZID=America/Chicago:20260618T210000
DTSTAMP:20260421T065303
CREATED:20260413T051227Z
LAST-MODIFIED:20260413T051227Z
UID:10005310-1781809200-1781816400@events.excelsiorcitizen.com
SUMMARY:Karaoke Night at The Atlas Saloon
DESCRIPTION:Karaoke this week at The Atlas Saloon from 7-9pm. Come hang out with us for a couple hours. Singers and spectators are all welcome. Come support local and show them some love. 
URL:https://events.excelsiorcitizen.com/event/karaoke-night-at-the-atlas-saloon-2/2026-06-18/
LOCATION:The Atlas Saloon\, 100 W Broadway Ave\, Excelsior Springs\, MO\, 64024\, United States
ATTACH;FMTTYPE=image/jpeg:https://events.excelsiorcitizen.com/wp-content/uploads/2026/04/KaraokeNight.jpg
END:VEVENT
BEGIN:VEVENT
DTSTART;TZID=America/Chicago:20260716T190000
DTEND;TZID=America/Chicago:20260716T210000
DTSTAMP:20260421T065303
CREATED:20260413T051227Z
LAST-MODIFIED:20260413T051227Z
UID:10005311-1784228400-1784235600@events.excelsiorcitizen.com
SUMMARY:Karaoke Night at The Atlas Saloon
DESCRIPTION:Karaoke this week at The Atlas Saloon from 7-9pm. Come hang out with us for a couple hours. Singers and spectators are all welcome. Come support local and show them some love. 
URL:https://events.excelsiorcitizen.com/event/karaoke-night-at-the-atlas-saloon-2/2026-07-16/
LOCATION:The Atlas Saloon\, 100 W Broadway Ave\, Excelsior Springs\, MO\, 64024\, United States
ATTACH;FMTTYPE=image/jpeg:https://events.excelsiorcitizen.com/wp-content/uploads/2026/04/KaraokeNight.jpg
END:VEVENT
BEGIN:VEVENT
DTSTART;TZID=America/Chicago:20260820T190000
DTEND;TZID=America/Chicago:20260820T210000
DTSTAMP:20260421T065303
CREATED:20260413T051227Z
LAST-MODIFIED:20260413T051227Z
UID:10005312-1787252400-1787259600@events.excelsiorcitizen.com
SUMMARY:Karaoke Night at The Atlas Saloon
DESCRIPTION:Karaoke this week at The Atlas Saloon from 7-9pm. Come hang out with us for a couple hours. Singers and spectators are all welcome. Come support local and show them some love. 
URL:https://events.excelsiorcitizen.com/event/karaoke-night-at-the-atlas-saloon-2/2026-08-20/
LOCATION:The Atlas Saloon\, 100 W Broadway Ave\, Excelsior Springs\, MO\, 64024\, United States
ATTACH;FMTTYPE=image/jpeg:https://events.excelsiorcitizen.com/wp-content/uploads/2026/04/KaraokeNight.jpg
END:VEVENT
BEGIN:VEVENT
DTSTART;TZID=America/Chicago:20260917T190000
DTEND;TZID=America/Chicago:20260917T210000
DTSTAMP:20260421T065303
CREATED:20260413T051227Z
LAST-MODIFIED:20260413T051227Z
UID:10005313-1789671600-1789678800@events.excelsiorcitizen.com
SUMMARY:Karaoke Night at The Atlas Saloon
DESCRIPTION:Karaoke this week at The Atlas Saloon from 7-9pm. Come hang out with us for a couple hours. Singers and spectators are all welcome. Come support local and show them some love. 
URL:https://events.excelsiorcitizen.com/event/karaoke-night-at-the-atlas-saloon-2/2026-09-17/
LOCATION:The Atlas Saloon\, 100 W Broadway Ave\, Excelsior Springs\, MO\, 64024\, United States
ATTACH;FMTTYPE=image/jpeg:https://events.excelsiorcitizen.com/wp-content/uploads/2026/04/KaraokeNight.jpg
END:VEVENT
BEGIN:VEVENT
DTSTART;TZID=America/Chicago:20261015T190000
DTEND;TZID=America/Chicago:20261015T210000
DTSTAMP:20260421T065303
CREATED:20260413T051227Z
LAST-MODIFIED:20260413T051227Z
UID:10005314-1792090800-1792098000@events.excelsiorcitizen.com
SUMMARY:Karaoke Night at The Atlas Saloon
DESCRIPTION:Karaoke this week at The Atlas Saloon from 7-9pm. Come hang out with us for a couple hours. Singers and spectators are all welcome. Come support local and show them some love. 
URL:https://events.excelsiorcitizen.com/event/karaoke-night-at-the-atlas-saloon-2/2026-10-15/
LOCATION:The Atlas Saloon\, 100 W Broadway Ave\, Excelsior Springs\, MO\, 64024\, United States
ATTACH;FMTTYPE=image/jpeg:https://events.excelsiorcitizen.com/wp-content/uploads/2026/04/KaraokeNight.jpg
END:VEVENT
BEGIN:VEVENT
DTSTART;TZID=America/Chicago:20261119T190000
DTEND;TZID=America/Chicago:20261119T210000
DTSTAMP:20260421T065303
CREATED:20260413T051227Z
LAST-MODIFIED:20260413T051227Z
UID:10005315-1795114800-1795122000@events.excelsiorcitizen.com
SUMMARY:Karaoke Night at The Atlas Saloon
DESCRIPTION:Karaoke this week at The Atlas Saloon from 7-9pm. Come hang out with us for a couple hours. Singers and spectators are all welcome. Come support local and show them some love. 
URL:https://events.excelsiorcitizen.com/event/karaoke-night-at-the-atlas-saloon-2/2026-11-19/
LOCATION:The Atlas Saloon\, 100 W Broadway Ave\, Excelsior Springs\, MO\, 64024\, United States
ATTACH;FMTTYPE=image/jpeg:https://events.excelsiorcitizen.com/wp-content/uploads/2026/04/KaraokeNight.jpg
END:VEVENT
BEGIN:VEVENT
DTSTART;TZID=America/Chicago:20261217T190000
DTEND;TZID=America/Chicago:20261217T210000
DTSTAMP:20260421T065303
CREATED:20260413T051227Z
LAST-MODIFIED:20260413T051227Z
UID:10005316-1797534000-1797541200@events.excelsiorcitizen.com
SUMMARY:Karaoke Night at The Atlas Saloon
DESCRIPTION:Karaoke this week at The Atlas Saloon from 7-9pm. Come hang out with us for a couple hours. Singers and spectators are all welcome. Come support local and show them some love. 
URL:https://events.excelsiorcitizen.com/event/karaoke-night-at-the-atlas-saloon-2/2026-12-17/
LOCATION:The Atlas Saloon\, 100 W Broadway Ave\, Excelsior Springs\, MO\, 64024\, United States
ATTACH;FMTTYPE=image/jpeg:https://events.excelsiorcitizen.com/wp-content/uploads/2026/04/KaraokeNight.jpg
END:VEVENT
BEGIN:VEVENT
DTSTART;TZID=America/Chicago:20270121T190000
DTEND;TZID=America/Chicago:20270121T210000
DTSTAMP:20260421T065303
CREATED:20260413T051227Z
LAST-MODIFIED:20260413T051227Z
UID:10005317-1800558000-1800565200@events.excelsiorcitizen.com
SUMMARY:Karaoke Night at The Atlas Saloon
DESCRIPTION:Karaoke this week at The Atlas Saloon from 7-9pm. Come hang out with us for a couple hours. Singers and spectators are all welcome. Come support local and show them some love. 
URL:https://events.excelsiorcitizen.com/event/karaoke-night-at-the-atlas-saloon-2/2027-01-21/
LOCATION:The Atlas Saloon\, 100 W Broadway Ave\, Excelsior Springs\, MO\, 64024\, United States
ATTACH;FMTTYPE=image/jpeg:https://events.excelsiorcitizen.com/wp-content/uploads/2026/04/KaraokeNight.jpg
END:VEVENT
BEGIN:VEVENT
DTSTART;TZID=America/Chicago:20270218T190000
DTEND;TZID=America/Chicago:20270218T210000
DTSTAMP:20260421T065303
CREATED:20260413T051227Z
LAST-MODIFIED:20260413T051227Z
UID:10005318-1802977200-1802984400@events.excelsiorcitizen.com
SUMMARY:Karaoke Night at The Atlas Saloon
DESCRIPTION:Karaoke this week at The Atlas Saloon from 7-9pm. Come hang out with us for a couple hours. Singers and spectators are all welcome. Come support local and show them some love. 
URL:https://events.excelsiorcitizen.com/event/karaoke-night-at-the-atlas-saloon-2/2027-02-18/
LOCATION:The Atlas Saloon\, 100 W Broadway Ave\, Excelsior Springs\, MO\, 64024\, United States
ATTACH;FMTTYPE=image/jpeg:https://events.excelsiorcitizen.com/wp-content/uploads/2026/04/KaraokeNight.jpg
END:VEVENT
BEGIN:VEVENT
DTSTART;TZID=America/Chicago:20270318T190000
DTEND;TZID=America/Chicago:20270318T210000
DTSTAMP:20260421T065303
CREATED:20260413T051227Z
LAST-MODIFIED:20260413T051227Z
UID:10005319-1805396400-1805403600@events.excelsiorcitizen.com
SUMMARY:Karaoke Night at The Atlas Saloon
DESCRIPTION:Karaoke this week at The Atlas Saloon from 7-9pm. Come hang out with us for a couple hours. Singers and spectators are all welcome. Come support local and show them some love. 
URL:https://events.excelsiorcitizen.com/event/karaoke-night-at-the-atlas-saloon-2/2027-03-18/
LOCATION:The Atlas Saloon\, 100 W Broadway Ave\, Excelsior Springs\, MO\, 64024\, United States
ATTACH;FMTTYPE=image/jpeg:https://events.excelsiorcitizen.com/wp-content/uploads/2026/04/KaraokeNight.jpg
END:VEVENT
BEGIN:VEVENT
DTSTART;TZID=America/Chicago:20270415T190000
DTEND;TZID=America/Chicago:20270415T210000
DTSTAMP:20260421T065303
CREATED:20260413T051227Z
LAST-MODIFIED:20260413T051227Z
UID:10005320-1807815600-1807822800@events.excelsiorcitizen.com
SUMMARY:Karaoke Night at The Atlas Saloon
DESCRIPTION:Karaoke this week at The Atlas Saloon from 7-9pm. Come hang out with us for a couple hours. Singers and spectators are all welcome. Come support local and show them some love. 
URL:https://events.excelsiorcitizen.com/event/karaoke-night-at-the-atlas-saloon-2/2027-04-15/
LOCATION:The Atlas Saloon\, 100 W Broadway Ave\, Excelsior Springs\, MO\, 64024\, United States
ATTACH;FMTTYPE=image/jpeg:https://events.excelsiorcitizen.com/wp-content/uploads/2026/04/KaraokeNight.jpg
END:VEVENT
BEGIN:VEVENT
DTSTART;TZID=America/Chicago:20270520T190000
DTEND;TZID=America/Chicago:20270520T210000
DTSTAMP:20260421T065303
CREATED:20260413T051227Z
LAST-MODIFIED:20260413T051227Z
UID:10005321-1810839600-1810846800@events.excelsiorcitizen.com
SUMMARY:Karaoke Night at The Atlas Saloon
DESCRIPTION:Karaoke this week at The Atlas Saloon from 7-9pm. Come hang out with us for a couple hours. Singers and spectators are all welcome. Come support local and show them some love. 
URL:https://events.excelsiorcitizen.com/event/karaoke-night-at-the-atlas-saloon-2/2027-05-20/
LOCATION:The Atlas Saloon\, 100 W Broadway Ave\, Excelsior Springs\, MO\, 64024\, United States
ATTACH;FMTTYPE=image/jpeg:https://events.excelsiorcitizen.com/wp-content/uploads/2026/04/KaraokeNight.jpg
END:VEVENT
BEGIN:VEVENT
DTSTART;TZID=America/Chicago:20270617T190000
DTEND;TZID=America/Chicago:20270617T210000
DTSTAMP:20260421T065303
CREATED:20260413T051227Z
LAST-MODIFIED:20260413T051227Z
UID:10005322-1813258800-1813266000@events.excelsiorcitizen.com
SUMMARY:Karaoke Night at The Atlas Saloon
DESCRIPTION:Karaoke this week at The Atlas Saloon from 7-9pm. Come hang out with us for a couple hours. Singers and spectators are all welcome. Come support local and show them some love. 
URL:https://events.excelsiorcitizen.com/event/karaoke-night-at-the-atlas-saloon-2/2027-06-17/
LOCATION:The Atlas Saloon\, 100 W Broadway Ave\, Excelsior Springs\, MO\, 64024\, United States
ATTACH;FMTTYPE=image/jpeg:https://events.excelsiorcitizen.com/wp-content/uploads/2026/04/KaraokeNight.jpg
END:VEVENT
BEGIN:VEVENT
DTSTART;TZID=America/Chicago:20270715T190000
DTEND;TZID=America/Chicago:20270715T210000
DTSTAMP:20260421T065303
CREATED:20260413T051227Z
LAST-MODIFIED:20260413T051227Z
UID:10005323-1815678000-1815685200@events.excelsiorcitizen.com
SUMMARY:Karaoke Night at The Atlas Saloon
DESCRIPTION:Karaoke this week at The Atlas Saloon from 7-9pm. Come hang out with us for a couple hours. Singers and spectators are all welcome. Come support local and show them some love. 
URL:https://events.excelsiorcitizen.com/event/karaoke-night-at-the-atlas-saloon-2/2027-07-15/
LOCATION:The Atlas Saloon\, 100 W Broadway Ave\, Excelsior Springs\, MO\, 64024\, United States
ATTACH;FMTTYPE=image/jpeg:https://events.excelsiorcitizen.com/wp-content/uploads/2026/04/KaraokeNight.jpg
END:VEVENT
BEGIN:VEVENT
DTSTART;TZID=America/Chicago:20270819T190000
DTEND;TZID=America/Chicago:20270819T210000
DTSTAMP:20260421T065303
CREATED:20260413T051227Z
LAST-MODIFIED:20260413T051227Z
UID:10005324-1818702000-1818709200@events.excelsiorcitizen.com
SUMMARY:Karaoke Night at The Atlas Saloon
DESCRIPTION:Karaoke this week at The Atlas Saloon from 7-9pm. Come hang out with us for a couple hours. Singers and spectators are all welcome. Come support local and show them some love. 
URL:https://events.excelsiorcitizen.com/event/karaoke-night-at-the-atlas-saloon-2/2027-08-19/
LOCATION:The Atlas Saloon\, 100 W Broadway Ave\, Excelsior Springs\, MO\, 64024\, United States
ATTACH;FMTTYPE=image/jpeg:https://events.excelsiorcitizen.com/wp-content/uploads/2026/04/KaraokeNight.jpg
END:VEVENT
BEGIN:VEVENT
DTSTART;TZID=America/Chicago:20270916T190000
DTEND;TZID=America/Chicago:20270916T210000
DTSTAMP:20260421T065303
CREATED:20260413T051227Z
LAST-MODIFIED:20260413T051227Z
UID:10005325-1821121200-1821128400@events.excelsiorcitizen.com
SUMMARY:Karaoke Night at The Atlas Saloon
DESCRIPTION:Karaoke this week at The Atlas Saloon from 7-9pm. Come hang out with us for a couple hours. Singers and spectators are all welcome. Come support local and show them some love. 
URL:https://events.excelsiorcitizen.com/event/karaoke-night-at-the-atlas-saloon-2/2027-09-16/
LOCATION:The Atlas Saloon\, 100 W Broadway Ave\, Excelsior Springs\, MO\, 64024\, United States
ATTACH;FMTTYPE=image/jpeg:https://events.excelsiorcitizen.com/wp-content/uploads/2026/04/KaraokeNight.jpg
END:VEVENT
BEGIN:VEVENT
DTSTART;TZID=America/Chicago:20271021T190000
DTEND;TZID=America/Chicago:20271021T210000
DTSTAMP:20260421T065303
CREATED:20260413T051227Z
LAST-MODIFIED:20260413T051227Z
UID:10005326-1824145200-1824152400@events.excelsiorcitizen.com
SUMMARY:Karaoke Night at The Atlas Saloon
DESCRIPTION:Karaoke this week at The Atlas Saloon from 7-9pm. Come hang out with us for a couple hours. Singers and spectators are all welcome. Come support local and show them some love. 
URL:https://events.excelsiorcitizen.com/event/karaoke-night-at-the-atlas-saloon-2/2027-10-21/
LOCATION:The Atlas Saloon\, 100 W Broadway Ave\, Excelsior Springs\, MO\, 64024\, United States
ATTACH;FMTTYPE=image/jpeg:https://events.excelsiorcitizen.com/wp-content/uploads/2026/04/KaraokeNight.jpg
END:VEVENT
BEGIN:VEVENT
DTSTART;TZID=America/Chicago:20271118T190000
DTEND;TZID=America/Chicago:20271118T210000
DTSTAMP:20260421T065303
CREATED:20260413T051227Z
LAST-MODIFIED:20260413T051227Z
UID:10005327-1826564400-1826571600@events.excelsiorcitizen.com
SUMMARY:Karaoke Night at The Atlas Saloon
DESCRIPTION:Karaoke this week at The Atlas Saloon from 7-9pm. Come hang out with us for a couple hours. Singers and spectators are all welcome. Come support local and show them some love. 
URL:https://events.excelsiorcitizen.com/event/karaoke-night-at-the-atlas-saloon-2/2027-11-18/
LOCATION:The Atlas Saloon\, 100 W Broadway Ave\, Excelsior Springs\, MO\, 64024\, United States
ATTACH;FMTTYPE=image/jpeg:https://events.excelsiorcitizen.com/wp-content/uploads/2026/04/KaraokeNight.jpg
END:VEVENT
BEGIN:VEVENT
DTSTART;TZID=America/Chicago:20271216T190000
DTEND;TZID=America/Chicago:20271216T210000
DTSTAMP:20260421T065303
CREATED:20260413T051227Z
LAST-MODIFIED:20260413T051227Z
UID:10005328-1828983600-1828990800@events.excelsiorcitizen.com
SUMMARY:Karaoke Night at The Atlas Saloon
DESCRIPTION:Karaoke this week at The Atlas Saloon from 7-9pm. Come hang out with us for a couple hours. Singers and spectators are all welcome. Come support local and show them some love. 
URL:https://events.excelsiorcitizen.com/event/karaoke-night-at-the-atlas-saloon-2/2027-12-16/
LOCATION:The Atlas Saloon\, 100 W Broadway Ave\, Excelsior Springs\, MO\, 64024\, United States
ATTACH;FMTTYPE=image/jpeg:https://events.excelsiorcitizen.com/wp-content/uploads/2026/04/KaraokeNight.jpg
END:VEVENT
BEGIN:VEVENT
DTSTART;TZID=America/Chicago:20280120T190000
DTEND;TZID=America/Chicago:20280120T210000
DTSTAMP:20260421T065303
CREATED:20260413T051227Z
LAST-MODIFIED:20260413T051227Z
UID:10005329-1832007600-1832014800@events.excelsiorcitizen.com
SUMMARY:Karaoke Night at The Atlas Saloon
DESCRIPTION:Karaoke this week at The Atlas Saloon from 7-9pm. Come hang out with us for a couple hours. Singers and spectators are all welcome. Come support local and show them some love. 
URL:https://events.excelsiorcitizen.com/event/karaoke-night-at-the-atlas-saloon-2/2028-01-20/
LOCATION:The Atlas Saloon\, 100 W Broadway Ave\, Excelsior Springs\, MO\, 64024\, United States
ATTACH;FMTTYPE=image/jpeg:https://events.excelsiorcitizen.com/wp-content/uploads/2026/04/KaraokeNight.jpg
END:VEVENT
BEGIN:VEVENT
DTSTART;TZID=America/Chicago:20280217T190000
DTEND;TZID=America/Chicago:20280217T210000
DTSTAMP:20260421T065303
CREATED:20260413T051227Z
LAST-MODIFIED:20260413T051227Z
UID:10005330-1834426800-1834434000@events.excelsiorcitizen.com
SUMMARY:Karaoke Night at The Atlas Saloon
DESCRIPTION:Karaoke this week at The Atlas Saloon from 7-9pm. Come hang out with us for a couple hours. Singers and spectators are all welcome. Come support local and show them some love. 
URL:https://events.excelsiorcitizen.com/event/karaoke-night-at-the-atlas-saloon-2/2028-02-17/
LOCATION:The Atlas Saloon\, 100 W Broadway Ave\, Excelsior Springs\, MO\, 64024\, United States
ATTACH;FMTTYPE=image/jpeg:https://events.excelsiorcitizen.com/wp-content/uploads/2026/04/KaraokeNight.jpg
END:VEVENT
BEGIN:VEVENT
DTSTART;TZID=America/Chicago:20280316T190000
DTEND;TZID=America/Chicago:20280316T210000
DTSTAMP:20260421T065303
CREATED:20260413T051227Z
LAST-MODIFIED:20260413T051227Z
UID:10005331-1836846000-1836853200@events.excelsiorcitizen.com
SUMMARY:Karaoke Night at The Atlas Saloon
DESCRIPTION:Karaoke this week at The Atlas Saloon from 7-9pm. Come hang out with us for a couple hours. Singers and spectators are all welcome. Come support local and show them some love. 
URL:https://events.excelsiorcitizen.com/event/karaoke-night-at-the-atlas-saloon-2/2028-03-16/
LOCATION:The Atlas Saloon\, 100 W Broadway Ave\, Excelsior Springs\, MO\, 64024\, United States
ATTACH;FMTTYPE=image/jpeg:https://events.excelsiorcitizen.com/wp-content/uploads/2026/04/KaraokeNight.jpg
END:VEVENT
BEGIN:VEVENT
DTSTART;TZID=America/Chicago:20280420T190000
DTEND;TZID=America/Chicago:20280420T210000
DTSTAMP:20260421T065303
CREATED:20260413T051227Z
LAST-MODIFIED:20260413T051227Z
UID:10005332-1839870000-1839877200@events.excelsiorcitizen.com
SUMMARY:Karaoke Night at The Atlas Saloon
DESCRIPTION:Karaoke this week at The Atlas Saloon from 7-9pm. Come hang out with us for a couple hours. Singers and spectators are all welcome. Come support local and show them some love. 
URL:https://events.excelsiorcitizen.com/event/karaoke-night-at-the-atlas-saloon-2/2028-04-20/
LOCATION:The Atlas Saloon\, 100 W Broadway Ave\, Excelsior Springs\, MO\, 64024\, United States
ATTACH;FMTTYPE=image/jpeg:https://events.excelsiorcitizen.com/wp-content/uploads/2026/04/KaraokeNight.jpg
END:VEVENT
BEGIN:VEVENT
DTSTART;TZID=America/Chicago:20280518T190000
DTEND;TZID=America/Chicago:20280518T210000
DTSTAMP:20260421T065303
CREATED:20260413T051227Z
LAST-MODIFIED:20260413T051227Z
UID:10005333-1842289200-1842296400@events.excelsiorcitizen.com
SUMMARY:Karaoke Night at The Atlas Saloon
DESCRIPTION:Karaoke this week at The Atlas Saloon from 7-9pm. Come hang out with us for a couple hours. Singers and spectators are all welcome. Come support local and show them some love. 
URL:https://events.excelsiorcitizen.com/event/karaoke-night-at-the-atlas-saloon-2/2028-05-18/
LOCATION:The Atlas Saloon\, 100 W Broadway Ave\, Excelsior Springs\, MO\, 64024\, United States
ATTACH;FMTTYPE=image/jpeg:https://events.excelsiorcitizen.com/wp-content/uploads/2026/04/KaraokeNight.jpg
END:VEVENT
BEGIN:VEVENT
DTSTART;TZID=America/Chicago:20280615T190000
DTEND;TZID=America/Chicago:20280615T210000
DTSTAMP:20260421T065303
CREATED:20260413T051227Z
LAST-MODIFIED:20260413T051227Z
UID:10005334-1844708400-1844715600@events.excelsiorcitizen.com
SUMMARY:Karaoke Night at The Atlas Saloon
DESCRIPTION:Karaoke this week at The Atlas Saloon from 7-9pm. Come hang out with us for a couple hours. Singers and spectators are all welcome. Come support local and show them some love. 
URL:https://events.excelsiorcitizen.com/event/karaoke-night-at-the-atlas-saloon-2/2028-06-15/
LOCATION:The Atlas Saloon\, 100 W Broadway Ave\, Excelsior Springs\, MO\, 64024\, United States
ATTACH;FMTTYPE=image/jpeg:https://events.excelsiorcitizen.com/wp-content/uploads/2026/04/KaraokeNight.jpg
END:VEVENT
BEGIN:VEVENT
DTSTART;TZID=America/Chicago:20280720T190000
DTEND;TZID=America/Chicago:20280720T210000
DTSTAMP:20260421T065303
CREATED:20260413T051227Z
LAST-MODIFIED:20260413T051227Z
UID:10005335-1847732400-1847739600@events.excelsiorcitizen.com
SUMMARY:Karaoke Night at The Atlas Saloon
DESCRIPTION:Karaoke this week at The Atlas Saloon from 7-9pm. Come hang out with us for a couple hours. Singers and spectators are all welcome. Come support local and show them some love. 
URL:https://events.excelsiorcitizen.com/event/karaoke-night-at-the-atlas-saloon-2/2028-07-20/
LOCATION:The Atlas Saloon\, 100 W Broadway Ave\, Excelsior Springs\, MO\, 64024\, United States
ATTACH;FMTTYPE=image/jpeg:https://events.excelsiorcitizen.com/wp-content/uploads/2026/04/KaraokeNight.jpg
END:VEVENT
BEGIN:VEVENT
DTSTART;TZID=America/Chicago:20280817T190000
DTEND;TZID=America/Chicago:20280817T210000
DTSTAMP:20260421T065303
CREATED:20260413T051227Z
LAST-MODIFIED:20260413T051227Z
UID:10005336-1850151600-1850158800@events.excelsiorcitizen.com
SUMMARY:Karaoke Night at The Atlas Saloon
DESCRIPTION:Karaoke this week at The Atlas Saloon from 7-9pm. Come hang out with us for a couple hours. Singers and spectators are all welcome. Come support local and show them some love. 
URL:https://events.excelsiorcitizen.com/event/karaoke-night-at-the-atlas-saloon-2/2028-08-17/
LOCATION:The Atlas Saloon\, 100 W Broadway Ave\, Excelsior Springs\, MO\, 64024\, United States
ATTACH;FMTTYPE=image/jpeg:https://events.excelsiorcitizen.com/wp-content/uploads/2026/04/KaraokeNight.jpg
END:VEVENT
BEGIN:VEVENT
DTSTART;TZID=America/Chicago:20280921T190000
DTEND;TZID=America/Chicago:20280921T210000
DTSTAMP:20260421T065303
CREATED:20260413T051227Z
LAST-MODIFIED:20260413T051227Z
UID:10005337-1853175600-1853182800@events.excelsiorcitizen.com
SUMMARY:Karaoke Night at The Atlas Saloon
DESCRIPTION:Karaoke this week at The Atlas Saloon from 7-9pm. Come hang out with us for a couple hours. Singers and spectators are all welcome. Come support local and show them some love. 
URL:https://events.excelsiorcitizen.com/event/karaoke-night-at-the-atlas-saloon-2/2028-09-21/
LOCATION:The Atlas Saloon\, 100 W Broadway Ave\, Excelsior Springs\, MO\, 64024\, United States
ATTACH;FMTTYPE=image/jpeg:https://events.excelsiorcitizen.com/wp-content/uploads/2026/04/KaraokeNight.jpg
END:VEVENT
BEGIN:VEVENT
DTSTART;TZID=America/Chicago:20281019T190000
DTEND;TZID=America/Chicago:20281019T210000
DTSTAMP:20260421T065303
CREATED:20260413T051227Z
LAST-MODIFIED:20260413T051227Z
UID:10005338-1855594800-1855602000@events.excelsiorcitizen.com
SUMMARY:Karaoke Night at The Atlas Saloon
DESCRIPTION:Karaoke this week at The Atlas Saloon from 7-9pm. Come hang out with us for a couple hours. Singers and spectators are all welcome. Come support local and show them some love. 
URL:https://events.excelsiorcitizen.com/event/karaoke-night-at-the-atlas-saloon-2/2028-10-19/
LOCATION:The Atlas Saloon\, 100 W Broadway Ave\, Excelsior Springs\, MO\, 64024\, United States
ATTACH;FMTTYPE=image/jpeg:https://events.excelsiorcitizen.com/wp-content/uploads/2026/04/KaraokeNight.jpg
END:VEVENT
END:VCALENDAR