BEGIN:VCALENDAR
VERSION:2.0
PRODID:-// - ECPv6.15.20//NONSGML v1.0//EN
CALSCALE:GREGORIAN
METHOD:PUBLISH
X-ORIGINAL-URL:https://events.excelsiorcitizen.com
X-WR-CALDESC:Events for 
REFRESH-INTERVAL;VALUE=DURATION:PT1H
X-Robots-Tag:noindex
X-PUBLISHED-TTL:PT1H
BEGIN:VTIMEZONE
TZID:UTC
BEGIN:STANDARD
TZOFFSETFROM:+0000
TZOFFSETTO:+0000
TZNAME:UTC
DTSTART:20260101T000000
END:STANDARD
END:VTIMEZONE
BEGIN:VTIMEZONE
TZID:America/Chicago
BEGIN:DAYLIGHT
TZOFFSETFROM:-0600
TZOFFSETTO:-0500
TZNAME:CDT
DTSTART:20260308T080000
END:DAYLIGHT
BEGIN:STANDARD
TZOFFSETFROM:-0500
TZOFFSETTO:-0600
TZNAME:CST
DTSTART:20261101T070000
END:STANDARD
BEGIN:DAYLIGHT
TZOFFSETFROM:-0600
TZOFFSETTO:-0500
TZNAME:CDT
DTSTART:20270314T080000
END:DAYLIGHT
BEGIN:STANDARD
TZOFFSETFROM:-0500
TZOFFSETTO:-0600
TZNAME:CST
DTSTART:20271107T070000
END:STANDARD
BEGIN:DAYLIGHT
TZOFFSETFROM:-0600
TZOFFSETTO:-0500
TZNAME:CDT
DTSTART:20280312T080000
END:DAYLIGHT
BEGIN:STANDARD
TZOFFSETFROM:-0500
TZOFFSETTO:-0600
TZNAME:CST
DTSTART:20281105T070000
END:STANDARD
END:VTIMEZONE
BEGIN:VEVENT
DTSTART;VALUE=DATE:20271107
DTEND;VALUE=DATE:20271109
DTSTAMP:20260421T210857
CREATED:20251120T183144Z
LAST-MODIFIED:20260223T173028Z
UID:10002115-1825552800-1825639199@events.excelsiorcitizen.com
SUMMARY:Daylight Saving Time ends
DESCRIPTION:Observance\nTo hide observances\, go to Google Calendar Settings > Holidays in United States
URL:https://events.excelsiorcitizen.com/event/daylight-saving-time-ends-2/
END:VEVENT
BEGIN:VEVENT
DTSTART;TZID=America/Chicago:20271108T110000
DTEND;TZID=America/Chicago:20271108T150000
DTSTAMP:20260421T210857
CREATED:20260412T180559Z
LAST-MODIFIED:20260412T180726Z
UID:10004803-1825671600-1825686000@events.excelsiorcitizen.com
SUMMARY:Toddler Swim
DESCRIPTION:Bring your little ones to enjoy the indoor pool with pool toys and fun aquatic features! FREE for ESCC Members and just $5 for Non-Members (parents/guardians get in free and must be present). Every Monday from 11:00 AM – 3:00 PM​\, Ages 2- 5 Years
URL:https://events.excelsiorcitizen.com/event/toddler-swim-2/2027-11-08/
LOCATION:Excelsior Springs Community Center\, 500 Tiger Dr\, Excelsior Springs\, MO\, United States
ATTACH;FMTTYPE=image/png:https://events.excelsiorcitizen.com/wp-content/uploads/2026/04/toddlerswim-1.png
GEO:39.349002;-94.244358
X-APPLE-STRUCTURED-LOCATION;VALUE=URI;X-ADDRESS=Excelsior Springs Community Center 500 Tiger Dr Excelsior Springs MO United States;X-APPLE-RADIUS=500;X-TITLE=500 Tiger Dr:geo:-94.244358,39.349002
END:VEVENT
BEGIN:VEVENT
DTSTART;TZID=America/Chicago:20271108T180000
DTEND;TZID=America/Chicago:20271108T200000
DTSTAMP:20260421T210857
CREATED:20260413T050948Z
LAST-MODIFIED:20260413T050948Z
UID:10005267-1825696800-1825704000@events.excelsiorcitizen.com
SUMMARY:Hall of Writers April 2026 Meeting
DESCRIPTION:The Hall of Writers offers writers and poets of Excelsior Springs\, MO and surrounding areas with a creative community and support system. They meet the 2nd Monday of every month.
URL:https://events.excelsiorcitizen.com/event/hall-of-writers-april-2026-meeting/2027-11-08/
LOCATION:Other Trails – Coffee & Goods\, 115 E Broadway Ave\, Excelsior Springs\, MO\, 64024\, United States
ATTACH;FMTTYPE=image/jpeg:https://events.excelsiorcitizen.com/wp-content/uploads/2026/04/hall-of-writers.jpeg
END:VEVENT
BEGIN:VEVENT
DTSTART;TZID=America/Chicago:20271109T190000
DTEND;TZID=America/Chicago:20271109T200000
DTSTAMP:20260421T210857
CREATED:20260217T023150Z
LAST-MODIFIED:20260217T023150Z
UID:10004264-1825786800-1825790400@events.excelsiorcitizen.com
SUMMARY:New Freedom Recovery Program
DESCRIPTION:Join New Freedom Recovery Program on Tuesdays at 7:00pm at Crescent Lake Christian Center\, 1250 St Louis Ave\, Excelsior Springs\, as we journey through “Hope”. Rather than seeking hope within ourself\, find peace in trusting God\, who loves and accepts us unconditionally\, despite our imperfections. Lead me; instruct me; for You are the God who grants me salvation. My hope is solely in You. Psalm 25:5 \nAddictions\, Alcoholism\, Hang-ups\, Depression\, Substance Abuse \nFor more information\, call Steve Waymen 816-377-7226 \n 
URL:https://events.excelsiorcitizen.com/event/new-freedom-recovery-program-3/2027-11-09/
LOCATION:Crescent Lake Christian Center\, 1250 St Louis Ave\, Excelsior Springs\, MO\, 64024\, United States
ATTACH;FMTTYPE=image/jpeg:https://events.excelsiorcitizen.com/wp-content/uploads/2026/02/631611260_10236263434379618_5041821824909759256_n-1.jpg
END:VEVENT
BEGIN:VEVENT
DTSTART;TZID=America/Chicago:20271110T110000
DTEND;TZID=America/Chicago:20271110T150000
DTSTAMP:20260421T210857
CREATED:20260412T181521Z
LAST-MODIFIED:20260412T181521Z
UID:10005064-1825844400-1825858800@events.excelsiorcitizen.com
SUMMARY:Home School Swim
DESCRIPTION:Bring your home school students ages 18 and under to enjoy the indoor pool and all that is has to offer! FREE for ESCC Members and just $5 for Non-Members (parent/guardian gets in free and must be present). Every Wednesday from 11:00 AM- 3:00 PM.
URL:https://events.excelsiorcitizen.com/event/home-school-swim-2/2027-11-10/
LOCATION:Excelsior Springs Community Center\, 500 Tiger Dr\, Excelsior Springs\, MO\, United States
ATTACH;FMTTYPE=image/jpeg:https://events.excelsiorcitizen.com/wp-content/uploads/2026/04/home-school-swim-1.jpg
GEO:39.349002;-94.244358
X-APPLE-STRUCTURED-LOCATION;VALUE=URI;X-ADDRESS=Excelsior Springs Community Center 500 Tiger Dr Excelsior Springs MO United States;X-APPLE-RADIUS=500;X-TITLE=500 Tiger Dr:geo:-94.244358,39.349002
END:VEVENT
BEGIN:VEVENT
DTSTART;VALUE=DATE:20271111
DTEND;VALUE=DATE:20271113
DTSTAMP:20260421T210857
CREATED:20251120T183145Z
LAST-MODIFIED:20260223T173028Z
UID:10002116-1825898400-1825984799@events.excelsiorcitizen.com
SUMMARY:Veterans Day
DESCRIPTION:Public holiday
URL:https://events.excelsiorcitizen.com/event/veterans-day-2/
END:VEVENT
BEGIN:VEVENT
DTSTART;TZID=America/Chicago:20271115T110000
DTEND;TZID=America/Chicago:20271115T150000
DTSTAMP:20260421T210857
CREATED:20260412T180559Z
LAST-MODIFIED:20260412T180726Z
UID:10004804-1826276400-1826290800@events.excelsiorcitizen.com
SUMMARY:Toddler Swim
DESCRIPTION:Bring your little ones to enjoy the indoor pool with pool toys and fun aquatic features! FREE for ESCC Members and just $5 for Non-Members (parents/guardians get in free and must be present). Every Monday from 11:00 AM – 3:00 PM​\, Ages 2- 5 Years
URL:https://events.excelsiorcitizen.com/event/toddler-swim-2/2027-11-15/
LOCATION:Excelsior Springs Community Center\, 500 Tiger Dr\, Excelsior Springs\, MO\, United States
ATTACH;FMTTYPE=image/png:https://events.excelsiorcitizen.com/wp-content/uploads/2026/04/toddlerswim-1.png
GEO:39.349002;-94.244358
X-APPLE-STRUCTURED-LOCATION;VALUE=URI;X-ADDRESS=Excelsior Springs Community Center 500 Tiger Dr Excelsior Springs MO United States;X-APPLE-RADIUS=500;X-TITLE=500 Tiger Dr:geo:-94.244358,39.349002
END:VEVENT
BEGIN:VEVENT
DTSTART;TZID=America/Chicago:20271116T110000
DTEND;TZID=America/Chicago:20271116T120000
DTSTAMP:20260421T210857
CREATED:20260205T171809Z
LAST-MODIFIED:20260223T174533Z
UID:10004055-1826362800-1826366400@events.excelsiorcitizen.com
SUMMARY:Veteran's Lunch Meetup
DESCRIPTION:Senior Center\nEvery month on the 3rd Tuesday.\nReservations are required at least 24 hours in advance. Call 816-630-5955 x1. There is a suggested donation of $2 to cover the cost of lunch.
URL:https://events.excelsiorcitizen.com/event/veterans-lunch-meetup-22/
LOCATION:Excelsior Springs Community Center\, 500 Tiger Dr\, Excelsior Springs\, MO\, United States
GEO:39.349002;-94.244358
X-APPLE-STRUCTURED-LOCATION;VALUE=URI;X-ADDRESS=Excelsior Springs Community Center 500 Tiger Dr Excelsior Springs MO United States;X-APPLE-RADIUS=500;X-TITLE=500 Tiger Dr:geo:-94.244358,39.349002
END:VEVENT
BEGIN:VEVENT
DTSTART;TZID=America/Chicago:20271116T190000
DTEND;TZID=America/Chicago:20271116T200000
DTSTAMP:20260421T210857
CREATED:20260217T023150Z
LAST-MODIFIED:20260217T023150Z
UID:10004265-1826391600-1826395200@events.excelsiorcitizen.com
SUMMARY:New Freedom Recovery Program
DESCRIPTION:Join New Freedom Recovery Program on Tuesdays at 7:00pm at Crescent Lake Christian Center\, 1250 St Louis Ave\, Excelsior Springs\, as we journey through “Hope”. Rather than seeking hope within ourself\, find peace in trusting God\, who loves and accepts us unconditionally\, despite our imperfections. Lead me; instruct me; for You are the God who grants me salvation. My hope is solely in You. Psalm 25:5 \nAddictions\, Alcoholism\, Hang-ups\, Depression\, Substance Abuse \nFor more information\, call Steve Waymen 816-377-7226 \n 
URL:https://events.excelsiorcitizen.com/event/new-freedom-recovery-program-3/2027-11-16/
LOCATION:Crescent Lake Christian Center\, 1250 St Louis Ave\, Excelsior Springs\, MO\, 64024\, United States
ATTACH;FMTTYPE=image/jpeg:https://events.excelsiorcitizen.com/wp-content/uploads/2026/02/631611260_10236263434379618_5041821824909759256_n-1.jpg
END:VEVENT
BEGIN:VEVENT
DTSTART;TZID=America/Chicago:20271117T110000
DTEND;TZID=America/Chicago:20271117T150000
DTSTAMP:20260421T210857
CREATED:20260412T181521Z
LAST-MODIFIED:20260412T181521Z
UID:10005065-1826449200-1826463600@events.excelsiorcitizen.com
SUMMARY:Home School Swim
DESCRIPTION:Bring your home school students ages 18 and under to enjoy the indoor pool and all that is has to offer! FREE for ESCC Members and just $5 for Non-Members (parent/guardian gets in free and must be present). Every Wednesday from 11:00 AM- 3:00 PM.
URL:https://events.excelsiorcitizen.com/event/home-school-swim-2/2027-11-17/
LOCATION:Excelsior Springs Community Center\, 500 Tiger Dr\, Excelsior Springs\, MO\, United States
ATTACH;FMTTYPE=image/jpeg:https://events.excelsiorcitizen.com/wp-content/uploads/2026/04/home-school-swim-1.jpg
GEO:39.349002;-94.244358
X-APPLE-STRUCTURED-LOCATION;VALUE=URI;X-ADDRESS=Excelsior Springs Community Center 500 Tiger Dr Excelsior Springs MO United States;X-APPLE-RADIUS=500;X-TITLE=500 Tiger Dr:geo:-94.244358,39.349002
END:VEVENT
BEGIN:VEVENT
DTSTART;TZID=America/Chicago:20271118T190000
DTEND;TZID=America/Chicago:20271118T210000
DTSTAMP:20260421T210857
CREATED:20260413T051227Z
LAST-MODIFIED:20260413T051227Z
UID:10005327-1826564400-1826571600@events.excelsiorcitizen.com
SUMMARY:Karaoke Night at The Atlas Saloon
DESCRIPTION:Karaoke this week at The Atlas Saloon from 7-9pm. Come hang out with us for a couple hours. Singers and spectators are all welcome. Come support local and show them some love. 
URL:https://events.excelsiorcitizen.com/event/karaoke-night-at-the-atlas-saloon-2/2027-11-18/
LOCATION:The Atlas Saloon\, 100 W Broadway Ave\, Excelsior Springs\, MO\, 64024\, United States
ATTACH;FMTTYPE=image/jpeg:https://events.excelsiorcitizen.com/wp-content/uploads/2026/04/KaraokeNight.jpg
END:VEVENT
BEGIN:VEVENT
DTSTART;TZID=America/Chicago:20271122T110000
DTEND;TZID=America/Chicago:20271122T150000
DTSTAMP:20260421T210857
CREATED:20260412T180559Z
LAST-MODIFIED:20260412T180726Z
UID:10004805-1826881200-1826895600@events.excelsiorcitizen.com
SUMMARY:Toddler Swim
DESCRIPTION:Bring your little ones to enjoy the indoor pool with pool toys and fun aquatic features! FREE for ESCC Members and just $5 for Non-Members (parents/guardians get in free and must be present). Every Monday from 11:00 AM – 3:00 PM​\, Ages 2- 5 Years
URL:https://events.excelsiorcitizen.com/event/toddler-swim-2/2027-11-22/
LOCATION:Excelsior Springs Community Center\, 500 Tiger Dr\, Excelsior Springs\, MO\, United States
ATTACH;FMTTYPE=image/png:https://events.excelsiorcitizen.com/wp-content/uploads/2026/04/toddlerswim-1.png
GEO:39.349002;-94.244358
X-APPLE-STRUCTURED-LOCATION;VALUE=URI;X-ADDRESS=Excelsior Springs Community Center 500 Tiger Dr Excelsior Springs MO United States;X-APPLE-RADIUS=500;X-TITLE=500 Tiger Dr:geo:-94.244358,39.349002
END:VEVENT
BEGIN:VEVENT
DTSTART;TZID=America/Chicago:20271123T190000
DTEND;TZID=America/Chicago:20271123T200000
DTSTAMP:20260421T210857
CREATED:20260217T023150Z
LAST-MODIFIED:20260217T023150Z
UID:10004266-1826996400-1827000000@events.excelsiorcitizen.com
SUMMARY:New Freedom Recovery Program
DESCRIPTION:Join New Freedom Recovery Program on Tuesdays at 7:00pm at Crescent Lake Christian Center\, 1250 St Louis Ave\, Excelsior Springs\, as we journey through “Hope”. Rather than seeking hope within ourself\, find peace in trusting God\, who loves and accepts us unconditionally\, despite our imperfections. Lead me; instruct me; for You are the God who grants me salvation. My hope is solely in You. Psalm 25:5 \nAddictions\, Alcoholism\, Hang-ups\, Depression\, Substance Abuse \nFor more information\, call Steve Waymen 816-377-7226 \n 
URL:https://events.excelsiorcitizen.com/event/new-freedom-recovery-program-3/2027-11-23/
LOCATION:Crescent Lake Christian Center\, 1250 St Louis Ave\, Excelsior Springs\, MO\, 64024\, United States
ATTACH;FMTTYPE=image/jpeg:https://events.excelsiorcitizen.com/wp-content/uploads/2026/02/631611260_10236263434379618_5041821824909759256_n-1.jpg
END:VEVENT
BEGIN:VEVENT
DTSTART;TZID=America/Chicago:20271124T110000
DTEND;TZID=America/Chicago:20271124T150000
DTSTAMP:20260421T210857
CREATED:20260412T181521Z
LAST-MODIFIED:20260412T181521Z
UID:10005066-1827054000-1827068400@events.excelsiorcitizen.com
SUMMARY:Home School Swim
DESCRIPTION:Bring your home school students ages 18 and under to enjoy the indoor pool and all that is has to offer! FREE for ESCC Members and just $5 for Non-Members (parent/guardian gets in free and must be present). Every Wednesday from 11:00 AM- 3:00 PM.
URL:https://events.excelsiorcitizen.com/event/home-school-swim-2/2027-11-24/
LOCATION:Excelsior Springs Community Center\, 500 Tiger Dr\, Excelsior Springs\, MO\, United States
ATTACH;FMTTYPE=image/jpeg:https://events.excelsiorcitizen.com/wp-content/uploads/2026/04/home-school-swim-1.jpg
GEO:39.349002;-94.244358
X-APPLE-STRUCTURED-LOCATION;VALUE=URI;X-ADDRESS=Excelsior Springs Community Center 500 Tiger Dr Excelsior Springs MO United States;X-APPLE-RADIUS=500;X-TITLE=500 Tiger Dr:geo:-94.244358,39.349002
END:VEVENT
BEGIN:VEVENT
DTSTART;VALUE=DATE:20271125
DTEND;VALUE=DATE:20271127
DTSTAMP:20260421T210857
CREATED:20251127T183138Z
LAST-MODIFIED:20260223T173028Z
UID:10002538-1827108000-1827194399@events.excelsiorcitizen.com
SUMMARY:Thanksgiving Day
DESCRIPTION:Public holiday
URL:https://events.excelsiorcitizen.com/event/thanksgiving-day-3/
END:VEVENT
BEGIN:VEVENT
DTSTART;VALUE=DATE:20271126
DTEND;VALUE=DATE:20271128
DTSTAMP:20260421T210857
CREATED:20251127T183138Z
LAST-MODIFIED:20260223T173029Z
UID:10002539-1827194400-1827280799@events.excelsiorcitizen.com
SUMMARY:Black Friday
DESCRIPTION:Observance\nTo hide observances\, go to Google Calendar Settings > Holidays in United States
URL:https://events.excelsiorcitizen.com/event/black-friday-3/
END:VEVENT
BEGIN:VEVENT
DTSTART;TZID=America/Chicago:20271129T110000
DTEND;TZID=America/Chicago:20271129T150000
DTSTAMP:20260421T210857
CREATED:20260412T180559Z
LAST-MODIFIED:20260412T180726Z
UID:10004806-1827486000-1827500400@events.excelsiorcitizen.com
SUMMARY:Toddler Swim
DESCRIPTION:Bring your little ones to enjoy the indoor pool with pool toys and fun aquatic features! FREE for ESCC Members and just $5 for Non-Members (parents/guardians get in free and must be present). Every Monday from 11:00 AM – 3:00 PM​\, Ages 2- 5 Years
URL:https://events.excelsiorcitizen.com/event/toddler-swim-2/2027-11-29/
LOCATION:Excelsior Springs Community Center\, 500 Tiger Dr\, Excelsior Springs\, MO\, United States
ATTACH;FMTTYPE=image/png:https://events.excelsiorcitizen.com/wp-content/uploads/2026/04/toddlerswim-1.png
GEO:39.349002;-94.244358
X-APPLE-STRUCTURED-LOCATION;VALUE=URI;X-ADDRESS=Excelsior Springs Community Center 500 Tiger Dr Excelsior Springs MO United States;X-APPLE-RADIUS=500;X-TITLE=500 Tiger Dr:geo:-94.244358,39.349002
END:VEVENT
BEGIN:VEVENT
DTSTART;TZID=America/Chicago:20271130T190000
DTEND;TZID=America/Chicago:20271130T200000
DTSTAMP:20260421T210857
CREATED:20260217T023150Z
LAST-MODIFIED:20260217T023150Z
UID:10004267-1827601200-1827604800@events.excelsiorcitizen.com
SUMMARY:New Freedom Recovery Program
DESCRIPTION:Join New Freedom Recovery Program on Tuesdays at 7:00pm at Crescent Lake Christian Center\, 1250 St Louis Ave\, Excelsior Springs\, as we journey through “Hope”. Rather than seeking hope within ourself\, find peace in trusting God\, who loves and accepts us unconditionally\, despite our imperfections. Lead me; instruct me; for You are the God who grants me salvation. My hope is solely in You. Psalm 25:5 \nAddictions\, Alcoholism\, Hang-ups\, Depression\, Substance Abuse \nFor more information\, call Steve Waymen 816-377-7226 \n 
URL:https://events.excelsiorcitizen.com/event/new-freedom-recovery-program-3/2027-11-30/
LOCATION:Crescent Lake Christian Center\, 1250 St Louis Ave\, Excelsior Springs\, MO\, 64024\, United States
ATTACH;FMTTYPE=image/jpeg:https://events.excelsiorcitizen.com/wp-content/uploads/2026/02/631611260_10236263434379618_5041821824909759256_n-1.jpg
END:VEVENT
BEGIN:VEVENT
DTSTART;TZID=America/Chicago:20271201T110000
DTEND;TZID=America/Chicago:20271201T150000
DTSTAMP:20260421T210857
CREATED:20260412T181521Z
LAST-MODIFIED:20260412T181521Z
UID:10005067-1827658800-1827673200@events.excelsiorcitizen.com
SUMMARY:Home School Swim
DESCRIPTION:Bring your home school students ages 18 and under to enjoy the indoor pool and all that is has to offer! FREE for ESCC Members and just $5 for Non-Members (parent/guardian gets in free and must be present). Every Wednesday from 11:00 AM- 3:00 PM.
URL:https://events.excelsiorcitizen.com/event/home-school-swim-2/2027-12-01/
LOCATION:Excelsior Springs Community Center\, 500 Tiger Dr\, Excelsior Springs\, MO\, United States
ATTACH;FMTTYPE=image/jpeg:https://events.excelsiorcitizen.com/wp-content/uploads/2026/04/home-school-swim-1.jpg
GEO:39.349002;-94.244358
X-APPLE-STRUCTURED-LOCATION;VALUE=URI;X-ADDRESS=Excelsior Springs Community Center 500 Tiger Dr Excelsior Springs MO United States;X-APPLE-RADIUS=500;X-TITLE=500 Tiger Dr:geo:-94.244358,39.349002
END:VEVENT
BEGIN:VEVENT
DTSTART;TZID=America/Chicago:20271202T100000
DTEND;TZID=America/Chicago:20271202T113000
DTSTAMP:20260421T210857
CREATED:20251202T201615Z
LAST-MODIFIED:20260223T010114Z
UID:10002554-1827741600-1827747000@events.excelsiorcitizen.com
SUMMARY:Older Adult Caregiver Support Group
DESCRIPTION:Older Adult Caregiver Support Group\n“Together We Care” offers ongoing older adult caregiver support services by Northland Shepherd’s Center and Tri-County Mental Health.\nYou’re invited to join us the first Thursday of each month from 10 – 11:30 AM in a hybrid format. We meet in-person at the Woodneath Mid-Continent Library or virtually by Zoom. (email us for the link)
URL:https://events.excelsiorcitizen.com/event/older-adult-caregiver-support-group-25/
LOCATION:Woodneath Mid-Continent Library @ 8900 NE Flintlock Rd\, Kansas City\, MO\, United States
GEO:39.267855;-94.472963
END:VEVENT
BEGIN:VEVENT
DTSTART;TZID=America/Chicago:20271206T110000
DTEND;TZID=America/Chicago:20271206T150000
DTSTAMP:20260421T210857
CREATED:20260412T180559Z
LAST-MODIFIED:20260412T180726Z
UID:10004807-1828090800-1828105200@events.excelsiorcitizen.com
SUMMARY:Toddler Swim
DESCRIPTION:Bring your little ones to enjoy the indoor pool with pool toys and fun aquatic features! FREE for ESCC Members and just $5 for Non-Members (parents/guardians get in free and must be present). Every Monday from 11:00 AM – 3:00 PM​\, Ages 2- 5 Years
URL:https://events.excelsiorcitizen.com/event/toddler-swim-2/2027-12-06/
LOCATION:Excelsior Springs Community Center\, 500 Tiger Dr\, Excelsior Springs\, MO\, United States
ATTACH;FMTTYPE=image/png:https://events.excelsiorcitizen.com/wp-content/uploads/2026/04/toddlerswim-1.png
GEO:39.349002;-94.244358
X-APPLE-STRUCTURED-LOCATION;VALUE=URI;X-ADDRESS=Excelsior Springs Community Center 500 Tiger Dr Excelsior Springs MO United States;X-APPLE-RADIUS=500;X-TITLE=500 Tiger Dr:geo:-94.244358,39.349002
END:VEVENT
BEGIN:VEVENT
DTSTART;TZID=America/Chicago:20271207T190000
DTEND;TZID=America/Chicago:20271207T200000
DTSTAMP:20260421T210857
CREATED:20260217T023150Z
LAST-MODIFIED:20260217T023150Z
UID:10004268-1828206000-1828209600@events.excelsiorcitizen.com
SUMMARY:New Freedom Recovery Program
DESCRIPTION:Join New Freedom Recovery Program on Tuesdays at 7:00pm at Crescent Lake Christian Center\, 1250 St Louis Ave\, Excelsior Springs\, as we journey through “Hope”. Rather than seeking hope within ourself\, find peace in trusting God\, who loves and accepts us unconditionally\, despite our imperfections. Lead me; instruct me; for You are the God who grants me salvation. My hope is solely in You. Psalm 25:5 \nAddictions\, Alcoholism\, Hang-ups\, Depression\, Substance Abuse \nFor more information\, call Steve Waymen 816-377-7226 \n 
URL:https://events.excelsiorcitizen.com/event/new-freedom-recovery-program-3/2027-12-07/
LOCATION:Crescent Lake Christian Center\, 1250 St Louis Ave\, Excelsior Springs\, MO\, 64024\, United States
ATTACH;FMTTYPE=image/jpeg:https://events.excelsiorcitizen.com/wp-content/uploads/2026/02/631611260_10236263434379618_5041821824909759256_n-1.jpg
END:VEVENT
BEGIN:VEVENT
DTSTART;TZID=America/Chicago:20271208T110000
DTEND;TZID=America/Chicago:20271208T150000
DTSTAMP:20260421T210857
CREATED:20260412T181521Z
LAST-MODIFIED:20260412T181521Z
UID:10005068-1828263600-1828278000@events.excelsiorcitizen.com
SUMMARY:Home School Swim
DESCRIPTION:Bring your home school students ages 18 and under to enjoy the indoor pool and all that is has to offer! FREE for ESCC Members and just $5 for Non-Members (parent/guardian gets in free and must be present). Every Wednesday from 11:00 AM- 3:00 PM.
URL:https://events.excelsiorcitizen.com/event/home-school-swim-2/2027-12-08/
LOCATION:Excelsior Springs Community Center\, 500 Tiger Dr\, Excelsior Springs\, MO\, United States
ATTACH;FMTTYPE=image/jpeg:https://events.excelsiorcitizen.com/wp-content/uploads/2026/04/home-school-swim-1.jpg
GEO:39.349002;-94.244358
X-APPLE-STRUCTURED-LOCATION;VALUE=URI;X-ADDRESS=Excelsior Springs Community Center 500 Tiger Dr Excelsior Springs MO United States;X-APPLE-RADIUS=500;X-TITLE=500 Tiger Dr:geo:-94.244358,39.349002
END:VEVENT
BEGIN:VEVENT
DTSTART;TZID=America/Chicago:20271213T110000
DTEND;TZID=America/Chicago:20271213T150000
DTSTAMP:20260421T210857
CREATED:20260412T180559Z
LAST-MODIFIED:20260412T180726Z
UID:10004808-1828695600-1828710000@events.excelsiorcitizen.com
SUMMARY:Toddler Swim
DESCRIPTION:Bring your little ones to enjoy the indoor pool with pool toys and fun aquatic features! FREE for ESCC Members and just $5 for Non-Members (parents/guardians get in free and must be present). Every Monday from 11:00 AM – 3:00 PM​\, Ages 2- 5 Years
URL:https://events.excelsiorcitizen.com/event/toddler-swim-2/2027-12-13/
LOCATION:Excelsior Springs Community Center\, 500 Tiger Dr\, Excelsior Springs\, MO\, United States
ATTACH;FMTTYPE=image/png:https://events.excelsiorcitizen.com/wp-content/uploads/2026/04/toddlerswim-1.png
GEO:39.349002;-94.244358
X-APPLE-STRUCTURED-LOCATION;VALUE=URI;X-ADDRESS=Excelsior Springs Community Center 500 Tiger Dr Excelsior Springs MO United States;X-APPLE-RADIUS=500;X-TITLE=500 Tiger Dr:geo:-94.244358,39.349002
END:VEVENT
BEGIN:VEVENT
DTSTART;TZID=America/Chicago:20271213T180000
DTEND;TZID=America/Chicago:20271213T200000
DTSTAMP:20260421T210857
CREATED:20260413T050948Z
LAST-MODIFIED:20260413T050948Z
UID:10005268-1828720800-1828728000@events.excelsiorcitizen.com
SUMMARY:Hall of Writers April 2026 Meeting
DESCRIPTION:The Hall of Writers offers writers and poets of Excelsior Springs\, MO and surrounding areas with a creative community and support system. They meet the 2nd Monday of every month.
URL:https://events.excelsiorcitizen.com/event/hall-of-writers-april-2026-meeting/2027-12-13/
LOCATION:Other Trails – Coffee & Goods\, 115 E Broadway Ave\, Excelsior Springs\, MO\, 64024\, United States
ATTACH;FMTTYPE=image/jpeg:https://events.excelsiorcitizen.com/wp-content/uploads/2026/04/hall-of-writers.jpeg
END:VEVENT
BEGIN:VEVENT
DTSTART;TZID=America/Chicago:20271214T190000
DTEND;TZID=America/Chicago:20271214T200000
DTSTAMP:20260421T210857
CREATED:20260217T023150Z
LAST-MODIFIED:20260217T023150Z
UID:10004269-1828810800-1828814400@events.excelsiorcitizen.com
SUMMARY:New Freedom Recovery Program
DESCRIPTION:Join New Freedom Recovery Program on Tuesdays at 7:00pm at Crescent Lake Christian Center\, 1250 St Louis Ave\, Excelsior Springs\, as we journey through “Hope”. Rather than seeking hope within ourself\, find peace in trusting God\, who loves and accepts us unconditionally\, despite our imperfections. Lead me; instruct me; for You are the God who grants me salvation. My hope is solely in You. Psalm 25:5 \nAddictions\, Alcoholism\, Hang-ups\, Depression\, Substance Abuse \nFor more information\, call Steve Waymen 816-377-7226 \n 
URL:https://events.excelsiorcitizen.com/event/new-freedom-recovery-program-3/2027-12-14/
LOCATION:Crescent Lake Christian Center\, 1250 St Louis Ave\, Excelsior Springs\, MO\, 64024\, United States
ATTACH;FMTTYPE=image/jpeg:https://events.excelsiorcitizen.com/wp-content/uploads/2026/02/631611260_10236263434379618_5041821824909759256_n-1.jpg
END:VEVENT
BEGIN:VEVENT
DTSTART;TZID=America/Chicago:20271215T110000
DTEND;TZID=America/Chicago:20271215T150000
DTSTAMP:20260421T210857
CREATED:20260412T181521Z
LAST-MODIFIED:20260412T181521Z
UID:10005069-1828868400-1828882800@events.excelsiorcitizen.com
SUMMARY:Home School Swim
DESCRIPTION:Bring your home school students ages 18 and under to enjoy the indoor pool and all that is has to offer! FREE for ESCC Members and just $5 for Non-Members (parent/guardian gets in free and must be present). Every Wednesday from 11:00 AM- 3:00 PM.
URL:https://events.excelsiorcitizen.com/event/home-school-swim-2/2027-12-15/
LOCATION:Excelsior Springs Community Center\, 500 Tiger Dr\, Excelsior Springs\, MO\, United States
ATTACH;FMTTYPE=image/jpeg:https://events.excelsiorcitizen.com/wp-content/uploads/2026/04/home-school-swim-1.jpg
GEO:39.349002;-94.244358
X-APPLE-STRUCTURED-LOCATION;VALUE=URI;X-ADDRESS=Excelsior Springs Community Center 500 Tiger Dr Excelsior Springs MO United States;X-APPLE-RADIUS=500;X-TITLE=500 Tiger Dr:geo:-94.244358,39.349002
END:VEVENT
BEGIN:VEVENT
DTSTART;TZID=America/Chicago:20271216T190000
DTEND;TZID=America/Chicago:20271216T210000
DTSTAMP:20260421T210857
CREATED:20260413T051227Z
LAST-MODIFIED:20260413T051227Z
UID:10005328-1828983600-1828990800@events.excelsiorcitizen.com
SUMMARY:Karaoke Night at The Atlas Saloon
DESCRIPTION:Karaoke this week at The Atlas Saloon from 7-9pm. Come hang out with us for a couple hours. Singers and spectators are all welcome. Come support local and show them some love. 
URL:https://events.excelsiorcitizen.com/event/karaoke-night-at-the-atlas-saloon-2/2027-12-16/
LOCATION:The Atlas Saloon\, 100 W Broadway Ave\, Excelsior Springs\, MO\, 64024\, United States
ATTACH;FMTTYPE=image/jpeg:https://events.excelsiorcitizen.com/wp-content/uploads/2026/04/KaraokeNight.jpg
END:VEVENT
BEGIN:VEVENT
DTSTART;TZID=America/Chicago:20271220T110000
DTEND;TZID=America/Chicago:20271220T150000
DTSTAMP:20260421T210857
CREATED:20260412T180559Z
LAST-MODIFIED:20260412T180726Z
UID:10004809-1829300400-1829314800@events.excelsiorcitizen.com
SUMMARY:Toddler Swim
DESCRIPTION:Bring your little ones to enjoy the indoor pool with pool toys and fun aquatic features! FREE for ESCC Members and just $5 for Non-Members (parents/guardians get in free and must be present). Every Monday from 11:00 AM – 3:00 PM​\, Ages 2- 5 Years
URL:https://events.excelsiorcitizen.com/event/toddler-swim-2/2027-12-20/
LOCATION:Excelsior Springs Community Center\, 500 Tiger Dr\, Excelsior Springs\, MO\, United States
ATTACH;FMTTYPE=image/png:https://events.excelsiorcitizen.com/wp-content/uploads/2026/04/toddlerswim-1.png
GEO:39.349002;-94.244358
X-APPLE-STRUCTURED-LOCATION;VALUE=URI;X-ADDRESS=Excelsior Springs Community Center 500 Tiger Dr Excelsior Springs MO United States;X-APPLE-RADIUS=500;X-TITLE=500 Tiger Dr:geo:-94.244358,39.349002
END:VEVENT
BEGIN:VEVENT
DTSTART;TZID=America/Chicago:20271221T110000
DTEND;TZID=America/Chicago:20271221T120000
DTSTAMP:20260421T210857
CREATED:20260205T171810Z
LAST-MODIFIED:20260223T174533Z
UID:10004056-1829386800-1829390400@events.excelsiorcitizen.com
SUMMARY:Veteran's Lunch Meetup
DESCRIPTION:Senior Center\nEvery month on the 3rd Tuesday.\nReservations are required at least 24 hours in advance. Call 816-630-5955 x1. There is a suggested donation of $2 to cover the cost of lunch.
URL:https://events.excelsiorcitizen.com/event/veterans-lunch-meetup-23/
LOCATION:Excelsior Springs Community Center\, 500 Tiger Dr\, Excelsior Springs\, MO\, United States
GEO:39.349002;-94.244358
X-APPLE-STRUCTURED-LOCATION;VALUE=URI;X-ADDRESS=Excelsior Springs Community Center 500 Tiger Dr Excelsior Springs MO United States;X-APPLE-RADIUS=500;X-TITLE=500 Tiger Dr:geo:-94.244358,39.349002
END:VEVENT
END:VCALENDAR