BEGIN:VCALENDAR
VERSION:2.0
PRODID:-// - ECPv6.15.20//NONSGML v1.0//EN
CALSCALE:GREGORIAN
METHOD:PUBLISH
X-ORIGINAL-URL:https://events.excelsiorcitizen.com
X-WR-CALDESC:Events for 
REFRESH-INTERVAL;VALUE=DURATION:PT1H
X-Robots-Tag:noindex
X-PUBLISHED-TTL:PT1H
BEGIN:VTIMEZONE
TZID:UTC
BEGIN:STANDARD
TZOFFSETFROM:+0000
TZOFFSETTO:+0000
TZNAME:UTC
DTSTART:20250101T000000
END:STANDARD
END:VTIMEZONE
BEGIN:VTIMEZONE
TZID:America/Chicago
BEGIN:DAYLIGHT
TZOFFSETFROM:-0600
TZOFFSETTO:-0500
TZNAME:CDT
DTSTART:20250309T080000
END:DAYLIGHT
BEGIN:STANDARD
TZOFFSETFROM:-0500
TZOFFSETTO:-0600
TZNAME:CST
DTSTART:20251102T070000
END:STANDARD
BEGIN:DAYLIGHT
TZOFFSETFROM:-0600
TZOFFSETTO:-0500
TZNAME:CDT
DTSTART:20260308T080000
END:DAYLIGHT
BEGIN:STANDARD
TZOFFSETFROM:-0500
TZOFFSETTO:-0600
TZNAME:CST
DTSTART:20261101T070000
END:STANDARD
BEGIN:DAYLIGHT
TZOFFSETFROM:-0600
TZOFFSETTO:-0500
TZNAME:CDT
DTSTART:20270314T080000
END:DAYLIGHT
BEGIN:STANDARD
TZOFFSETFROM:-0500
TZOFFSETTO:-0600
TZNAME:CST
DTSTART:20271107T070000
END:STANDARD
END:VTIMEZONE
BEGIN:VEVENT
DTSTART;TZID=UTC:20260406T173000
DTEND;TZID=UTC:20260406T184500
DTSTAMP:20260420T155956
CREATED:20260113T041659Z
LAST-MODIFIED:20260406T032913Z
UID:10003807-1775496600-1775501100@events.excelsiorcitizen.com
SUMMARY:How To Plan and Pay For Dementia Care
DESCRIPTION:A dementia diagnosis changes everything — emotionally\, medically\, and financially. Families often feel overwhelmed trying to balance quality care with the rising cost of long-term support. In this informative session\, you’ll learn how to prepare legally\, financially\, and practically for the journey ahead. Topics include: The real costs of dementia care — and how to plan for them. \nLegal documents every family needs before a crisis. Options for in-home\, assisted living\, and nursing care. How Medicaid and long-term care benefits really work. How proactive legal planning can protect your loved one’s assets. Join us to gain clarity\, confidence\, and a roadmap for what comes next. Because with the right plan\, you can focus less on the “how” and more on caring for the person you love. \nhttps://www.facebook.com/events/1837988733547610/
URL:https://events.excelsiorcitizen.com/event/how-to-plan-pay-for-dementia-care/
LOCATION:614 Tiger Dr\, Excelsior Springs\, MO\, United States
ATTACH;FMTTYPE=image/jpeg:https://events.excelsiorcitizen.com/wp-content/uploads/2024/12/career-center-beds-121524-11.jpg
ORGANIZER;CN="Lifescape Elder Care Law &amp%3B Estate Planning%2C LLC":MAILTO:noreply@facebookmail.com
GEO:39.332601;-94.274632
END:VEVENT
BEGIN:VEVENT
DTSTART;VALUE=DATE:20260407
DTEND;VALUE=DATE:20260409
DTSTAMP:20260420T155956
CREATED:20260322T194717Z
LAST-MODIFIED:20260322T194717Z
UID:10004637-1775527200-1775613599@events.excelsiorcitizen.com
SUMMARY:ESPR Spring Women's Volleyball
DESCRIPTION:Grab your girls and get ready to bump\, set\, and spike your way into spring!Spring Women’s League Volleyball is back\, and it’s the perfect way to stay active and have fun with your crew. Women 18+ can register a team for $100 or sign up solo for $15\, and we’ll help place you on a team.Games run every Sunday from April 12th through May 31st at the Excelsior Springs Community Center.
URL:https://events.excelsiorcitizen.com/event/espr-spring-womens-volleyball/
LOCATION:Excelsior Springs Community Center\, 500 Tiger Dr\, Excelsior Springs\, MO\, United States
ATTACH;FMTTYPE=image/jpeg:https://events.excelsiorcitizen.com/wp-content/uploads/2026/03/654469405_1447238504110373_8408322144204362645_n-1-1.jpg
GEO:39.349002;-94.244358
X-APPLE-STRUCTURED-LOCATION;VALUE=URI;X-ADDRESS=Excelsior Springs Community Center 500 Tiger Dr Excelsior Springs MO United States;X-APPLE-RADIUS=500;X-TITLE=500 Tiger Dr:geo:-94.244358,39.349002
END:VEVENT
BEGIN:VEVENT
DTSTART;TZID=America/Chicago:20260407T120000
DTEND;TZID=America/Chicago:20260407T140000
DTSTAMP:20260420T155956
CREATED:20260310T033717Z
LAST-MODIFIED:20260310T033717Z
UID:10004581-1775563200-1775570400@events.excelsiorcitizen.com
SUMMARY:The Elms Hotel & Spa Spring Job Fair
DESCRIPTION:
URL:https://events.excelsiorcitizen.com/event/the-elms-hotel-spa-spring-job-fair/
LOCATION:The Elms Hotel and Spa\, 401 Regent St\, Excelsior Springs\, MO\, 64024\, United States
ATTACH;FMTTYPE=image/jpeg:https://events.excelsiorcitizen.com/wp-content/uploads/2026/03/646735778_1337039651790060_6158065476291314199_n.jpg
END:VEVENT
BEGIN:VEVENT
DTSTART;TZID=UTC:20260407T160000
DTEND;TZID=UTC:20260407T180000
DTSTAMP:20260420T155956
CREATED:20260103T022341Z
LAST-MODIFIED:20260406T034428Z
UID:10002643-1775577600-1775584800@events.excelsiorcitizen.com
SUMMARY:Baseball: C Gold  vs. Liberty C White (Away)
DESCRIPTION:Type: Game Opponent: Liberty C White
URL:https://events.excelsiorcitizen.com/event/baseball-c-gold-vs-liberty-c-white-away/
LOCATION:Liberty High School
ATTACH;FMTTYPE=image/jpeg:https://events.excelsiorcitizen.com/wp-content/uploads/2023/06/tigers-baseball-offense.jpeg
END:VEVENT
BEGIN:VEVENT
DTSTART;TZID=UTC:20260407T160000
DTEND;TZID=UTC:20260407T180000
DTSTAMP:20260420T155956
CREATED:20260103T022341Z
LAST-MODIFIED:20260406T033321Z
UID:10002644-1775577600-1775584800@events.excelsiorcitizen.com
SUMMARY:Tennis: Boys Varsity and JV vs. Raytown (Home)
DESCRIPTION:Type: Match Opponent: Raytown
URL:https://events.excelsiorcitizen.com/event/tennis-boys-varsity-vs-raytown-home/
LOCATION:Excelsior Springs Middle School  Tennis Courts
ATTACH;FMTTYPE=image/jpeg:https://events.excelsiorcitizen.com/wp-content/uploads/2024/08/tennis-feat-090924.jpg
END:VEVENT
BEGIN:VEVENT
DTSTART;TZID=UTC:20260407T160000
DTEND;TZID=UTC:20260407T180000
DTSTAMP:20260420T155956
CREATED:20260103T022342Z
LAST-MODIFIED:20260406T033617Z
UID:10002645-1775577600-1775584800@events.excelsiorcitizen.com
SUMMARY:Baseball: Varsity vs. Raytown South (Home)
DESCRIPTION:Type: Game Opponent: Raytown South
URL:https://events.excelsiorcitizen.com/event/baseball-varsity-vs-raytown-south-home/
LOCATION:Excelsior Springs High School  Baseball Field 3 (turf)
ATTACH;FMTTYPE=image/jpeg:https://events.excelsiorcitizen.com/wp-content/uploads/2025/05/Untitled-design.jpeg
END:VEVENT
BEGIN:VEVENT
DTSTART;TZID=UTC:20260407T160000
DTEND;TZID=UTC:20260408T180000
DTSTAMP:20260420T155956
CREATED:20260103T022342Z
LAST-MODIFIED:20260406T034331Z
UID:10002646-1775577600-1775671200@events.excelsiorcitizen.com
SUMMARY:Track: Excelsior Springs Middle School vs.  Brittany Hill Middle (Away)
DESCRIPTION:Type: Triangular Opponent: Excelsior Springs Middle School vs. Brittany Hill Middle
URL:https://events.excelsiorcitizen.com/event/track-ms-ms-vs-excelsior-springs-middle-school-vs-brittany-hill-middle-away/
LOCATION:Brittany Hill Middle School
ATTACH;FMTTYPE=image/jpeg:https://events.excelsiorcitizen.com/wp-content/uploads/2024/05/eshs-track-052724-2.jpg
END:VEVENT
BEGIN:VEVENT
DTSTART;TZID=UTC:20260407T170000
DTEND;TZID=UTC:20260407T200000
DTSTAMP:20260420T155956
CREATED:20260103T022401Z
LAST-MODIFIED:20260406T034630Z
UID:10002647-1775581200-1775592000@events.excelsiorcitizen.com
SUMMARY:Soccer: Girls Varsity and JV vs. St. Joseph Central (Away)
DESCRIPTION:Type: Game Opponent: St. Joseph Central \nJV – 5pm; Varsity – 6:30pm
URL:https://events.excelsiorcitizen.com/event/soccer-girls-jv-vs-st-joseph-central-away/
LOCATION:St. Joseph Central High School
ATTACH;FMTTYPE=image/jpeg:https://events.excelsiorcitizen.com/wp-content/uploads/2024/08/soccer-feat-090924.jpg
END:VEVENT
BEGIN:VEVENT
DTSTART;TZID=America/Chicago:20260407T183000
DTEND;TZID=America/Chicago:20260407T193000
DTSTAMP:20260420T155956
CREATED:20260217T002652Z
LAST-MODIFIED:20260217T002652Z
UID:10004115-1775586600-1775590200@events.excelsiorcitizen.com
SUMMARY:Financial Peace University
DESCRIPTION:Take a step toward financial confidence and peace of mind.Oasis Outreach Ministries is hosting Financial Peace University\, a practical\, step-by-step course to help you take control of your money and plan for your future.Tuesday eveningsMarch 3 – April 286:30 p.m.Oasis Outreach Ministries\, 108 W. Broadway\, Excelsior SpringsSeating is limited\, so register early at OasisOutreachMO.org and start winning with money.
URL:https://events.excelsiorcitizen.com/event/financial-peace-university/2026-04-07/
LOCATION:Oasis Outreach Ministry\, 108 W Broadway Ave\, Excelsior Springs\, MO\, 64024\, United States
ATTACH;FMTTYPE=image/jpeg:https://events.excelsiorcitizen.com/wp-content/uploads/2026/02/629847948_1407153758120799_4226016857652137779_n-1.jpg
END:VEVENT
BEGIN:VEVENT
DTSTART;TZID=America/Chicago:20260407T190000
DTEND;TZID=America/Chicago:20260407T200000
DTSTAMP:20260420T155956
CREATED:20260217T023150Z
LAST-MODIFIED:20260217T023150Z
UID:10004181-1775588400-1775592000@events.excelsiorcitizen.com
SUMMARY:New Freedom Recovery Program
DESCRIPTION:Join New Freedom Recovery Program on Tuesdays at 7:00pm at Crescent Lake Christian Center\, 1250 St Louis Ave\, Excelsior Springs\, as we journey through “Hope”. Rather than seeking hope within ourself\, find peace in trusting God\, who loves and accepts us unconditionally\, despite our imperfections. Lead me; instruct me; for You are the God who grants me salvation. My hope is solely in You. Psalm 25:5 \nAddictions\, Alcoholism\, Hang-ups\, Depression\, Substance Abuse \nFor more information\, call Steve Waymen 816-377-7226 \n 
URL:https://events.excelsiorcitizen.com/event/new-freedom-recovery-program-3/2026-04-07/
LOCATION:Crescent Lake Christian Center\, 1250 St Louis Ave\, Excelsior Springs\, MO\, 64024\, United States
ATTACH;FMTTYPE=image/jpeg:https://events.excelsiorcitizen.com/wp-content/uploads/2026/02/631611260_10236263434379618_5041821824909759256_n-1.jpg
END:VEVENT
BEGIN:VEVENT
DTSTART;TZID=UTC:20260408T090000
DTEND;TZID=UTC:20260408T120000
DTSTAMP:20260420T155956
CREATED:20260103T022402Z
LAST-MODIFIED:20260406T035505Z
UID:10002653-1775638800-1775649600@events.excelsiorcitizen.com
SUMMARY:Tennis: Boys JV  vs. Multiple Schools (Home)
DESCRIPTION:Type: Tournament Opponent: Fort Osage\, Harrisonville\, Kearney\, Richmond\, Warrensburg\, Winnetonka  – Multiple Schools
URL:https://events.excelsiorcitizen.com/event/tennis-boys-jv-vs-fort-osageharrisonvillekearneyrichmondwarrensburgwinnetonkamultiple-schools-home/
LOCATION:Excelsior Springs Middle School  Tennis Courts
ATTACH;FMTTYPE=image/jpeg:https://events.excelsiorcitizen.com/wp-content/uploads/2024/05/eshs-mens-tennis-conf-champs.jpg
END:VEVENT
BEGIN:VEVENT
DTSTART;TZID=America/Chicago:20260408T100000
DTEND;TZID=America/Chicago:20260408T140000
DTSTAMP:20260420T155956
CREATED:20260310T034556Z
LAST-MODIFIED:20260310T034556Z
UID:10004584-1775642400-1775656800@events.excelsiorcitizen.com
SUMMARY:Westlake Wednesday - Pet Resource Center
DESCRIPTION:Come see us at the Westlake Ace Hardware store for affordable vaccinations at 157A Crown Hill RD Excelsior Springs\, MO 64024.\n\nVisit https://prckc.org/pet…/mobile-pet-vaccinations/… to book a time for your pet.
URL:https://events.excelsiorcitizen.com/event/westlake-wednesday-pet-resource-center/
LOCATION:MO
ATTACH;FMTTYPE=image/jpeg:https://events.excelsiorcitizen.com/wp-content/uploads/2026/03/645646036_1456635965832363_2488707751431293097_n.jpg
END:VEVENT
BEGIN:VEVENT
DTSTART;TZID=UTC:20260408T130000
DTEND;TZID=UTC:20260408T170000
DTSTAMP:20260420T155956
CREATED:20260103T022402Z
LAST-MODIFIED:20260406T035224Z
UID:10002651-1775653200-1775667600@events.excelsiorcitizen.com
SUMMARY:Golf: Boys Varsity vs. Cameron (Away)
DESCRIPTION:Type: Tournament Opponent: Cameron
URL:https://events.excelsiorcitizen.com/event/golf-boys-varsity-vs-cameron-away/
LOCATION:Cameron Memorial Golf Course
ATTACH;FMTTYPE=image/jpeg:https://events.excelsiorcitizen.com/wp-content/uploads/2024/08/golf-feat-090924.jpg
END:VEVENT
BEGIN:VEVENT
DTSTART;TZID=America/Chicago:20260408T144500
DTEND;TZID=America/Chicago:20260408T161500
DTSTAMP:20260420T155956
CREATED:20260322T192039Z
LAST-MODIFIED:20260322T192039Z
UID:10004632-1775659500-1775664900@events.excelsiorcitizen.com
SUMMARY:ESMS Walking Club
DESCRIPTION:Lace up your sneakers and join us for some campus walks after school. If it’s raining\, we will walk inside the middle school. \nStarts at 2:45pm and ends at 4:15pm. You will need your own transportation on Wednesdays. On Thursdays\, you can ride the activity bus if you sign up for tutoring after. \nContact Ms. Smith with any questions. \nDates: 3/25\, 3/26\, 4/8\, 4/9\, 4/15\, 4/22\, 4/23
URL:https://events.excelsiorcitizen.com/event/esms-walking-club/2026-04-08/
LOCATION:Excelsior Springs Middle School – Commons
ATTACH;FMTTYPE=image/jpeg:https://events.excelsiorcitizen.com/wp-content/uploads/2026/03/654424215_1554772193312877_3983473893440786525_n-1.jpg
END:VEVENT
BEGIN:VEVENT
DTSTART;TZID=UTC:20260408T160000
DTEND;TZID=UTC:20260408T180000
DTSTAMP:20260420T155956
CREATED:20260103T022402Z
LAST-MODIFIED:20260406T035807Z
UID:10002652-1775664000-1775671200@events.excelsiorcitizen.com
SUMMARY:Baseball: Varsity and JV vs. Smithville School District (Home)
DESCRIPTION:Type: Game Opponent: Smithville School District
URL:https://events.excelsiorcitizen.com/event/baseball-varsity-vs-smithville-school-district-home/
LOCATION:Excelsior Springs High School  Baseball Field 3 (turf)
ATTACH;FMTTYPE=image/jpeg:https://events.excelsiorcitizen.com/wp-content/uploads/2023/06/tigers-baseball-team-feat-1.jpg
END:VEVENT
BEGIN:VEVENT
DTSTART;TZID=UTC:20260408T160000
DTEND;TZID=UTC:20260408T183000
DTSTAMP:20260420T155956
CREATED:20260103T022422Z
LAST-MODIFIED:20260406T040001Z
UID:10002657-1775664000-1775673000@events.excelsiorcitizen.com
SUMMARY:Baseball: C Gold  vs. Fort Osage (Away)
DESCRIPTION:Type: Game Opponent: Fort Osage
URL:https://events.excelsiorcitizen.com/event/baseball-c-gold-vs-tba-away-2/
LOCATION:Webb Park
ATTACH;FMTTYPE=image/jpeg:https://events.excelsiorcitizen.com/wp-content/uploads/2023/06/tigers-baseball-huddle.jpeg
END:VEVENT
BEGIN:VEVENT
DTSTART;TZID=America/Chicago:20260408T170000
DTEND;TZID=America/Chicago:20260408T180000
DTSTAMP:20260420T155956
CREATED:20260206T232502Z
LAST-MODIFIED:20260209T014456Z
UID:10004060-1775667600-1775671200@events.excelsiorcitizen.com
SUMMARY:Historic Preservation Commission Meeting
DESCRIPTION:The Historic Preservation Commission of the City of Excelsior Springs Historic Preservation Commission Meeting at 5:00 PM at the Hall of Waters\, to consider and act upon the matters on the following agenda and such other matters as may be presented at the meeting and determined to be appropriate for discussion at the time. \n 
URL:https://events.excelsiorcitizen.com/event/historic-preservation-commission-meeting-6/2026-04-08/
LOCATION:MO
ATTACH;FMTTYPE=image/jpeg:https://events.excelsiorcitizen.com/wp-content/uploads/2026/02/cityofes-1.jpg
END:VEVENT
BEGIN:VEVENT
DTSTART;TZID=America/Chicago:20260409T100000
DTEND;TZID=America/Chicago:20260409T170000
DTSTAMP:20260420T155956
CREATED:20260406T015346Z
LAST-MODIFIED:20260406T015346Z
UID:10004670-1775728800-1775754000@events.excelsiorcitizen.com
SUMMARY:Thursday Treats & Lemonade
DESCRIPTION:Flavored Lemonade & treats every Thursday now through the summer with your Thompson Avenue Shops. 6 Shops & a 7th to join us soon in May!
URL:https://events.excelsiorcitizen.com/event/thursday-treats-lemonade/
LOCATION:Downtown Excelsior Springs\, Excelsior Springs\, MO\, 64024\, United States
ATTACH;FMTTYPE=image/jpeg:https://events.excelsiorcitizen.com/wp-content/uploads/2026/04/659198058_122192611574382642_6044374300405172468_n.jpg
END:VEVENT
BEGIN:VEVENT
DTSTART;TZID=America/Chicago:20260409T114500
DTEND;TZID=America/Chicago:20260409T130000
DTSTAMP:20260420T155956
CREATED:20260223T061638Z
LAST-MODIFIED:20260223T061638Z
UID:10004550-1775735100-1775739600@events.excelsiorcitizen.com
SUMMARY:Lunch and Learn | Top Five Marketing and Communications Tips You Need to Know
DESCRIPTION:Join us for a casual lunch & learn session where we discuss top marketing and communications tip in a supportive community setting.
URL:https://events.excelsiorcitizen.com/event/lunch-and-learn-top-five-marketing-and-communications-tips-you-need-to-know/
LOCATION:First United Methodist Church of Excelsior Springs
ATTACH;FMTTYPE=image/jpeg:https://events.excelsiorcitizen.com/wp-content/uploads/2026/02/637631898_1414658230703685_3770770410498129438_n-1.jpg
ORGANIZER;CN="The CO-OP Coworking &amp%3B Event Spaces":MAILTO:noreply@facebookmail.com
END:VEVENT
BEGIN:VEVENT
DTSTART;TZID=America/Chicago:20260409T144500
DTEND;TZID=America/Chicago:20260409T161500
DTSTAMP:20260420T155956
CREATED:20260322T192039Z
LAST-MODIFIED:20260322T192039Z
UID:10004633-1775745900-1775751300@events.excelsiorcitizen.com
SUMMARY:ESMS Walking Club
DESCRIPTION:Lace up your sneakers and join us for some campus walks after school. If it’s raining\, we will walk inside the middle school. \nStarts at 2:45pm and ends at 4:15pm. You will need your own transportation on Wednesdays. On Thursdays\, you can ride the activity bus if you sign up for tutoring after. \nContact Ms. Smith with any questions. \nDates: 3/25\, 3/26\, 4/8\, 4/9\, 4/15\, 4/22\, 4/23
URL:https://events.excelsiorcitizen.com/event/esms-walking-club/2026-04-09/
LOCATION:Excelsior Springs Middle School – Commons
ATTACH;FMTTYPE=image/jpeg:https://events.excelsiorcitizen.com/wp-content/uploads/2026/03/654424215_1554772193312877_3983473893440786525_n-1.jpg
END:VEVENT
BEGIN:VEVENT
DTSTART;TZID=UTC:20260409T160000
DTEND;TZID=UTC:20260409T180000
DTSTAMP:20260420T155956
CREATED:20260103T022425Z
LAST-MODIFIED:20260406T042210Z
UID:10002659-1775750400-1775757600@events.excelsiorcitizen.com
SUMMARY:Track: Excelsior Springs Middle School vs.  Belton Middle School (Away)
DESCRIPTION:Type: Quad Opponent: Excelsior Springs Middle School vs. Belton Middle School
URL:https://events.excelsiorcitizen.com/event/track-ms-ms-vs-excelsior-springs-middle-school-vs-belton-middle-school-away/
LOCATION:Belton High School
ATTACH;FMTTYPE=image/jpeg:https://events.excelsiorcitizen.com/wp-content/uploads/2023/03/bonuchi-field.jpg
END:VEVENT
BEGIN:VEVENT
DTSTART;TZID=UTC:20260409T160000
DTEND;TZID=UTC:20260409T180000
DTSTAMP:20260420T155956
CREATED:20260114T041916Z
LAST-MODIFIED:20260406T041703Z
UID:10003811-1775750400-1775757600@events.excelsiorcitizen.com
SUMMARY:Baseball: C Gold  vs. Liberty North C Navy (Away)
DESCRIPTION:Type: Game Opponent: Liberty North C Navy
URL:https://events.excelsiorcitizen.com/event/baseball-c-gold-vs-liberty-north-c-navy-away/
LOCATION:Liberty North High School
ATTACH;FMTTYPE=image/jpeg:https://events.excelsiorcitizen.com/wp-content/uploads/2023/06/tigers-baseball-defense.jpeg
END:VEVENT
BEGIN:VEVENT
DTSTART;TZID=America/Chicago:20260409T163000
DTEND;TZID=America/Chicago:20260409T183000
DTSTAMP:20260420T155956
CREATED:20260407T043909Z
LAST-MODIFIED:20260407T043909Z
UID:10004677-1775752200-1775759400@events.excelsiorcitizen.com
SUMMARY:Open House
DESCRIPTION:There will be an Open House at 35932 Highway 10\, Rayville\, MO 64084 \nMLS# 2601793
URL:https://events.excelsiorcitizen.com/event/open-house/2026-04-09/
LOCATION:MO
ATTACH;FMTTYPE=image/jpeg:https://events.excelsiorcitizen.com/wp-content/uploads/2026/04/open-house-1.jpg
END:VEVENT
BEGIN:VEVENT
DTSTART;TZID=America/Chicago:20260409T164500
DTEND;TZID=America/Chicago:20260409T173000
DTSTAMP:20260420T155956
CREATED:20260118T234416Z
LAST-MODIFIED:20260406T041846Z
UID:10003853-1775753100-1775755800@events.excelsiorcitizen.com
SUMMARY:Cornerstone PTO April Monthly Meeting
DESCRIPTION:Please join us for our monthly PTO meeting! All parents/guardians of Cornerstone students are welcome.
URL:https://events.excelsiorcitizen.com/event/cornerstone-pto-april-monthly-meeting/
LOCATION:Cornerstone Elementary – Cornerstone Elementary
ATTACH;FMTTYPE=image/jpeg:https://events.excelsiorcitizen.com/wp-content/uploads/2026/03/Cornerstone.jpg
END:VEVENT
BEGIN:VEVENT
DTSTART;TZID=UTC:20260409T170000
DTEND;TZID=UTC:20260409T180000
DTSTAMP:20260420T155956
CREATED:20260103T022426Z
LAST-MODIFIED:20260406T044658Z
UID:10002661-1775754000-1775757600@events.excelsiorcitizen.com
SUMMARY:Cornerstone Game Night
DESCRIPTION:Comments: Game night in the library
URL:https://events.excelsiorcitizen.com/event/elementary-special-events-home-21/
LOCATION:Cornerstone Elementary – Cornerstone Elementary
ATTACH;FMTTYPE=image/jpeg:https://events.excelsiorcitizen.com/wp-content/uploads/2022/05/IMG_9205-1-scaled.jpg
END:VEVENT
BEGIN:VEVENT
DTSTART;TZID=America/Chicago:20260409T173000
DTEND;TZID=America/Chicago:20260409T193000
DTSTAMP:20260420T155956
CREATED:20260316T063229Z
LAST-MODIFIED:20260316T063229Z
UID:10004608-1775755800-1775763000@events.excelsiorcitizen.com
SUMMARY:Discover Your Jewelry Style
DESCRIPTION:Join us for an interactive evening designed to help you discover your personal jewelry style and build a timeless collection.\n\nOur Sturm Bros’ jewelry experts will guide you through five hands-on style stations\, where you’ll learn how to style earrings\, layer necklaces\, stack rings\, choose bracelets\, and find the perfect fit. Enjoy light refreshments while you explore and try on beautiful pieces in a fun\, relaxed setting.\nBonus: The first 20 ladies to check in will receive a complimentary jewelry travel case!
URL:https://events.excelsiorcitizen.com/event/discover-your-jewelry-style/
LOCATION:Sturm Bros.\, 111 E Broadway\, Excelsior Springs\, MO\, 64024\, United States
ATTACH;FMTTYPE=image/jpeg:https://events.excelsiorcitizen.com/wp-content/uploads/2026/03/650721788_1338024861681145_1640907295002807713_n.jpg
END:VEVENT
BEGIN:VEVENT
DTSTART;TZID=UTC:20260409T183000
DTEND;TZID=UTC:20260410T203000
DTSTAMP:20260420T155956
CREATED:20260103T022424Z
LAST-MODIFIED:20260406T042534Z
UID:10002658-1775759400-1775853000@events.excelsiorcitizen.com
SUMMARY:Soccer: Girls Varsity and JV vs. Raytown South (Away)
DESCRIPTION:Type: Game Opponent: Raytown South
URL:https://events.excelsiorcitizen.com/event/soccer-girls-varsity-vs-raytown-south-away/
LOCATION:Raytown South High School
ATTACH;FMTTYPE=image/jpeg:https://events.excelsiorcitizen.com/wp-content/uploads/2024/08/soccer-feat-090924.jpg
END:VEVENT
BEGIN:VEVENT
DTSTART;TZID=UTC:20260410T123000
DTEND;TZID=UTC:20260410T163000
DTSTAMP:20260420T155956
CREATED:20260103T022427Z
LAST-MODIFIED:20260406T042829Z
UID:10002665-1775824200-1775838600@events.excelsiorcitizen.com
SUMMARY:Teacher In-Service - Half Day of School
DESCRIPTION:Comments: 1/2 Day of School. Teacher In-Service
URL:https://events.excelsiorcitizen.com/event/special-events-eshs-home-51/
LOCATION:MO
ATTACH;FMTTYPE=image/png:https://events.excelsiorcitizen.com/wp-content/uploads/2026/02/essd-logo-1.png
END:VEVENT
BEGIN:VEVENT
DTSTART;TZID=UTC:20260410T160000
DTEND;TZID=UTC:20260410T180000
DTSTAMP:20260420T155956
CREATED:20260103T022446Z
LAST-MODIFIED:20260406T043201Z
UID:10002668-1775836800-1775844000@events.excelsiorcitizen.com
SUMMARY:Baseball: Varsity  vs. St. Joseph Central (Away)
DESCRIPTION:Type: Game Opponent: St. Joseph Central
URL:https://events.excelsiorcitizen.com/event/baseball-varsity-vs-st-joseph-central-away/
LOCATION:Phil Welch Stadium
ATTACH;FMTTYPE=image/jpeg:https://events.excelsiorcitizen.com/wp-content/uploads/2023/06/tigers-baseball-offense.jpeg
END:VEVENT
BEGIN:VEVENT
DTSTART;TZID=UTC:20260410T160000
DTEND;TZID=UTC:20260410T180000
DTSTAMP:20260420T155956
CREATED:20260103T022447Z
LAST-MODIFIED:20260406T043324Z
UID:10002670-1775836800-1775844000@events.excelsiorcitizen.com
SUMMARY:Track: Varsity vs. Kearney (Away)
DESCRIPTION:Type: Invitational Opponent: Kearney
URL:https://events.excelsiorcitizen.com/event/track-varsity-vs-kearney-away/
LOCATION:Kearney High School
END:VEVENT
END:VCALENDAR