BEGIN:VCALENDAR
VERSION:2.0
PRODID:-// - ECPv6.15.20//NONSGML v1.0//EN
CALSCALE:GREGORIAN
METHOD:PUBLISH
X-ORIGINAL-URL:https://events.excelsiorcitizen.com
X-WR-CALDESC:Events for 
REFRESH-INTERVAL;VALUE=DURATION:PT1H
X-Robots-Tag:noindex
X-PUBLISHED-TTL:PT1H
BEGIN:VTIMEZONE
TZID:UTC
BEGIN:STANDARD
TZOFFSETFROM:+0000
TZOFFSETTO:+0000
TZNAME:UTC
DTSTART:20240101T000000
END:STANDARD
END:VTIMEZONE
BEGIN:VTIMEZONE
TZID:America/Chicago
BEGIN:DAYLIGHT
TZOFFSETFROM:-0600
TZOFFSETTO:-0500
TZNAME:CDT
DTSTART:20240310T080000
END:DAYLIGHT
BEGIN:STANDARD
TZOFFSETFROM:-0500
TZOFFSETTO:-0600
TZNAME:CST
DTSTART:20241103T070000
END:STANDARD
BEGIN:DAYLIGHT
TZOFFSETFROM:-0600
TZOFFSETTO:-0500
TZNAME:CDT
DTSTART:20250309T080000
END:DAYLIGHT
BEGIN:STANDARD
TZOFFSETFROM:-0500
TZOFFSETTO:-0600
TZNAME:CST
DTSTART:20251102T070000
END:STANDARD
BEGIN:DAYLIGHT
TZOFFSETFROM:-0600
TZOFFSETTO:-0500
TZNAME:CDT
DTSTART:20260308T080000
END:DAYLIGHT
BEGIN:STANDARD
TZOFFSETFROM:-0500
TZOFFSETTO:-0600
TZNAME:CST
DTSTART:20261101T070000
END:STANDARD
END:VTIMEZONE
BEGIN:VEVENT
DTSTART;TZID=UTC:20251127T003000
DTEND;TZID=UTC:20251127T013000
DTSTAMP:20260420T030909
CREATED:20251120T184202Z
LAST-MODIFIED:20251126T212057Z
UID:10002209-1764203400-1764207000@events.excelsiorcitizen.com
SUMMARY:Mid-week Recharge Yoga
DESCRIPTION:Every month we focus on a theme and introduce a new sequence. The sequences build on each other but you can jump in at any time.\n*Women Only* / $15 per class\nPlease message me if you have any questions.\nhttps://www.facebook.com/events/694079926648960/?event_time_id=694079956648957
URL:https://events.excelsiorcitizen.com/event/mid-week-recharge-yoga/
LOCATION:the Empowerment Studio LLC
ORGANIZER;CN="Healthy Dragon Wellness":MAILTO:noreply@facebookmail.com
END:VEVENT
BEGIN:VEVENT
DTSTART;TZID=UTC:20251127T000000
DTEND;TZID=UTC:20251127T030000
DTSTAMP:20260420T030909
CREATED:20251120T184201Z
LAST-MODIFIED:20251126T212057Z
UID:10002208-1764201600-1764212400@events.excelsiorcitizen.com
SUMMARY:ESYW Annual Black & Gold Intrasquad Dual
DESCRIPTION:Join us as we celebrate the start of our season on Wednesday\, November 26th at 6 pm in the High School Gym!  The ESYW Intra-Squad dual will give our wrestlers a chance to experience a match in action in a controlled setting and allow wrestlers to showcase their skills.\nThe cost for entry is canned or dry food\, which we will give back to our local community and/or personal hygiene products given to the high school Stu-co donation drive.\nOrder of Events:\n5:30 pm – Wrestlers warm-up\n6:00 pm – mini clinic by Tiger Alum officials\n6:15 pm – Wrestlers compete\nhttps://www.facebook.com/events/1904390843445436/
URL:https://events.excelsiorcitizen.com/event/esyw-annual-black-gold-intrasquad-dual/
LOCATION:Excelsior Springs High School\, 612 Tiger Drive\, Excelsior Springs\, MO\, 64024\, United States
ORGANIZER;CN="Alyx Chevalier Schwab":MAILTO:noreply@facebookmail.com
END:VEVENT
BEGIN:VEVENT
DTSTART;TZID=America/Chicago:20251126T180000
DTEND;TZID=America/Chicago:20251126T190000
DTSTAMP:20260420T030909
CREATED:20260112T051838Z
LAST-MODIFIED:20260112T051838Z
UID:10002869-1764180000-1764183600@events.excelsiorcitizen.com
SUMMARY:ESYW Annual Black & Gold Intrasquad Dual
DESCRIPTION:Join us as we celebrate the start of our season on Wednesday\, November 26th at 6 pm in the High School Gym! The ESYW Intra-Squad dual will give our wrestlers a chance to experience a match in action in a controlled setting and allow wrestlers to showcase their skills.\nThe cost for entry is canned or dry food\, which we will give back to our local community and/or personal hygiene products given to the high school Stu-co donation drive. \nOrder of Events:5:30 pm – Wrestlers warm-up6:00 pm – mini clinic by Tiger Alum officials6:15 pm – Wrestlers compete
URL:https://events.excelsiorcitizen.com/event/esyw-annual-black-gold-intrasquad-dual-2/
LOCATION:Excelsior Springs High School\, 612 Tiger Drive\, Excelsior Springs\, MO\, 64024\, United States
END:VEVENT
BEGIN:VEVENT
DTSTART;TZID=UTC:20251126T133000
DTEND;TZID=UTC:20251126T203000
DTSTAMP:20260420T030909
CREATED:20251120T184044Z
LAST-MODIFIED:20251125T210232Z
UID:10002157-1764163800-1764189000@events.excelsiorcitizen.com
SUMMARY:Special Events-ESHS  (Home)
DESCRIPTION:Comments: No School. Thanksgiving Break
URL:https://events.excelsiorcitizen.com/event/special-events-eshs-home-5/
LOCATION:MO
END:VEVENT
BEGIN:VEVENT
DTSTART;TZID=America/Chicago:20251126T100000
DTEND;TZID=America/Chicago:20251126T110000
DTSTAMP:20260420T030909
CREATED:20251120T224741Z
LAST-MODIFIED:20251125T231535Z
UID:10002494-1764151200-1764154800@events.excelsiorcitizen.com
SUMMARY:Mindful Med. with Nicole
DESCRIPTION:A $5 class pass is required for non-members
URL:https://events.excelsiorcitizen.com/event/mindful-med-with-nicole/
LOCATION:MO
END:VEVENT
BEGIN:VEVENT
DTSTART;TZID=UTC:20251125T233000
DTEND;TZID=UTC:20251126T023000
DTSTAMP:20260420T030909
CREATED:20251120T184044Z
LAST-MODIFIED:20251125T210231Z
UID:10002156-1764113400-1764124200@events.excelsiorcitizen.com
SUMMARY:Wrestling: Girls Varsity  vs. Lathrop (Away)
DESCRIPTION:Type: Tournament  Opponent: Lathrop
URL:https://events.excelsiorcitizen.com/event/wrestling-girls-varsity-vs-lathrop-away/
LOCATION:Lathrop High School
END:VEVENT
BEGIN:VEVENT
DTSTART;TZID=UTC:20251125T133000
DTEND;TZID=UTC:20251125T203000
DTSTAMP:20260420T030909
CREATED:20251120T184043Z
LAST-MODIFIED:20251124T204605Z
UID:10002155-1764077400-1764102600@events.excelsiorcitizen.com
SUMMARY:Special Events-ESHS  (Home)
DESCRIPTION:Comments: No School. Teacher In-Service
URL:https://events.excelsiorcitizen.com/event/special-events-eshs-home-4/
LOCATION:MO
END:VEVENT
BEGIN:VEVENT
DTSTART;TZID=UTC:20251125T010000
DTEND;TZID=UTC:20251125T023000
DTSTAMP:20260420T030909
CREATED:20251120T184043Z
LAST-MODIFIED:20251124T204605Z
UID:10002153-1764032400-1764037800@events.excelsiorcitizen.com
SUMMARY:Basketball: Girls Varsity  vs. Lafayette County C-1 (Home)
DESCRIPTION:Type: Game  Opponent: Lafayette County C-1
URL:https://events.excelsiorcitizen.com/event/basketball-girls-varsity-vs-lafayette-county-c-1-home/
LOCATION:Excelsior Springs High School  Gym
END:VEVENT
BEGIN:VEVENT
DTSTART;TZID=UTC:20251125T010000
DTEND;TZID=UTC:20251125T010000
DTSTAMP:20260420T030909
CREATED:20251120T184043Z
LAST-MODIFIED:20251124T204604Z
UID:10002154-1764032400-1764032400@events.excelsiorcitizen.com
SUMMARY:Basketball: Boys C Gold  vs. North Kansas City (Away)
DESCRIPTION:Type: Game  Opponent: North Kansas City
URL:https://events.excelsiorcitizen.com/event/basketball-boys-c-gold-vs-north-kansas-city-away/
LOCATION:North Kansas City High School
END:VEVENT
BEGIN:VEVENT
DTSTART;TZID=UTC:20251124T233000
DTEND;TZID=UTC:20251125T010000
DTSTAMP:20260420T030909
CREATED:20251120T184042Z
LAST-MODIFIED:20251124T204604Z
UID:10002151-1764027000-1764032400@events.excelsiorcitizen.com
SUMMARY:Basketball: Girls JV  vs. Lafayette County C-1 (Home)
DESCRIPTION:Type: Game  Opponent: Lafayette County C-1
URL:https://events.excelsiorcitizen.com/event/basketball-girls-jv-vs-lafayette-county-c-1-home/
LOCATION:Excelsior Springs High School  Gym
END:VEVENT
BEGIN:VEVENT
DTSTART;TZID=UTC:20251124T233000
DTEND;TZID=UTC:20251124T233000
DTSTAMP:20260420T030909
CREATED:20251120T184042Z
LAST-MODIFIED:20251120T194329Z
UID:10002152-1764027000-1764027000@events.excelsiorcitizen.com
SUMMARY:Basketball: Girls C Gold  (Cancelled) vs. North Kansas City (Away)
DESCRIPTION:Type: Game  Opponent: North Kansas City
URL:https://events.excelsiorcitizen.com/event/basketball-girls-c-gold-cancelled-vs-north-kansas-city-away/
LOCATION:North Kansas City High School
END:VEVENT
BEGIN:VEVENT
DTSTART;TZID=UTC:20251124T133000
DTEND;TZID=UTC:20251124T203000
DTSTAMP:20260420T030909
CREATED:20251120T184025Z
LAST-MODIFIED:20251123T202217Z
UID:10002150-1763991000-1764016200@events.excelsiorcitizen.com
SUMMARY:Special Events-ESHS  (Home)
DESCRIPTION:Comments: No School. Teacher In-Service
URL:https://events.excelsiorcitizen.com/event/special-events-eshs-home-3/
LOCATION:MO
END:VEVENT
BEGIN:VEVENT
DTSTART;TZID=America/Chicago:20251124T070000
DTEND;TZID=America/Chicago:20251124T220000
DTSTAMP:20260420T030909
CREATED:20260112T051808Z
LAST-MODIFIED:20260112T051808Z
UID:10002859-1763967600-1764021600@events.excelsiorcitizen.com
SUMMARY:Abelardo’s Grand Opening
DESCRIPTION:🎉 GRAND OPENING – 50% OFF all menu items! 🎉We’re officially opening our doors!\nCome celebrate with us on November 2nd at 1730 W Jesse James Rd\, Excelsior Springs\, MO 64024 🌮🔥\nEnjoy delicious tacos 🌮\, refreshing drinks 🥤\, and the Abelardo’s flavor you know and love — now in your neighborhood!\n📍 Mark your calendar\, invite your friends\, and join the fiesta!\n👉 www.abelardosmexicanfood.com
URL:https://events.excelsiorcitizen.com/event/abelardos-grand-opening/
LOCATION:MO
END:VEVENT
BEGIN:VEVENT
DTSTART;TZID=UTC:20251123T220000
DTEND;TZID=UTC:20251124T000000
DTSTAMP:20260420T030909
CREATED:20251120T184201Z
LAST-MODIFIED:20251123T201535Z
UID:10002207-1763935200-1763942400@events.excelsiorcitizen.com
SUMMARY:Nerd Group
DESCRIPTION:Ahoy!\nNerd Group is back in session for a meeting on Sunday\, November 23rd. We will be discussing the pirate adventure Bloody Jack\, a book by L. A. Meyer\, from 4 to 6 PM. Drinks and snacks will be provided.\nhttps://www.facebook.com/events/2254509928377272/
URL:https://events.excelsiorcitizen.com/event/nerd-group/
LOCATION:415 S Thompson Ave.\, 801 E Spring St\, Joplin\, MO\, United States
ORGANIZER;CN="Excelsior Boulangerie":MAILTO:noreply@facebookmail.com
GEO:37.093638;-94.50487
X-APPLE-STRUCTURED-LOCATION;VALUE=URI;X-ADDRESS=415 S Thompson Ave. 801 E Spring St Joplin MO United States;X-APPLE-RADIUS=500;X-TITLE=801 E Spring St:geo:-94.50487,37.093638
END:VEVENT
BEGIN:VEVENT
DTSTART;TZID=America/Chicago:20251123T160000
DTEND;TZID=America/Chicago:20251123T180000
DTSTAMP:20260420T030909
CREATED:20260112T051839Z
LAST-MODIFIED:20260112T051839Z
UID:10002870-1763913600-1763920800@events.excelsiorcitizen.com
SUMMARY:Nerd Group
DESCRIPTION:Ahoy!Nerd Group is back in session for a meeting on Sunday\, November 23rd. We will be discussing the pirate adventure Bloody Jack\, a book by L. A. Meyer\, from 4 to 6 PM. Drinks and snacks will be provided.
URL:https://events.excelsiorcitizen.com/event/nerd-group-2/
LOCATION:MO
END:VEVENT
BEGIN:VEVENT
DTSTART;TZID=UTC:20251123T150000
DTEND;TZID=UTC:20251123T180000
DTSTAMP:20260420T030909
CREATED:20251120T184200Z
LAST-MODIFIED:20251122T200227Z
UID:10002206-1763910000-1763920800@events.excelsiorcitizen.com
SUMMARY:Hanging of the Greenery
DESCRIPTION:Mark your calendars: Join us for Hanging of the Greenery on November 23\, at 9:00 am. Coffee and donuts provided!\nhttps://www.facebook.com/events/834230325851097/
URL:https://events.excelsiorcitizen.com/event/hanging-of-the-greenery/
LOCATION:1650 Rainbow Blvd\, Excelsior Springs\, MO\, United States
ORGANIZER;CN="First United Methodist Church of Excelsior Springs":MAILTO:noreply@facebookmail.com
GEO:39.332601;-94.274632
END:VEVENT
BEGIN:VEVENT
DTSTART;TZID=UTC:20251122T233000
DTEND;TZID=UTC:20251206T233000
DTSTAMP:20260420T030909
CREATED:20251120T184200Z
LAST-MODIFIED:20251203T231545Z
UID:10002205-1763854200-1765063800@events.excelsiorcitizen.com
SUMMARY:“Jingle & Mingle at The Elms” A Christmas Pop-Up Bar | Weekends through January 3rd
DESCRIPTION:Step into a winter wonderland this December at The Tavern at The Elms Hotel & Spa as it transforms into Jingle & Mingle at The Elms\, a festive Christmas pop-up bar bursting with holiday cheer!\nNovember 22nd through January 3rd\, every Thursday through Sunday from 5:30PM–11PM\, immerse yourself in twinkling lights\, over-the-top décor\, and holly jolly specialty cocktails that sparkle with Christmas magic. From winter martinis to gingerbread lattes\, every sip will put you on the nice list.\nTickets are $30 per person for a 75-minute reservation\, with $20 of your ticket price applied directly toward food & beverage purchases.\nGather your friends\, wear your tackiest holiday sweater\, and toast to the season surrounded by the most festive vibes in town. Spaces are limited\, and tickets are required—don’t miss your chance to experience the magic of the Holiday at The Elms!\nhttps://www.facebook.com/events/619908450943308/
URL:https://events.excelsiorcitizen.com/event/jingle-mingle-at-the-elms-a-christmas-pop-up-bar-weekends-through-january-3rd/
LOCATION:401 Regent St\, 10580 Mo O Hwy\, Excelsior Springs\, MO\, United States
ORGANIZER;CN="The Elms Hotel &amp%3B Spa":MAILTO:noreply@facebookmail.com
GEO:39.287005;-94.174309
X-APPLE-STRUCTURED-LOCATION;VALUE=URI;X-ADDRESS=401 Regent St 10580 Mo O Hwy Excelsior Springs MO United States;X-APPLE-RADIUS=500;X-TITLE=10580 Mo O Hwy:geo:-94.174309,39.287005
END:VEVENT
BEGIN:VEVENT
DTSTART;TZID=UTC:20251122T220000
DTEND;TZID=UTC:20251122T230000
DTSTAMP:20260420T030909
CREATED:20251120T184139Z
LAST-MODIFIED:20251122T200225Z
UID:10002187-1763848800-1763852400@events.excelsiorcitizen.com
SUMMARY:Snowman Candle Class
DESCRIPTION:This Snowman candle bowl is perfect for your Holiday decor! Bring your favorite girlfriends and make this cute candle! You’ll get to mix your scent\, pour your candle\, top it with some dried florals\, meet new friends\, enjoy refreshments and shop at Solana Boutique with a discount! The candles take about an hour to cool after pouring. Go explore/have dinner and come back to take your candle home or return another day to pick up your candle. I can also deliver!! Candle making direction by Savanna Nave in Solana Event Space. BYOB!\nhttps://www.facebook.com/events/861376856243681/
URL:https://events.excelsiorcitizen.com/event/snowman-candle-class/
LOCATION:120 East Broadway\, 10580 Mo O Hwy\, Excelsior Springs\, MO\, United States
ORGANIZER;CN="Solana On Broadway":MAILTO:noreply@facebookmail.com
GEO:39.287005;-94.174309
X-APPLE-STRUCTURED-LOCATION;VALUE=URI;X-ADDRESS=120 East Broadway 10580 Mo O Hwy Excelsior Springs MO United States;X-APPLE-RADIUS=500;X-TITLE=10580 Mo O Hwy:geo:-94.174309,39.287005
END:VEVENT
BEGIN:VEVENT
DTSTART;TZID=America/Chicago:20251122T200500
DTEND;TZID=America/Chicago:20251122T200500
DTSTAMP:20260420T030909
CREATED:20260112T051808Z
LAST-MODIFIED:20260112T051808Z
UID:10002860-1763841900-1763841900@events.excelsiorcitizen.com
SUMMARY:Lighted Christmas Parade
DESCRIPTION:There’s nothing quite like seeing our historic streets come alive with flowing floats\, festive music and the holiday spirit! Join us for Excelsior Springs’ greatest parade! Be amazed by twinkling lights and elaborately decorated floats as they roll through downtown in our annual Lighted Christmas Parade. It’s a holiday tradition that brings together families\, friends\, and the community to celebrate the season in style. Don’t miss the grand finale float featuring a special holiday guest!
URL:https://events.excelsiorcitizen.com/event/lighted-christmas-parade-5/
LOCATION:MO
END:VEVENT
BEGIN:VEVENT
DTSTART;TZID=UTC:20251122T200000
DTEND;TZID=UTC:20251122T220000
DTSTAMP:20260420T030909
CREATED:20251120T184139Z
LAST-MODIFIED:20251122T200227Z
UID:10002188-1763841600-1763848800@events.excelsiorcitizen.com
SUMMARY:Live Music - JenKees
DESCRIPTION:Enjoy free live music!!  A variety of wine\, spirits\, beer\, non alcoholic options and nibbles to choose from!\nhttps://www.facebook.com/events/861770969687232/
URL:https://events.excelsiorcitizen.com/event/live-music-jenkees/
LOCATION:31010 W 124th St\, 10580 Mo O Hwy\, Excelsior Springs\, MO\, United States
ORGANIZER;CN="Fence Stile Vineyards%2C Winery &amp%3B Distillery":MAILTO:noreply@facebookmail.com
GEO:39.287005;-94.174309
X-APPLE-STRUCTURED-LOCATION;VALUE=URI;X-ADDRESS=31010 W 124th St 10580 Mo O Hwy Excelsior Springs MO United States;X-APPLE-RADIUS=500;X-TITLE=10580 Mo O Hwy:geo:-94.174309,39.287005
END:VEVENT
BEGIN:VEVENT
DTSTART;TZID=UTC:20251122T190000
DTEND;TZID=UTC:20251122T220000
DTSTAMP:20260420T030909
CREATED:20251120T184140Z
LAST-MODIFIED:20251122T200226Z
UID:10002189-1763838000-1763848800@events.excelsiorcitizen.com
SUMMARY:Doll Giveaway
DESCRIPTION:The Museum is pleased to host a “Doll Giveaway” event on Nov. 22. Benefactor Diane Carrel has purchased a limited number of new Barbies\, Elsas and Baby Dolls and will give then away to those in need this Christmas.\nhttps://www.facebook.com/events/2332221230545678/
URL:https://events.excelsiorcitizen.com/event/doll-giveaway/
LOCATION:101 E Broadway\, 10580 Mo O Hwy\, Excelsior Springs\, MO\, United States
ORGANIZER;CN="Excelsior Springs Museum &amp%3B Archives":MAILTO:noreply@facebookmail.com
GEO:39.287005;-94.174309
X-APPLE-STRUCTURED-LOCATION;VALUE=URI;X-ADDRESS=101 E Broadway 10580 Mo O Hwy Excelsior Springs MO United States;X-APPLE-RADIUS=500;X-TITLE=10580 Mo O Hwy:geo:-94.174309,39.287005
END:VEVENT
BEGIN:VEVENT
DTSTART;TZID=UTC:20251122T190000
DTEND;TZID=UTC:20251122T220000
DTSTAMP:20260420T030909
CREATED:20251120T184138Z
LAST-MODIFIED:20251122T200226Z
UID:10002186-1763838000-1763848800@events.excelsiorcitizen.com
SUMMARY:FREE NEW DOLL GIVEAWAY
DESCRIPTION:MARK YOUR CALENDARS:  Saturday\, November 22\, 2025 I will be at the Excelsior Springs Museum from 1:00 pm to 4 pm for a free new doll giveaway.  There are no restrictions.  If you have someone who would like a new doll\, please drop by.\nhttps://www.facebook.com/events/1781065262520345/
URL:https://events.excelsiorcitizen.com/event/free-new-doll-giveaway/
LOCATION:Excelsior Springs Museum & Archives
ORGANIZER;CN="Diane Chipps Carrel":MAILTO:noreply@facebookmail.com
END:VEVENT
BEGIN:VEVENT
DTSTART;TZID=America/Chicago:20251122T180000
DTEND;TZID=America/Chicago:20251122T220000
DTSTAMP:20260420T030909
CREATED:20260112T052138Z
LAST-MODIFIED:20260112T052138Z
UID:10002928-1763834400-1763848800@events.excelsiorcitizen.com
SUMMARY:Lane of Lights – Opening Night
DESCRIPTION:A Magical Drive-Through Holiday TraditionExperience the wonder of the holidays from the warmth of your car as you drive through the Lane of Lights! Each year\, our community comes together to create this beautiful\, glowing display\, transforming Lover’s Lane into a holiday wonderland filled with sparking lights\, festive scenes\, and heartwarming memories for all ages. \nThe Lane of Lights is a drive-through experience like no other\, featuring vibrant displays that celebrate the joy of the season. From whimsical holiday scenes to sparking trees and dazzling decorations\, every turn offers something new.\nOur Lane of Lights is made possible thanks to the hard work and dedication of volunteers who put in nearly 1\,000 hours each year to set up and take down the display. They do it all out of love for our community and the spirit of the season. By visiting\, you are not only enjoying a memorable night with loved ones – you’re supporting a local tradition powered by heart and dedication. \nEvery night\, a portion of the proceeds goes back to a different hosting organization. From local schools and nonprofits to community groups\, your visit helps support valuable causes that make Excelsior Springs stronger and more vibrant. \nBundle up in the car\, turn on your favorite holiday tunes\, and enjoy this magical journey with family and friends. Capture the moments\, take in the lights\, and celebrate the season together in Downtown Excelsior Springs. Whether it’s your first visit or a cherished yearly tradition\, the Lane of Lights will leave you with memories that sparkle all season long!
URL:https://events.excelsiorcitizen.com/event/lane-of-lights-opening-night/
LOCATION:MO
END:VEVENT
BEGIN:VEVENT
DTSTART;TZID=America/Chicago:20251122T180000
DTEND;TZID=America/Chicago:20251122T181000
DTSTAMP:20260420T030909
CREATED:20260112T051809Z
LAST-MODIFIED:20260112T051809Z
UID:10002861-1763834400-1763835000@events.excelsiorcitizen.com
SUMMARY:Mayor’s Downtown Tree Lighting Ceremony
DESCRIPTION:Watch Downtown Shine Bright!Join the community for a dazzling kickoff to the holiday season as the mayor flips the switch to light up Downtown Excelsior Springs. With sparkling lights\, festive décor\, and joyful music\, this event is the perfect way to start your holiday celebrations and experience the magic of the season! Come early and enjoy live music with Beatz DJ and a choir performance by the local 4th and 5th grade students on Broadway in front of the Hall of Waters
URL:https://events.excelsiorcitizen.com/event/mayors-downtown-tree-lighting-ceremony/
LOCATION:MO
END:VEVENT
BEGIN:VEVENT
DTSTART;TZID=UTC:20251122T160000
DTEND;TZID=UTC:20251122T230000
DTSTAMP:20260420T030909
CREATED:20251120T184140Z
LAST-MODIFIED:20251122T200225Z
UID:10002190-1763827200-1763852400@events.excelsiorcitizen.com
SUMMARY:Mistletoe Market
DESCRIPTION:A Holiday Shopping Extravaganza!\nGet ready for a day of festive shopping at this year’s Mistletoe Market! Join us as we bring together an incredible lineup of vendors\, offering everything from unique handcrafted gifts to seasonal decor\, all in one convenient location. It’s the perfect opportunity to find one-of-a-kind treasures while supporting artisans and local businesses.\nEvent Highlights\nBrowse a curated selection of gifts\, decor\, treats\, and more from vendors. Whether you’re searching for something cozy and handmade\, delicious seasonal treats\, or personalized gifts\, the market has something for everyone!\nOne Stop Holiday Shopping! Find special gifts for family\, friends\, and even yourself as you soak up the holiday spirit in a joyful\, festive atmosphere.\nMeet the Makers! Chat with local artisans and small business owners who pour heart and creativity into their work!\nMake a day of it by exploring the market\, grabbing a bite to eat at one of our local restaurants\, and strolling through the beautifully decorated downtown streets. This is the perfect chance to embrace the warmth of the season\, connect with the community\, and take part in the magic of Downtown Excelsior Springs during the holidays!\nhttps://www.facebook.com/events/24731773413159667/
URL:https://events.excelsiorcitizen.com/event/mistletoe-market-3/
LOCATION:The Montgomery Venue
ORGANIZER;CN="Excelsior Springs Christmas":MAILTO:noreply@facebookmail.com
END:VEVENT
BEGIN:VEVENT
DTSTART;TZID=UTC:20251122T160000
DTEND;TZID=UTC:20251122T210000
DTSTAMP:20260420T030909
CREATED:20251120T184158Z
LAST-MODIFIED:20251122T200224Z
UID:10002201-1763827200-1763845200@events.excelsiorcitizen.com
SUMMARY:Elf Factory
DESCRIPTION:A Holiday Crafting Experience!\nThe holiday season is here\, and so is the Elf Factory – where kids can become Santa’s little helpers for the day!  Bring your children to enjoy a festive atmosphere filled with the joy of creating handmade holiday treasures!\nCrafts are priced between 50 cents and $4.50\, making it easy for little ones to create several special items to gift or keep as their own holiday mementos.\nAt the Elf Factory\, kids will have the chance to dive into a world of glitter\, ribbons and holiday magic while making keepsakes like ornaments\, festive decorations\, and seasonal gifts.  Our friendly “elves” are there to guide them every step of the way\, ensuring each creation is crafted with care and holiday cheer.\nWhy You’ll Love the Elf Factory\nAffordable Fun!  With prices as low as 50 cents\, your child can enjoy multiple crafts without breaking the bank.\nPerfect For All Ages!  We have a variety of crafts suitable for different age levels and skill sets\, so every child can join in the fun.\nA Heartwarming Memory!  This is more than just crafting; it’s a holiday tradition that your family with cherish.\nKeepsake Creations!  From ornaments to small gifts\, your child will leave with handmade treasures they’ll be proud of.\nAdd an extra sprinkle of magic to your holiday season by joining us for a day of creativity\, laughter and festive spirit!\nhttps://www.facebook.com/events/1861358987813136/
URL:https://events.excelsiorcitizen.com/event/elf-factory-4/
LOCATION:Excelsior Springs Community Center\, 500 Tiger Dr\, Excelsior Springs\, MO\, United States
ORGANIZER;CN="Excelsior Springs Christmas":MAILTO:noreply@facebookmail.com
GEO:39.349002;-94.244358
X-APPLE-STRUCTURED-LOCATION;VALUE=URI;X-ADDRESS=Excelsior Springs Community Center 500 Tiger Dr Excelsior Springs MO United States;X-APPLE-RADIUS=500;X-TITLE=500 Tiger Dr:geo:-94.244358,39.349002
END:VEVENT
BEGIN:VEVENT
DTSTART;TZID=America/Chicago:20251122T160000
DTEND;TZID=America/Chicago:20251122T190000
DTSTAMP:20260420T030909
CREATED:20260112T052654Z
LAST-MODIFIED:20260112T052654Z
UID:10003033-1763827200-1763838000@events.excelsiorcitizen.com
SUMMARY:“Miracle on Elms Street” A Christmas Pop-Up Bar
DESCRIPTION:Step into a winter wonderland this December at The Tavern at The Elms Hotel & Spa as it transforms into Miracle on Elms Street\, a festive Christmas pop-up bar bursting with holiday cheer!\nFrom November 22nd through January 3rd\, every Thursday through Sunday from 4PM–11PM\, immerse yourself in twinkling lights\, over-the-top décor\, and holly jolly specialty cocktails that sparkle with Christmas magic. From winter martinis to gingerbread lattes\, every sip will put you on the nice list. \nTickets are $30 per person for a 75-minute reservation\, with $20 of your ticket price applied directly toward food & beverage purchases. \nGather your friends\, wear your tackiest holiday sweater\, and toast to the season surrounded by the most festive vibes in town. Spaces are limited\, and tickets are required—don’t miss your chance to experience the magic of Miracle on Elms Street!
URL:https://events.excelsiorcitizen.com/event/miracle-on-elms-street-a-christmas-pop-up-bar/
LOCATION:MO
END:VEVENT
BEGIN:VEVENT
DTSTART;TZID=America/Chicago:20251122T160000
DTEND;TZID=America/Chicago:20251122T170000
DTSTAMP:20260420T030909
CREATED:20260112T052153Z
LAST-MODIFIED:20260112T052153Z
UID:10002931-1763827200-1763830800@events.excelsiorcitizen.com
SUMMARY:Snowman Candle Class
DESCRIPTION:This Snowman candle bowl is perfect for your Holiday decor! Bring your favorite girlfriends and make this cute candle! You’ll get to mix your scent\, pour your candle\, top it with some dried florals\, meet new friends\, enjoy refreshments and shop at Solana Boutique with a discount! The candles take about an hour to cool after pouring. Go explore/have dinner and come back to take your candle home or return another day to pick up your candle. I can also deliver!! Candle making direction by Savanna Nave in Solana Event Space. BYOB!Click here for tickets
URL:https://events.excelsiorcitizen.com/event/snowman-candle-class-2/
LOCATION:Solana On Broadway
END:VEVENT
BEGIN:VEVENT
DTSTART;TZID=UTC:20251122T150000
DTEND;TZID=UTC:20251122T200000
DTSTAMP:20260420T030909
CREATED:20251120T184159Z
LAST-MODIFIED:20251121T194641Z
UID:10002202-1763823600-1763841600@events.excelsiorcitizen.com
SUMMARY:Christmas & Candles
DESCRIPTION:Join us as Downtown Excelsior kicks off the Christmas season. We will be at Other Trails with our clean fall candles! What does clean mean: NO carcinogens\, NO mutagens\, and NO toxins are in our candles. This makes it so you don’t get headaches and you keep our environment clean! Scents like Frazier Fir\, Christmas Cheer\, and Brandied Pear will make you home smell like the holidays! Make sure to pop down and get some!\nhttps://www.facebook.com/events/1556437508716327/
URL:https://events.excelsiorcitizen.com/event/christmas-candles/
LOCATION:115 E Broadway Ave\, Excelsior Springs\, MO\, United States
ORGANIZER;CN="C and Z Candle Co.":MAILTO:noreply@facebookmail.com
GEO:39.332601;-94.274632
END:VEVENT
BEGIN:VEVENT
DTSTART;TZID=America/Chicago:20251122T150000
DTEND;TZID=America/Chicago:20251122T170000
DTSTAMP:20260420T030909
CREATED:20260112T051953Z
LAST-MODIFIED:20260112T051953Z
UID:10002892-1763823600-1763830800@events.excelsiorcitizen.com
SUMMARY:Live Music with Jack Soutter at Shamrock Hills
DESCRIPTION:Live Music with Jack Soutter \nSaturday\, November 22\, 2025 • 3:00pm-5:00pm \nCome enjoy an afternoon of live music with Jack Soutter! Sip on your favorite wines\, take in the beautiful surroundings\, and experience a performance filled with great tunes and good vibes.
URL:https://events.excelsiorcitizen.com/event/live-music-with-jack-soutter-at-shamrock-hills/
LOCATION:MO
END:VEVENT
END:VCALENDAR