BEGIN:VCALENDAR
VERSION:2.0
PRODID:-// - ECPv6.15.20//NONSGML v1.0//EN
CALSCALE:GREGORIAN
METHOD:PUBLISH
X-ORIGINAL-URL:https://events.excelsiorcitizen.com
X-WR-CALDESC:Events for 
REFRESH-INTERVAL;VALUE=DURATION:PT1H
X-Robots-Tag:noindex
X-PUBLISHED-TTL:PT1H
BEGIN:VTIMEZONE
TZID:America/Chicago
BEGIN:DAYLIGHT
TZOFFSETFROM:-0600
TZOFFSETTO:-0500
TZNAME:CDT
DTSTART:20240310T080000
END:DAYLIGHT
BEGIN:STANDARD
TZOFFSETFROM:-0500
TZOFFSETTO:-0600
TZNAME:CST
DTSTART:20241103T070000
END:STANDARD
BEGIN:DAYLIGHT
TZOFFSETFROM:-0600
TZOFFSETTO:-0500
TZNAME:CDT
DTSTART:20250309T080000
END:DAYLIGHT
BEGIN:STANDARD
TZOFFSETFROM:-0500
TZOFFSETTO:-0600
TZNAME:CST
DTSTART:20251102T070000
END:STANDARD
BEGIN:DAYLIGHT
TZOFFSETFROM:-0600
TZOFFSETTO:-0500
TZNAME:CDT
DTSTART:20260308T080000
END:DAYLIGHT
BEGIN:STANDARD
TZOFFSETFROM:-0500
TZOFFSETTO:-0600
TZNAME:CST
DTSTART:20261101T070000
END:STANDARD
END:VTIMEZONE
BEGIN:VEVENT
DTSTART;TZID=America/Chicago:20251030T183000
DTEND;TZID=America/Chicago:20251030T200000
DTSTAMP:20260419T203737
CREATED:20260112T052208Z
LAST-MODIFIED:20260112T052208Z
UID:10002936-1761849000-1761854400@events.excelsiorcitizen.com
SUMMARY:Excelsior Springs Area Beekeeping Club – October Meeting
DESCRIPTION:Join us for our October club meeting! We are finalizing plans for our topic of discussion and will post that soon.
URL:https://events.excelsiorcitizen.com/event/excelsior-springs-area-beekeeping-club-october-meeting/
LOCATION:MO
END:VEVENT
BEGIN:VEVENT
DTSTART;TZID=America/Chicago:20251029T160000
DTEND;TZID=America/Chicago:20251029T190000
DTSTAMP:20260419T203737
CREATED:20260112T052252Z
LAST-MODIFIED:20260112T052252Z
UID:10002950-1761753600-1761764400@events.excelsiorcitizen.com
SUMMARY:Halloween/Fall Fest Celebration – ES Farmers Market
DESCRIPTION:Costume Contest\, Vend-Or-Treat\, Scavenger Hunt Bingo\, Pumpkin Decorating\, and Chalk Art with Robbie\, plus ALL THE GREAT VENDORS for your last market of the season shopping!
URL:https://events.excelsiorcitizen.com/event/halloween-fall-fest-celebration-es-farmers-market/
LOCATION:MO
END:VEVENT
BEGIN:VEVENT
DTSTART;TZID=America/Chicago:20251029T160000
DTEND;TZID=America/Chicago:20251029T180000
DTSTAMP:20260419T203737
CREATED:20260112T054208Z
LAST-MODIFIED:20260112T054208Z
UID:10003338-1761753600-1761760800@events.excelsiorcitizen.com
SUMMARY:Excelsior Springs Evening Farmers Market
DESCRIPTION:Halloween/Fall HarvestBounce House\nMid-Continent Public Library
URL:https://events.excelsiorcitizen.com/event/excelsior-springs-evening-farmers-market/
LOCATION:MO
END:VEVENT
BEGIN:VEVENT
DTSTART;TZID=America/Chicago:20251027T113000
DTEND;TZID=America/Chicago:20251027T120000
DTSTAMP:20260419T203737
CREATED:20260112T052424Z
LAST-MODIFIED:20260112T052424Z
UID:10002984-1761564600-1761566400@events.excelsiorcitizen.com
SUMMARY:Exciting News: Maura Woolsey is Now a Certified Diabetes Care and Education Specialist!
DESCRIPTION:We are proud to announce that our Registered Dietitian\, Maura Woolsey\, has officially earned her Certified Diabetes Care and Education Specialist credential.What does this mean for you?\nAs a Certified Diabetes Care and Education Specialist\, Maura is equipped to provide expert guidance to help you or your loved ones manage and prevent diabetes with confidence.\nShe can support you with:\n• Understanding how food choices affect blood sugar\n• Creating balanced meal plans tailored to your needs\n• Learning effective carbohydrate counting strategies\n• Developing healthier lifestyle habits for long-term wellness\n• Managing medications in coordination with your healthcare team\n• Preventing diabetes-related complications through nutrition and education\nJoin us as Maura shares her expertise and practical tips for living well with diabetes. Together\, let’s take steps toward healthier living!\nRegistration is required for Senior Citizens and/or Non-Senior Lunches by visiting https://es-prcc.com/senior-center\nAll events are held at the ES Community Center unless otherwise noted.
URL:https://events.excelsiorcitizen.com/event/exciting-news-maura-woolsey-is-now-a-certified-diabetes-care-and-education-specialist/
LOCATION:Excelsior Springs Community Center\, 500 Tiger Dr\, Excelsior Springs\, MO\, United States
GEO:39.349002;-94.244358
X-APPLE-STRUCTURED-LOCATION;VALUE=URI;X-ADDRESS=Excelsior Springs Community Center 500 Tiger Dr Excelsior Springs MO United States;X-APPLE-RADIUS=500;X-TITLE=500 Tiger Dr:geo:-94.244358,39.349002
END:VEVENT
BEGIN:VEVENT
DTSTART;TZID=America/Chicago:20251027T080000
DTEND;TZID=America/Chicago:20251029T180000
DTSTAMP:20260419T203737
CREATED:20260112T052122Z
LAST-MODIFIED:20260112T052122Z
UID:10002920-1761552000-1761760800@events.excelsiorcitizen.com
SUMMARY:Halloween Pet Costume Contest
DESCRIPTION:Calling all furry ghouls and spooky pups!  Bring your pet in costume Oct 27–29 for a chance to win a fang-tastic nail trim!Thank you for celebrating spooky season with us!– Your friends at Excelsior Springs Animal Clinic
URL:https://events.excelsiorcitizen.com/event/halloween-pet-costume-contest/
LOCATION:MO
END:VEVENT
BEGIN:VEVENT
DTSTART;TZID=America/Chicago:20251026T150000
DTEND;TZID=America/Chicago:20251026T170000
DTSTAMP:20260419T203737
CREATED:20260112T052307Z
LAST-MODIFIED:20260112T052307Z
UID:10002955-1761490800-1761498000@events.excelsiorcitizen.com
SUMMARY:Live Music with Jillian Riscoe
DESCRIPTION:Spend a delightful afternoon enjoying the soulful sounds of Jillian Riscoe! Sip on your favorite wines\, take in the beautiful surroundings\, and relax with friends to live music you won’t want to miss.
URL:https://events.excelsiorcitizen.com/event/live-music-with-jillian-riscoe/
LOCATION:MO
END:VEVENT
BEGIN:VEVENT
DTSTART;TZID=America/Chicago:20251026T110000
DTEND;TZID=America/Chicago:20251026T140000
DTSTAMP:20260419T203737
CREATED:20260112T052209Z
LAST-MODIFIED:20260112T052209Z
UID:10002938-1761476400-1761487200@events.excelsiorcitizen.com
SUMMARY:Excellent Auction – Tommy & Rhonda Anderson Auction
DESCRIPTION:Mac’s Auction ServiceSunday\, October 26\, 202511:00 a.m.\nTommy and Rhonda Anderson Auction \nDue to selling their house and moving into a new home\, they are downsizing their items they can’t take with them. Everything in excellent condition! \nModela pedal car\, 762×39 chinese military rifle\, 16 ga. Shotgun\, 6 boxes of 12ga. Shotgun shells\, 25 boxes of 223 20 count shells\, 1 box of 762×39 shells\, old wooden pull wagon\, collectible cigar boxes\, large selection of brass and silverplate items\, Singer 538 sewing machine\, patio table with 2 chairs\, Clay Himachal pot\, fishing tackle and poles\, pool table light\, fans\, heaters\, ball hats\, kitchen items\, christmas items\, fancy glassware\, brass trunk\, antique tools\, copper pots\, 2 new motorcycle helmets\, water skis\, Harley Davidson collectibles\, picture frames\, electronics\, dehumidifiers\, microscope\, outdoor decor\, wheel chair\, lamps\, 2 bicycles\, wood shelves\, stools\, gold plated silverware set in wooden box\, lantern\, books and lots more. TOOLS: 3 extension ladders\, 5×8 trailer with drop tailgate\, roll off toolbox\, lots of hand and garden tools\, Husky 1.5 h.p. Air compressor\, Craftsman 8” 3 speed drill press on stand\, new shop vacs\, toolboxes\, hardware\, wheelbarrow\, Bostitch 28 degree wire weld framing nail gun (new)\, t-posts\, organizers\, ext. Cords\, hedge trimmers\, router\, air tools\, sprayers\, pumps\, sawzall\, also selling 50+ box lots of wicker baskets\, dried flowers\, wood craft items and more. This will be a long sale so come down and spend the day with us! Everything in excellent shape.\nVisit www.macsauction.com to see pictures.\nWe accept cash or check with valid ID only.
URL:https://events.excelsiorcitizen.com/event/excellent-auction-tommy-rhonda-anderson-auction/
LOCATION:MO
END:VEVENT
BEGIN:VEVENT
DTSTART;TZID=America/Chicago:20251025T180000
DTEND;TZID=America/Chicago:20251025T200000
DTSTAMP:20260419T203737
CREATED:20260112T052223Z
LAST-MODIFIED:20260112T052223Z
UID:10002941-1761415200-1761422400@events.excelsiorcitizen.com
SUMMARY:Trunk or Treat – Beacon Realty
DESCRIPTION:Get ready for a frightfully fun time at Beacon Realty on Saturday\, Oct 25th from 6-8pm
URL:https://events.excelsiorcitizen.com/event/trunk-or-treat-beacon-realty/
LOCATION:MO
END:VEVENT
BEGIN:VEVENT
DTSTART;TZID=America/Chicago:20251025T180000
DTEND;TZID=America/Chicago:20251025T200000
DTSTAMP:20260419T203737
CREATED:20260112T052154Z
LAST-MODIFIED:20260112T052154Z
UID:10002934-1761415200-1761422400@events.excelsiorcitizen.com
SUMMARY:Nibbles and Nonsense – An Interactive Dinner Theatre
DESCRIPTION: Hear ye\, hear ye!\nBy Royal decree\, the Court is in need of a new Jester! The trials shall be held at our grand gathering of Nibbles and Nonsense! \nCome forth\, good people\, and test your wit\, your foolishness\, and bring your appetite for small bites!\n Only one shall be crowned the Keeper of Crumbs and Royal Fool of the Realm\n Seats are limited — secure thy place at the table\, lest you miss the merriest contest of the season! \nFor more information\, please visit insideoutex.com for pricing\, event time and location\n#dinnertheater #jester #thingstodo #kansascity #excelsiorsprings
URL:https://events.excelsiorcitizen.com/event/nibbles-and-nonsense-an-interactive-dinner-theatre/
LOCATION:MO
END:VEVENT
BEGIN:VEVENT
DTSTART;TZID=America/Chicago:20251025T150000
DTEND;TZID=America/Chicago:20251025T170000
DTSTAMP:20260419T203737
CREATED:20260112T052307Z
LAST-MODIFIED:20260112T052307Z
UID:10002956-1761404400-1761411600@events.excelsiorcitizen.com
SUMMARY:Live Music with Double Jointed
DESCRIPTION:Join us for an evening of high-energy\, fun music with Double Jointed! Grab your favorite wine\, enjoy the beautiful vineyard setting\, and dance the night away with friends.
URL:https://events.excelsiorcitizen.com/event/live-music-with-double-jointed-2/
LOCATION:MO
END:VEVENT
BEGIN:VEVENT
DTSTART;TZID=America/Chicago:20251025T150000
DTEND;TZID=America/Chicago:20251025T170000
DTSTAMP:20260419T203737
CREATED:20260112T052253Z
LAST-MODIFIED:20260112T052253Z
UID:10002953-1761404400-1761411600@events.excelsiorcitizen.com
SUMMARY:Halloween “Not so Haunted Hallway”
DESCRIPTION:Join us for a fun evening of games\, treats\, and a not-so-scary hallway! The community is invited to join the fun!
URL:https://events.excelsiorcitizen.com/event/halloween-not-so-haunted-hallway/
LOCATION:MO
END:VEVENT
BEGIN:VEVENT
DTSTART;TZID=America/Chicago:20251025T140000
DTEND;TZID=America/Chicago:20251025T160000
DTSTAMP:20260419T203737
CREATED:20260112T053022Z
LAST-MODIFIED:20260112T053022Z
UID:10003106-1761400800-1761408000@events.excelsiorcitizen.com
SUMMARY:Frank Rardon at Fence Stile
DESCRIPTION:
URL:https://events.excelsiorcitizen.com/event/frank-rardon-at-fence-stile/
LOCATION:Fence Stile Vineyards and Winery\, 31010 W 124th St\, Excelsior Springs\, MO\, 64024\, United States
END:VEVENT
BEGIN:VEVENT
DTSTART;TZID=America/Chicago:20251025T130000
DTEND;TZID=America/Chicago:20251025T160000
DTSTAMP:20260419T203737
CREATED:20260112T052207Z
LAST-MODIFIED:20260112T052207Z
UID:10002935-1761397200-1761408000@events.excelsiorcitizen.com
SUMMARY:Sip\, Savor\, and Sparkle
DESCRIPTION:Join ESGC\, Shamrock Hills Winery\, Huey’s Vault (whiskey)\, Charl Cook & Keepin’ the Paeth\, and Bub & Sis Co. (permanent jewelry) in the Sip\, Savor\, and sparkle. We will have spirits tasting\, personal ($5) or Group ($12) charcuterie\, live music\, and permanent jewelry.We would love to have you in our pavilion from 1-4 o’clock on Saturday the 25th and at 5 for our Halloween Extravaganza Event and Hayride.\nTo reserve a spot for the Hayride call (816)-630-3731!
URL:https://events.excelsiorcitizen.com/event/sip-savor-and-sparkle/
LOCATION:Excelsior Springs Golf Course
END:VEVENT
BEGIN:VEVENT
DTSTART;TZID=America/Chicago:20251025T120000
DTEND;TZID=America/Chicago:20251025T170000
DTSTAMP:20260419T203737
CREATED:20260112T052708Z
LAST-MODIFIED:20260112T052708Z
UID:10003036-1761393600-1761411600@events.excelsiorcitizen.com
SUMMARY:Witch Way to the Wine
DESCRIPTION:Witch Way to the WineWhen: Saturday\, October 25\, 2025 • Noon – 5:00 PMWhere: Downtown Excelsior Springs\, MOTickets: $30 — includes tastings at over 20 spooky and charming stops! \nSip\, Stroll\, Shop & Cast a Spell!\nDust off your broomsticks and get ready to haunt Downtown Excelsior Springs in your most bewitching attire! Costumes are encouraged for this magical wine walk—perfect for kicking off the Halloween season in style.\nCome sample from regional wines across eateries\, drinkeries\, boutiques\, galleries\, and more. \nWhy You Should Not Miss It\nFestive Fun: A wine-tasting experience wrapped in Halloween delight—dress up\, sip\, and wander!\nSupport Local: Engage with Downtown’s shops\, galleries\, and restaurants in a fun and community-focused setting.\nAll-Inclusive Price: For just $30\, unlock tastes at more than 20 locations—great value for a memorable day out!\nPerfect Atmosphere: Friendly\, relaxed\, and brimming with local charm—ideal for friends\, couples\, or solo adventurers.
URL:https://events.excelsiorcitizen.com/event/witch-way-to-the-wine-5/
LOCATION:Downtown Excelsior Springs\, Excelsior Springs\, MO\, 64024\, United States
END:VEVENT
BEGIN:VEVENT
DTSTART;TZID=America/Chicago:20251024T193000
DTEND;TZID=America/Chicago:20251024T233000
DTSTAMP:20260419T203737
CREATED:20260112T053054Z
LAST-MODIFIED:20260112T053054Z
UID:10003115-1761334200-1761348600@events.excelsiorcitizen.com
SUMMARY:Monster Ball 2025
DESCRIPTION:Get your costume and dancing shoes and plan on a hauntingly fun night at the historic Elms! Cash bar\, appetizers\, music\, games\, prizes and costume contest. Tickets are $30/pp or $50/couple in advance by Oct. 21 or $40/$60 at the door. Tickets go on sale Aug. 18 at www.esculturalguild.com or call 816.679.4443.\nProceeds support college scholarships for area students of the arts.
URL:https://events.excelsiorcitizen.com/event/monster-ball-2025/
LOCATION:MO
END:VEVENT
BEGIN:VEVENT
DTSTART;TZID=America/Chicago:20251024T190000
DTEND;TZID=America/Chicago:20251024T200000
DTSTAMP:20260419T203737
CREATED:20260112T052823Z
LAST-MODIFIED:20260112T052823Z
UID:10003062-1761332400-1761336000@events.excelsiorcitizen.com
SUMMARY:October Four Course Wine Dinner
DESCRIPTION:Join us for our favorite dinner with a roasted pumpkin beef stew for the main course. It’s always a fun night of delicious fare paired perfectly with wine. reservations online
URL:https://events.excelsiorcitizen.com/event/october-four-course-wine-dinner/
LOCATION:Willow Spring Mercantile\, 249 E Broadway\, Excelsior Springs\, MO\, 64024\, United States
END:VEVENT
BEGIN:VEVENT
DTSTART;TZID=America/Chicago:20251024T170000
DTEND;TZID=America/Chicago:20251024T190000
DTSTAMP:20260419T203737
CREATED:20260112T052154Z
LAST-MODIFIED:20260112T052154Z
UID:10002933-1761325200-1761332400@events.excelsiorcitizen.com
SUMMARY:Trunk or Treat and a Movie
DESCRIPTION:Just a reminder that Wood Heights community market will be joining Wood Heights City Hall for their annual Trunk or treat on Friday\, October 24th from 5:00pm-7:00pm.This year we will be providing a movie inside\, popcorn and hot chocolate.\n“It’s the Great Pumpkin\, Charlie Brown” will be featured at 3 different times. 5:00\, 5:30 and 6:00.\nPlease bring your children out and yourselves. We’re never too old to watch Charlie Brown.\nWe hope to see you there!
URL:https://events.excelsiorcitizen.com/event/trunk-or-treat-and-a-movie/
LOCATION:MO
END:VEVENT
BEGIN:VEVENT
DTSTART;TZID=America/Chicago:20251024T140000
DTEND;TZID=America/Chicago:20251024T150000
DTSTAMP:20260419T203737
CREATED:20260112T052208Z
LAST-MODIFIED:20260112T052208Z
UID:10002937-1761314400-1761318000@events.excelsiorcitizen.com
SUMMARY:ES Aging Well
DESCRIPTION:ES Aging Well is a group of professionals and residents working together to help senior citizens thrive! Come join the conversation and planning!
URL:https://events.excelsiorcitizen.com/event/es-aging-well-5/
LOCATION:Excelsior Springs Community Center\, 500 Tiger Dr\, Excelsior Springs\, MO\, United States
GEO:39.349002;-94.244358
X-APPLE-STRUCTURED-LOCATION;VALUE=URI;X-ADDRESS=Excelsior Springs Community Center 500 Tiger Dr Excelsior Springs MO United States;X-APPLE-RADIUS=500;X-TITLE=500 Tiger Dr:geo:-94.244358,39.349002
END:VEVENT
BEGIN:VEVENT
DTSTART;TZID=America/Chicago:20251024T090000
DTEND;TZID=America/Chicago:20251024T120000
DTSTAMP:20260419T203737
CREATED:20260112T053009Z
LAST-MODIFIED:20260112T053009Z
UID:10003104-1761296400-1761307200@events.excelsiorcitizen.com
SUMMARY:KLUTCH Golf Fundraiser
DESCRIPTION:Ready to swing big for a GREAT cause? Join us for the 2025 Klutch Golf Tournament Fundraiser on Friday\, October 24th at Excelsior Springs Golf Course! $125 per golfer | $500 per team 4-Person Scramble | Tee Off: 9:00 AM BBQ Lunch •  Drink Ticket •  Prizes\, Games & Raffles Fun add-ons: Mulligans & Tiger Woods Hole Challenge!\nAll proceeds help KLUTCH 14U Baseball Team cover tournament fees—so every swing supports our players! \n Mark your calendar. Register now: https://bit.ly/2025_Klutch_Golf Hole Sponsors welcome – $100 minimum donation!\nLet’s hit the greens\, have some fun\, and make this our best fundraiser yet! \n#KlutchGolf2025 #FundraiserFun #SupportLocalSports #GolfForAGoodCause #ExcelsiorSpringsEvents
URL:https://events.excelsiorcitizen.com/event/klutch-golf-fundraiser/
LOCATION:Excelsior Springs Golf Course
END:VEVENT
BEGIN:VEVENT
DTSTART;TZID=America/Chicago:20251023T163000
DTEND;TZID=America/Chicago:20251023T193000
DTSTAMP:20260419T203737
CREATED:20260112T052238Z
LAST-MODIFIED:20260112T052238Z
UID:10002947-1761237000-1761247800@events.excelsiorcitizen.com
SUMMARY:Bourbon Tasting with Truman Reserve
DESCRIPTION:A wonderful event that allows you to try before you buy. Visit with Garrett from AI Brands and distiller extraordinaire. We will be sampling Truman Reserve & Crazy Reserve (4 year barreled). A great complimentary tasting.
URL:https://events.excelsiorcitizen.com/event/bourbon-tasting-with-truman-reserve/
LOCATION:Willow Spring Mercantile\, 249 E Broadway\, Excelsior Springs\, MO\, 64024\, United States
END:VEVENT
BEGIN:VEVENT
DTSTART;TZID=America/Chicago:20251022T183000
DTEND;TZID=America/Chicago:20251022T200000
DTSTAMP:20260419T203737
CREATED:20260112T052253Z
LAST-MODIFIED:20260112T052253Z
UID:10002952-1761157800-1761163200@events.excelsiorcitizen.com
SUMMARY:Harvest Celebration – Excelsior Springs Baptist Church
DESCRIPTION:� You’re Invited to Our Annual Fall Celebration �� Excelsior Springs Baptist Church� Wednesday\, October 22\, 2025\n� 6:30–8:00 p.m.\n� What to Expect:\n� Candy\, candy\, and more candy!\n� Carnival style games for all ages\n� Hotdogs\, chips and drinks\n� A Special Engaging Bible Story\n� Professional Photographer (Stephanie Hodges Photography) On-Site – Get your memories captured with beautiful photos \nCostumes are welcome and encouraged! Family friendly please! \nThis is a FREE community event all kids (preschool – 6th grade) are invited! \nCome celebrate the season with all of the candy\, faith\, fun\, and fellowship! We can’t wait to see you there!
URL:https://events.excelsiorcitizen.com/event/harvest-celebration-excelsior-springs-baptist-church/
LOCATION:MO
END:VEVENT
BEGIN:VEVENT
DTSTART;TZID=America/Chicago:20251022T070000
DTEND;TZID=America/Chicago:20251022T083000
DTSTAMP:20260419T203737
CREATED:20260112T052353Z
LAST-MODIFIED:20260112T052353Z
UID:10002971-1761116400-1761121800@events.excelsiorcitizen.com
SUMMARY:Chamber Brew & View
DESCRIPTION:Chamber Brew & View \n Network. Explore. Connect. \nJoin us for a laid-back Morning Coffee Meet-Up where local businesses and available commercial spaces take center stage! This is the perfect opportunity to connect with fellow Chamber members\, sip a cup of freshly brewed coffee\, and discover the unique spaces that our community has to offer. \nWhat to Expect: \nCoffee & Breakfast: Hosts will provide complimentary coffee and light breakfast items (think muffins\, bagels\, and other morning treats).\nNetworking: Enjoy casual conversations and build meaningful connections with local business owners\, entrepreneurs\, and professionals.\nExplore Local Spaces: See firsthand the businesses and commercial properties that make our town special and envision the possibilities. \nDetails:\n Location: Rotating host locations\, including local businesses and available commercial buildings.\n Time: 7:00 AM – 8:30 AM (Drop in anytime!)\n When: Fourth Wednesday (Starting Feb 12\, 2025) \nWould You Like to Host?\nHosting is a great way to showcase your business or property!\nAll you need to do is:\n Provide a small selection of breakfast items.\n Open your doors and welcome Chamber members and coffee to your space! \nLet’s make mornings meaningful—one coffee cup at a time! \nFor more details or to sign up as a host\, contact Cora Boothe at CoraBoothe@BeaconRealty.co or call/text 816-838-3796.\nWe look forward to seeing you at our next Morning Coffee Meet-Up!
URL:https://events.excelsiorcitizen.com/event/chamber-brew-view/
LOCATION:MO
END:VEVENT
BEGIN:VEVENT
DTSTART;TZID=America/Chicago:20251022T070000
DTEND;TZID=America/Chicago:20251022T083000
DTSTAMP:20260419T203737
CREATED:20260112T052238Z
LAST-MODIFIED:20260112T052238Z
UID:10002946-1761116400-1761121800@events.excelsiorcitizen.com
SUMMARY:Coffee Brew and View
DESCRIPTION:Chamber Brew & View |\n Network. Explore. Connect. \nJoin us for a laid-back Morning Coffee Meet-Up where local businesses and available commercial spaces take center stage! This is the perfect opportunity to connect with fellow Chamber members\, sip a cup of freshly brewed coffee\, and discover the unique spaces that our community has to offer. \nWhat to Expect:Coffee & Breakfast: Hosts will provide complimentary coffee and light breakfast items (think muffins\, bagels\, and other morning treats).\nNetworking: Enjoy casual conversations and build meaningful connections with local business owners\, entrepreneurs\, and professionals. \nExplore Local Spaces: See firsthand the businesses and commercial properties that make our town special and envision the possibilities. \nDetails: Location: Rotating host locations\, including local businesses and available commercial buildings. Time: 7:00 AM – 8:30 AM (Drop in anytime!) When: Fourth Wednesday \nWould You Like to Host?\nHosting is a great way to showcase your business or property! \nAll you need to do is: Provide a small selection of breakfast items. Open your doors and welcome Chamber members and coffee to your space! \nLet’s make mornings meaningful—one coffee cup at a time!  \nFor more details or to sign up as a host\, contact Cora Boothe at CoraBoothe@BeaconRealty.co or call/text 816-838-3796. \nWe look forward to seeing you at our next Morning Coffee Meet-Up!
URL:https://events.excelsiorcitizen.com/event/coffee-brew-and-view/
LOCATION:MO
END:VEVENT
BEGIN:VEVENT
DTSTART;TZID=America/Chicago:20251019T110000
DTEND;TZID=America/Chicago:20251019T160000
DTSTAMP:20260419T203737
CREATED:20260112T052638Z
LAST-MODIFIED:20260112T052638Z
UID:10003027-1760871600-1760889600@events.excelsiorcitizen.com
SUMMARY:Sunday Shopping (AMOSH)
DESCRIPTION:Everyone is welcome! If you’re a Shop Hopper this is a perfect opportunity to get your passport stamped on a rare Sunday that we will be open. Shop til you drop… or just look for Hopper for a chance to win additional prizes from the Shop Hop!
URL:https://events.excelsiorcitizen.com/event/sunday-shopping-amosh-2/
LOCATION:MO
END:VEVENT
BEGIN:VEVENT
DTSTART;TZID=America/Chicago:20251019T090000
DTEND;TZID=America/Chicago:20251019T120000
DTSTAMP:20260419T203737
CREATED:20260112T052523Z
LAST-MODIFIED:20260112T052523Z
UID:10003003-1760864400-1760875200@events.excelsiorcitizen.com
SUMMARY:1st Annual Donnici’s Halloween Car Show & Trunk or Treat
DESCRIPTION:Come out and join us for our 1st Annual Donnici’s Deli Halloween car show & trunk or treat. There will be trophies for best car\, best decorations & best costumes. All vehicles are welcome. This is a free event but registration is required for vehicles.
URL:https://events.excelsiorcitizen.com/event/1st-annual-donnicis-halloween-car-show-trunk-or-treat/
LOCATION:MO
END:VEVENT
BEGIN:VEVENT
DTSTART;TZID=America/Chicago:20251018T190000
DTEND;TZID=America/Chicago:20251018T220000
DTSTAMP:20260419T203737
CREATED:20260112T052308Z
LAST-MODIFIED:20260112T052308Z
UID:10002957-1760814000-1760824800@events.excelsiorcitizen.com
SUMMARY:The Life of a Wine Girl – T-Swizzle Party with Wildest Dreamers!
DESCRIPTION:We’re in our wine era! Join us for friendship bracelets\, wine\, cardboard cut outs\, coloring pages\, trivia and live music!Get tickets here!
URL:https://events.excelsiorcitizen.com/event/the-life-of-a-wine-girl-t-swizzle-party-with-wildest-dreamers/
LOCATION:MO
END:VEVENT
BEGIN:VEVENT
DTSTART;TZID=America/Chicago:20251018T170000
DTEND;TZID=America/Chicago:20251018T183000
DTSTAMP:20260419T203737
CREATED:20260112T053153Z
LAST-MODIFIED:20260112T053153Z
UID:10003136-1760806800-1760812200@events.excelsiorcitizen.com
SUMMARY:FREE! Christian Rock Concert at Pisgah Baptist
DESCRIPTION:Blind Sight is a group of Bible-believing followers of Christ who desire to honor God with the gifts He’s given.\nCome support this new band in their first public show and hear some of the best Christian rock and CCM hits from the 70’s – 2000’s\, along with a few new originals. The concert is absolutely free\, but a free-will love offering will be taken for those who wish to support this ministry.
URL:https://events.excelsiorcitizen.com/event/free-christian-rock-concert-at-pisgah-baptist/
LOCATION:MO
END:VEVENT
BEGIN:VEVENT
DTSTART;TZID=America/Chicago:20251018T140000
DTEND;TZID=America/Chicago:20251018T180000
DTSTAMP:20260419T203737
CREATED:20260112T052339Z
LAST-MODIFIED:20260112T052339Z
UID:10002969-1760796000-1760810400@events.excelsiorcitizen.com
SUMMARY:Eagles Kids Halloween Party
DESCRIPTION:
URL:https://events.excelsiorcitizen.com/event/eagles-kids-halloween-party/
LOCATION:MO
END:VEVENT
BEGIN:VEVENT
DTSTART;TZID=America/Chicago:20251018T090000
DTEND;TZID=America/Chicago:20251018T110000
DTSTAMP:20260419T203737
CREATED:20260112T053408Z
LAST-MODIFIED:20260112T053408Z
UID:10003181-1760778000-1760785200@events.excelsiorcitizen.com
SUMMARY:Community Cookie Decorating Class: Fall Theme
DESCRIPTION:October themed community cookie decorating class.This class is for the person who is curious what cookie decorating is all about! No experience is necessary for this cookie class- it is beginner friendly.\nIf you’re looking for a fun outing with family or friends\, this class is for you!\nWe will be decorating a Fall themed set that tastes amazing and will look even better once you’ve completed your decorating!\nClass will be held Saturday\, Oct. 18\, 9-11a at Excelsior Springs Area Career Center (ESACC) located at 614 Tiger Drive\, Excelsior Springs\, MO\, 64024.\nThere will be plenty of time to decorate and ask questions along the way. It’ll be a blast whether you’re coming with a friend\, family member\, or solo!\nSecure your registration through ESACC Adult and Community Education. https://excelsiorspringsadulted.weebly.com/\nI provide EVERYTHING you need (the cookies\, piping bags and icing\, decorations\, take home box\, step-by-step cookie guide\, practice sheets\, parchment paper\, and recipes) all I need is YOU!Sorry\, no spectators. Space is limited. Each person in attendance must purchase a ticket.
URL:https://events.excelsiorcitizen.com/event/community-cookie-decorating-class-fall-theme-3/
LOCATION:Excelsior Springs Community Center\, 500 Tiger Dr\, Excelsior Springs\, MO\, United States
GEO:39.349002;-94.244358
X-APPLE-STRUCTURED-LOCATION;VALUE=URI;X-ADDRESS=Excelsior Springs Community Center 500 Tiger Dr Excelsior Springs MO United States;X-APPLE-RADIUS=500;X-TITLE=500 Tiger Dr:geo:-94.244358,39.349002
END:VEVENT
BEGIN:VEVENT
DTSTART;TZID=America/Chicago:20251017T150000
DTEND;TZID=America/Chicago:20251017T170000
DTSTAMP:20260419T203737
CREATED:20260112T053608Z
LAST-MODIFIED:20260112T053608Z
UID:10003221-1760713200-1760720400@events.excelsiorcitizen.com
SUMMARY:ESHS Class of 2000 25th Reunion
DESCRIPTION:Excelsior Springs High School – Class of 2000: 25th Reunion! \nCan you believe it’s been 25 years?! Let’s celebrate our milestone together during Homecoming 2025 on Friday\, October 17th! \nJoin us for a night of fun\, memories\, and reconnecting with old friends: \n Parade Participation:We’ll be riding in the Homecoming Parade—just like old times (only with a few more laugh lines!). Details on float lineup and time coming soon! \n Reunion Dinner:After the parade\, we’ll gather for a casual dinner and time to catch up. Location and RSVP info to follow—just mark your calendar for now! \nThis Facebook event page will be your go-to spot for updates\, RSVPs\, and conversation.\nWe need your help!\nPlease spread the word and invite any classmates you’re still in touch with. Let’s make sure no one misses out on the chance to be part of this special night.\nLooking forward to seeing everyone—let’s make this reunion one to remember!
URL:https://events.excelsiorcitizen.com/event/eshs-class-of-2000-25th-reunion/
LOCATION:Downtown Excelsior Springs\, Excelsior Springs\, MO\, 64024\, United States
END:VEVENT
END:VCALENDAR