BEGIN:VCALENDAR
VERSION:2.0
PRODID:-// - ECPv6.15.20//NONSGML v1.0//EN
CALSCALE:GREGORIAN
METHOD:PUBLISH
X-ORIGINAL-URL:https://events.excelsiorcitizen.com
X-WR-CALDESC:Events for 
REFRESH-INTERVAL;VALUE=DURATION:PT1H
X-Robots-Tag:noindex
X-PUBLISHED-TTL:PT1H
BEGIN:VTIMEZONE
TZID:America/Chicago
BEGIN:DAYLIGHT
TZOFFSETFROM:-0600
TZOFFSETTO:-0500
TZNAME:CDT
DTSTART:20240310T080000
END:DAYLIGHT
BEGIN:STANDARD
TZOFFSETFROM:-0500
TZOFFSETTO:-0600
TZNAME:CST
DTSTART:20241103T070000
END:STANDARD
BEGIN:DAYLIGHT
TZOFFSETFROM:-0600
TZOFFSETTO:-0500
TZNAME:CDT
DTSTART:20250309T080000
END:DAYLIGHT
BEGIN:STANDARD
TZOFFSETFROM:-0500
TZOFFSETTO:-0600
TZNAME:CST
DTSTART:20251102T070000
END:STANDARD
BEGIN:DAYLIGHT
TZOFFSETFROM:-0600
TZOFFSETTO:-0500
TZNAME:CDT
DTSTART:20260308T080000
END:DAYLIGHT
BEGIN:STANDARD
TZOFFSETFROM:-0500
TZOFFSETTO:-0600
TZNAME:CST
DTSTART:20261101T070000
END:STANDARD
END:VTIMEZONE
BEGIN:VEVENT
DTSTART;TZID=America/Chicago:20251108T110000
DTEND;TZID=America/Chicago:20251108T123000
DTSTAMP:20260419T190900
CREATED:20260112T052038Z
LAST-MODIFIED:20260112T052038Z
UID:10002905-1762599600-1762605000@events.excelsiorcitizen.com
SUMMARY:11AM Guided Winery/Wine Cave Tour & Candlelit Tasting
DESCRIPTION:Highlights Enjoy a guided tour through the winery and wine caves to discover the fascinating world of Fence Stile wines Experience a candlelit wine tasting in the CELLAR57 club room and caves—complete with a keepsake glass Learn about vineyard management\, Brix testing\, and the unique terroir of the estateGeneral Info Perks: 10% off bottles of wine purchased after the tour Please arrive a few minutes early for ticket validation\nDescriptionFence Stile Vineyards\, Winery & Distillery invites you to an unforgettable experience in the heart of Missouri’s scenic Excelsior Springs. Take a guided tour of the winery\, wine caves\, and learn about the unique processes and history behind each wine. From vineyard practices to Brix testing\, discover what makes Fence Stile wines exceptional. Finish with a candlelit tasting in the intimate CELLAR57 club room and the wine caves\, complete with a keepsake glass and a 10% discount on bottles bought post-tour. Don’t miss out—get your tickets for the Fence Stile Winery Tour and Tasting in Excelsior Springs now!\nHave a nondrinker in the group? No worries – use discount code ‘NONDRINKER’ at checkout for $10 off.\nNOTE: If ticket sales have closed on the day of the tour\, please call 816-500-6465 to check if additional tickets are available or to schedule a custom tour!\nClick here for tickets
URL:https://events.excelsiorcitizen.com/event/11am-guided-winery-wine-cave-tour-candlelit-tasting-3/
LOCATION:Fence Stile Vineyards and Winery\, 31010 W 124th St\, Excelsior Springs\, MO\, 64024\, United States
END:VEVENT
BEGIN:VEVENT
DTSTART;TZID=America/Chicago:20251108T090000
DTEND;TZID=America/Chicago:20251108T110000
DTSTAMP:20260419T190900
CREATED:20260112T054408Z
LAST-MODIFIED:20260112T054408Z
UID:10003379-1762592400-1762599600@events.excelsiorcitizen.com
SUMMARY:Community Shredding Event
DESCRIPTION:Residents who want to prevent identity theft can take advantage of a free Community Shredding Event from the Clay County Sheriff’s Office\, sponsored by Verimore Bank.\nThe drive-through event will be from 9 a.m. to 11 a.m. (or until the truck fills up) Saturday\, June 21\, in the north parking lot of Pleasant Valley Baptist Church\, 1600 Route 291\, Liberty\, Mo. The event is for personal shredding only\, not businesses. Only paper will be accepted.
URL:https://events.excelsiorcitizen.com/event/community-shredding-event/
LOCATION:MO
END:VEVENT
BEGIN:VEVENT
DTSTART;TZID=America/Chicago:20251108T083000
DTEND;TZID=America/Chicago:20251108T113000
DTSTAMP:20260419T190900
CREATED:20260112T053054Z
LAST-MODIFIED:20260112T053054Z
UID:10003116-1762590600-1762601400@events.excelsiorcitizen.com
SUMMARY:Ladies Day – Church of Christ
DESCRIPTION:Save the Date!More Info coming soon!
URL:https://events.excelsiorcitizen.com/event/ladies-day-church-of-christ/
LOCATION:MO
END:VEVENT
BEGIN:VEVENT
DTSTART;TZID=America/Chicago:20251107T190000
DTEND;TZID=America/Chicago:20251107T220000
DTSTAMP:20260419T190900
CREATED:20260112T052522Z
LAST-MODIFIED:20260112T052522Z
UID:10003000-1762542000-1762552800@events.excelsiorcitizen.com
SUMMARY:Bowling for Rotary
DESCRIPTION:It’s time for our annual bowling fundraiser
URL:https://events.excelsiorcitizen.com/event/bowling-for-rotary/
LOCATION:MO
END:VEVENT
BEGIN:VEVENT
DTSTART;TZID=America/Chicago:20251107T180000
DTEND;TZID=America/Chicago:20251107T190000
DTSTAMP:20260419T190900
CREATED:20260112T052123Z
LAST-MODIFIED:20260112T052123Z
UID:10002922-1762538400-1762542000@events.excelsiorcitizen.com
SUMMARY:Reindeer Candle Class
DESCRIPTION:This Reindeer candle bowl is perfect for your Holiday decor! Bring your favorite girlfriends and make this cute candle! You’ll get to mix your scent\, pour your candle\, top it with some dried florals\, meet new friends\, enjoy refreshments and shop at Solana Boutique with a discount! The candles take about an hour to cool after pouring. Go explore/have dinner and come back to take your candle home or return another day to pick up your candle. I can also deliver!! Candle making direction by Savanna Nave in Solana Event Space. BYOB!
URL:https://events.excelsiorcitizen.com/event/reindeer-candle-class/
LOCATION:Solana On Broadway
END:VEVENT
BEGIN:VEVENT
DTSTART;TZID=America/Chicago:20251107T173000
DTEND;TZID=America/Chicago:20251107T193000
DTSTAMP:20260419T190900
CREATED:20260112T052009Z
LAST-MODIFIED:20260112T052009Z
UID:10002899-1762536600-1762543800@events.excelsiorcitizen.com
SUMMARY:Live Music with Marshall Holles at Shamrock Hills
DESCRIPTION:Live Music with Marshall Holles \nFriday\, November 7\, 2025 • 5:30pm-7:30pm \nCome enjoy an evening of live music with Marshall Holles! Sip on your favorite wines\, take in the scenic views\, and unwind with friends and family to the sounds of great music.
URL:https://events.excelsiorcitizen.com/event/live-music-with-marshall-holles-at-shamrock-hills-2/
LOCATION:MO
END:VEVENT
BEGIN:VEVENT
DTSTART;TZID=America/Chicago:20251107T173000
DTEND;TZID=America/Chicago:20251107T193000
DTSTAMP:20260419T190900
CREATED:20260112T052008Z
LAST-MODIFIED:20260112T052008Z
UID:10002898-1762536600-1762543800@events.excelsiorcitizen.com
SUMMARY:Wine in the Vines – Sunset Hayride Tasting
DESCRIPTION:Wine in the Vines – Sunset Hayride Tasting \nFriday\, November 7\, 2025 • 5:30pm \nJoin us this weekend for a relaxing ride through the vineyard with winemaker Mike as your guide! You’ll sample 4 wines—including two Winemaker’s Choice selections—while learning about our vines\, history\, and the land we love! \n$15 per person | Call (816) 377-2313 for reservations
URL:https://events.excelsiorcitizen.com/event/wine-in-the-vines-sunset-hayride-tasting-3/
LOCATION:MO
END:VEVENT
BEGIN:VEVENT
DTSTART;TZID=America/Chicago:20251107T113000
DTEND;TZID=America/Chicago:20251107T123000
DTSTAMP:20260419T190900
CREATED:20260112T052052Z
LAST-MODIFIED:20260112T052052Z
UID:10002910-1762515000-1762518600@events.excelsiorcitizen.com
SUMMARY:November Health and Wellness: Salute To Service
DESCRIPTION:Join Excelsior Springs Hospital for a “Salute to Service” Trivia Game as we honor our Veterans!Celebrate and honor our veterans during a presentation led by Tina Cook. Test your knowledge of US history\, military milestones\, and fun facts about service in a lighthearted trivia game while enjoying lunch with friends. This is a great opportunity to learn\, laugh\, and show appreciation to learn\, laugh\, and show appreciation for the men and women who have served our country. Everyone is welcome – come ready to play\, share stories\, and salute our veterans!\nRegistration is required for senior citizens and/or non-senior lunches by visiting http://es-prcc.com/senior-center
URL:https://events.excelsiorcitizen.com/event/november-health-and-wellness-salute-to-service/
LOCATION:Excelsior Springs Community Center\, 500 Tiger Dr\, Excelsior Springs\, MO\, United States
GEO:39.349002;-94.244358
X-APPLE-STRUCTURED-LOCATION;VALUE=URI;X-ADDRESS=Excelsior Springs Community Center 500 Tiger Dr Excelsior Springs MO United States;X-APPLE-RADIUS=500;X-TITLE=500 Tiger Dr:geo:-94.244358,39.349002
END:VEVENT
BEGIN:VEVENT
DTSTART;TZID=America/Chicago:20251106T180000
DTEND;TZID=America/Chicago:20251106T200000
DTSTAMP:20260419T190900
CREATED:20260112T052409Z
LAST-MODIFIED:20260112T052409Z
UID:10002979-1762452000-1762459200@events.excelsiorcitizen.com
SUMMARY:Museum Annual Benefit Dinner
DESCRIPTION:Anual Benefit Dinner; all proceeds support the mission of the Excelsior Springs Museum & Archives\, a 501(c)nonprofit organization.Click here for tickets
URL:https://events.excelsiorcitizen.com/event/museum-annual-benefit-dinner/
LOCATION:MO
END:VEVENT
BEGIN:VEVENT
DTSTART;TZID=America/Chicago:20251106T180000
DTEND;TZID=America/Chicago:20251106T190000
DTSTAMP:20260419T190900
CREATED:20260112T053008Z
LAST-MODIFIED:20260112T053008Z
UID:10003103-1762452000-1762455600@events.excelsiorcitizen.com
SUMMARY:November Monthly Meeting
DESCRIPTION:Please join us for our monthly PTO meeting! All parents/guardians of Cornerstone students are welcome.
URL:https://events.excelsiorcitizen.com/event/november-monthly-meeting/
LOCATION:MO
END:VEVENT
BEGIN:VEVENT
DTSTART;TZID=America/Chicago:20251104T173000
DTEND;TZID=America/Chicago:20251104T193000
DTSTAMP:20260419T190900
CREATED:20260112T052053Z
LAST-MODIFIED:20260112T052053Z
UID:10002912-1762277400-1762284600@events.excelsiorcitizen.com
SUMMARY:Ornament Workshop | ESCC Workshop Series
DESCRIPTION:The holidays are right around the corner\, and our Ornament Workshop is the perfect way to start the season! Grab your friends and spend an evening creating up to 3 durable\, kid- and pet-proof polymer clay ornaments. Plus\, you’ll take home all the supplies you need to keep crafting at home. Registration closes soon\, so don’t wait to snag your spot! Tag your favorite crafting buddies or holiday-loving friends below and make it a festive night out you’ll all remember.  https://es-prcc.activityreg.com/selectactivity_t2.wcs..
URL:https://events.excelsiorcitizen.com/event/ornament-workshop-escc-workshop-series/
LOCATION:Excelsior Springs Community Center\, 500 Tiger Dr\, Excelsior Springs\, MO\, United States
GEO:39.349002;-94.244358
X-APPLE-STRUCTURED-LOCATION;VALUE=URI;X-ADDRESS=Excelsior Springs Community Center 500 Tiger Dr Excelsior Springs MO United States;X-APPLE-RADIUS=500;X-TITLE=500 Tiger Dr:geo:-94.244358,39.349002
END:VEVENT
BEGIN:VEVENT
DTSTART;TZID=America/Chicago:20251101T200000
DTEND;TZID=America/Chicago:20251101T230000
DTSTAMP:20260419T190900
CREATED:20260112T052108Z
LAST-MODIFIED:20260112T052108Z
UID:10002917-1762027200-1762038000@events.excelsiorcitizen.com
SUMMARY:Donny Altman Band
DESCRIPTION:This coming Saturday night\, if you are in or close to Excelsior Springs\, MO….this includes Lawson\, Kearney\, Holt\, Lathrop\, Liberty or anywhere else…make it a priority to show up at the Atlas Saloon for three hours of music that is sure to get you on your feet\, get you to smile and sing along\, and a guaranteed good time. Fill up the house and show everyone where music happens. From 8:00PM to 11:00PM we are going to play for you. Bring your friends and family.
URL:https://events.excelsiorcitizen.com/event/donny-altman-band/
LOCATION:MO
END:VEVENT
BEGIN:VEVENT
DTSTART;TZID=America/Chicago:20251101T170000
DTEND;TZID=America/Chicago:20251101T200000
DTSTAMP:20260419T190900
CREATED:20260112T052423Z
LAST-MODIFIED:20260112T052423Z
UID:10002981-1762016400-1762027200@events.excelsiorcitizen.com
SUMMARY:Fall Fest at ESCC
DESCRIPTION:Fall Fest 2025 is back and bigger than ever!  Join us on Saturday\, November 1st\, from 5–8 PM at the Excelsior Springs Community Center for one of our community’s favorite fall celebrations.\nThis year\, we’re adding so much new fun:Touch a Truck sponsored by Redgate DisposalHaunted House sponsored by the Excelsior Springs Golf CourseHayrides at the Golf Course with shuttle service providedLive musicVendors with handcrafted goodsCozy firepits with s’mores \nOf course\, some favorites are back too\, Trunk or Treat (with a faster-moving line!) and food trucks. \nThanks to our amazing sponsors\, including Presenting Sponsor Quality Plumbing\, this event remains free for everyone to attend. \nBring the kids to make new family traditions\, or come with friends to enjoy music\, coffee\, and the fall vibes. There’s truly something for everyone at Fall Fest!
URL:https://events.excelsiorcitizen.com/event/fall-fest-at-escc/
LOCATION:Excelsior Springs Community Center\, 500 Tiger Dr\, Excelsior Springs\, MO\, United States
GEO:39.349002;-94.244358
X-APPLE-STRUCTURED-LOCATION;VALUE=URI;X-ADDRESS=Excelsior Springs Community Center 500 Tiger Dr Excelsior Springs MO United States;X-APPLE-RADIUS=500;X-TITLE=500 Tiger Dr:geo:-94.244358,39.349002
END:VEVENT
BEGIN:VEVENT
DTSTART;TZID=America/Chicago:20251101T160000
DTEND;TZID=America/Chicago:20251101T190000
DTSTAMP:20260419T190900
CREATED:20260112T052124Z
LAST-MODIFIED:20260112T052124Z
UID:10002924-1762012800-1762023600@events.excelsiorcitizen.com
SUMMARY:Pay What You Can Fall Photo Session
DESCRIPTION:Kenzy’s PhotographyI’m offering a pay what you can session\, for late fall photos!!!Location:Excelsior SpringsDate: Nov 1stTimes (30min sessions)2:00pm:2:30pm:3:00pm:3:30pm:4:00pm4:30pm:5:00pm:\nMessage to book your spot!!! 10$ non refundable booking fee do when booking. These photos will be edited and put into your own gallery for easy downloading\, no certain number of photos!!! I will send you all that are taken within your time!!! \nMessage here: https://www.facebook.com/profile.php?id=61581366375386
URL:https://events.excelsiorcitizen.com/event/pay-what-you-can-fall-photo-session/
LOCATION:MO
END:VEVENT
BEGIN:VEVENT
DTSTART;TZID=America/Chicago:20251101T110000
DTEND;TZID=America/Chicago:20251101T123000
DTSTAMP:20260419T190900
CREATED:20260112T052209Z
LAST-MODIFIED:20260112T052209Z
UID:10002939-1761994800-1762000200@events.excelsiorcitizen.com
SUMMARY:Strength & Conditioning Seminar with Adam Long
DESCRIPTION:Join us for a Strength and Conditioning Seminar led by Adam Long\, Head Strength and Conditioning Coach at Liberty Hospital Sports Medicine.|\nThis seminar is designed for Brazilian Jiu-Jitsu and Fitness Kickboxing athletes looking to elevate their performance through proven\, science-backed training methods. \nAdam brings a wealth of expertise and knowledge\, having worked with people of all skill and fitness levels\, from everyday individuals to high-level elite athletes. \nParents of young Jiu-Jitsu students are especially encouraged to attend! Adam will cover safe\, age-appropriate ways to support your child’s development in the sport\, ensuring they build a strong foundation without risking overuse injuries. \nThis seminar is perfect for all levels-beginners to pros. Spots are limited\, so RSVP todav!
URL:https://events.excelsiorcitizen.com/event/strength-conditioning-seminar-with-adam-long/
LOCATION:MO
END:VEVENT
BEGIN:VEVENT
DTSTART;TZID=America/Chicago:20251101T090000
DTEND;TZID=America/Chicago:20251101T120000
DTSTAMP:20260419T190900
CREATED:20260112T052353Z
LAST-MODIFIED:20260112T052353Z
UID:10002972-1761987600-1761998400@events.excelsiorcitizen.com
SUMMARY:2025 ESHS Alumni Volleyball Tournament
DESCRIPTION:Excelsior Springs Alumni\, get ready to hit the court!We’re teaming up with the Excelsior Springs HS Volleyball for an Alumni Volleyball Tournament on Saturday\, November 1st\, starting at 9 AM at the ESHS Gymnasium. Teams must be 18+ and registration is $125 per team\, with part of the proceeds supporting the ESHS Volleyball Team. Tag your old teammates\, rally your crew\, and sign up now! Spots are limited\, don’t miss out!
URL:https://events.excelsiorcitizen.com/event/2025-eshs-alumni-volleyball-tournament/
LOCATION:Excelsior Springs High School\, 612 Tiger Drive\, Excelsior Springs\, MO\, 64024\, United States
END:VEVENT
BEGIN:VEVENT
DTSTART;TZID=America/Chicago:20251101T073000
DTEND;TZID=America/Chicago:20251101T083000
DTSTAMP:20260419T190900
CREATED:20260112T052107Z
LAST-MODIFIED:20260112T052107Z
UID:10002915-1761982200-1761985800@events.excelsiorcitizen.com
SUMMARY:Excelsior Springs Masters Swimming Stroke Clinic
DESCRIPTION:We will be conducting a Masters Swimming stroke clinic next Saturday\, November 1\, from 7:30 to 8:30 AM in the competition pool. If anyone has anything involving technique that they would like to work on\, stop by next weekend and we’ll work on it together.
URL:https://events.excelsiorcitizen.com/event/excelsior-springs-masters-swimming-stroke-clinic/
LOCATION:Excelsior Springs Community Center\, 500 Tiger Dr\, Excelsior Springs\, MO\, United States
GEO:39.349002;-94.244358
X-APPLE-STRUCTURED-LOCATION;VALUE=URI;X-ADDRESS=Excelsior Springs Community Center 500 Tiger Dr Excelsior Springs MO United States;X-APPLE-RADIUS=500;X-TITLE=500 Tiger Dr:geo:-94.244358,39.349002
END:VEVENT
BEGIN:VEVENT
DTSTART;TZID=America/Chicago:20251031T183000
DTEND;TZID=America/Chicago:20251031T193000
DTSTAMP:20260419T190900
CREATED:20260112T052223Z
LAST-MODIFIED:20260112T052223Z
UID:10002942-1761935400-1761939000@events.excelsiorcitizen.com
SUMMARY:Halloween Dog Costume Contest
DESCRIPTION:Join Casa Di Vite for a Halloween Dog Costume Contest on October 31stCheck in at 6:30pm
URL:https://events.excelsiorcitizen.com/event/halloween-dog-costume-contest/
LOCATION:Casa Di Vite International Wine Cafe\, 216 Spring St.\, Excelsior Springs\, MO\, 64024\, United States
END:VEVENT
BEGIN:VEVENT
DTSTART;TZID=America/Chicago:20251031T183000
DTEND;TZID=America/Chicago:20251031T193000
DTSTAMP:20260419T190900
CREATED:20260112T052053Z
LAST-MODIFIED:20260112T052053Z
UID:10002914-1761935400-1761939000@events.excelsiorcitizen.com
SUMMARY:Trick or Treat Wood Heights Fire
DESCRIPTION:Come see us on Halloween night for some treats (hopefully no tricks!).ALSO- there are still some people who haven’t gotten their suicide awareness shirts picked up. We will have them up there at that time if you’d like to stop on by. Or\, as always\, reach out to us to set up a time to meet up!In addition to our station Halloween night\, we will also be present at Wood Heights City Hall for their event this Friday\, October 24th AND at Elkhorn Elementary’s event Tuesday\, October 28th!
URL:https://events.excelsiorcitizen.com/event/trick-or-treat-wood-heights-fire/
LOCATION:MO
END:VEVENT
BEGIN:VEVENT
DTSTART;TZID=America/Chicago:20251031T173000
DTEND;TZID=America/Chicago:20251031T193000
DTSTAMP:20260419T190900
CREATED:20260112T052254Z
LAST-MODIFIED:20260112T052254Z
UID:10002954-1761931800-1761939000@events.excelsiorcitizen.com
SUMMARY:Live Music with JW Bowden
DESCRIPTION:Join us for an afternoon of great tunes with Jeff (JW) Bowden! Enjoy delicious wines\, soak in the scenic views\, and unwind with friends while listening to live music in a beautiful outdoor setting.
URL:https://events.excelsiorcitizen.com/event/live-music-with-jw-bowden-2/
LOCATION:MO
END:VEVENT
BEGIN:VEVENT
DTSTART;TZID=America/Chicago:20251031T170000
DTEND;TZID=America/Chicago:20251031T220000
DTSTAMP:20260419T190900
CREATED:20260112T052053Z
LAST-MODIFIED:20260112T052053Z
UID:10002913-1761930000-1761948000@events.excelsiorcitizen.com
SUMMARY:Nevermore Acre
DESCRIPTION:Join the Kennedy’s for Nevermore Acre where you will have a haunted yard walkthrough open on Halloween Night from 5pm-10pm and Saturday\, November 1st from 5-10pm6 scenes of fun and scares for FREE! Trick r’ Treat!
URL:https://events.excelsiorcitizen.com/event/nevermore-acre/
LOCATION:MO
END:VEVENT
BEGIN:VEVENT
DTSTART;TZID=America/Chicago:20251031T170000
DTEND;TZID=America/Chicago:20251031T180000
DTSTAMP:20260419T190900
CREATED:20260112T052123Z
LAST-MODIFIED:20260112T052123Z
UID:10002921-1761930000-1761933600@events.excelsiorcitizen.com
SUMMARY:Valley Manor Rehabilitation Center Trick or Treat Night!
DESCRIPTION:Join Valley Manor Rehabilitation Center for a Trick or Treat Night! Bring your children to a fun and safe Halloween experience! Costumes are encouraged\, fun for all ages\, and safe\, indoor route! Join us from 5-6pm at 1410 Hospital Drive in Excelsior Springs!
URL:https://events.excelsiorcitizen.com/event/valley-manor-rehabilitation-center-trick-or-treat-night/
LOCATION:MO
END:VEVENT
BEGIN:VEVENT
DTSTART;TZID=America/Chicago:20251031T160000
DTEND;TZID=America/Chicago:20251031T180000
DTSTAMP:20260419T190900
CREATED:20260112T052139Z
LAST-MODIFIED:20260112T052139Z
UID:10002929-1761926400-1761933600@events.excelsiorcitizen.com
SUMMARY:Downtown Trick or Treat
DESCRIPTION:Be sure to make Downtown Excelsior Springs a stop on your Trick or Treating adventure this Halloween!Our participating eateries\, drinkeries\, shops\, boutiques and galleries can’t wait to see all the great costumes and hand out candy.\nEnjoy trick or treating at participating businesses from 4:00 to 6:00 p.m. in Downtown Excelsior Springs!
URL:https://events.excelsiorcitizen.com/event/downtown-trick-or-treat-2/
LOCATION:Downtown Excelsior Springs\, Excelsior Springs\, MO\, 64024\, United States
END:VEVENT
BEGIN:VEVENT
DTSTART;TZID=America/Chicago:20251031T080000
DTEND;TZID=America/Chicago:20251031T180000
DTSTAMP:20260419T190900
CREATED:20260112T052708Z
LAST-MODIFIED:20260112T052708Z
UID:10003037-1761897600-1761933600@events.excelsiorcitizen.com
SUMMARY:Death of a Gangster: A 1920’s Mafia Murder Mystery Dinner
DESCRIPTION:Welcome to Death of a Gangster- A 1920’s Mafia Murder Mystery Dinner! Get ready to step back in time and immerse yourself in the mysterious world of the 1920s Mafia.\nJoin us at The Elms Hotel & Spa for an unforgettable evening filled with intrigue\, suspense\, and delicious food. Put on your best 1920s attire and prepare to solve a thrilling murder mystery while enjoying a decadent dinner. \nDon’t miss out on this unique experience that will transport you to a bygone era of gangsters and glamour. \nGrab your tickets now!
URL:https://events.excelsiorcitizen.com/event/death-of-a-gangster-a-1920s-mafia-murder-mystery-dinner/
LOCATION:MO
END:VEVENT
BEGIN:VEVENT
DTSTART;TZID=America/Chicago:20251030T183000
DTEND;TZID=America/Chicago:20251030T200000
DTSTAMP:20260419T190900
CREATED:20260112T052208Z
LAST-MODIFIED:20260112T052208Z
UID:10002936-1761849000-1761854400@events.excelsiorcitizen.com
SUMMARY:Excelsior Springs Area Beekeeping Club – October Meeting
DESCRIPTION:Join us for our October club meeting! We are finalizing plans for our topic of discussion and will post that soon.
URL:https://events.excelsiorcitizen.com/event/excelsior-springs-area-beekeeping-club-october-meeting/
LOCATION:MO
END:VEVENT
BEGIN:VEVENT
DTSTART;TZID=America/Chicago:20251029T160000
DTEND;TZID=America/Chicago:20251029T190000
DTSTAMP:20260419T190900
CREATED:20260112T052252Z
LAST-MODIFIED:20260112T052252Z
UID:10002950-1761753600-1761764400@events.excelsiorcitizen.com
SUMMARY:Halloween/Fall Fest Celebration – ES Farmers Market
DESCRIPTION:Costume Contest\, Vend-Or-Treat\, Scavenger Hunt Bingo\, Pumpkin Decorating\, and Chalk Art with Robbie\, plus ALL THE GREAT VENDORS for your last market of the season shopping!
URL:https://events.excelsiorcitizen.com/event/halloween-fall-fest-celebration-es-farmers-market/
LOCATION:MO
END:VEVENT
BEGIN:VEVENT
DTSTART;TZID=America/Chicago:20251029T160000
DTEND;TZID=America/Chicago:20251029T180000
DTSTAMP:20260419T190900
CREATED:20260112T054208Z
LAST-MODIFIED:20260112T054208Z
UID:10003338-1761753600-1761760800@events.excelsiorcitizen.com
SUMMARY:Excelsior Springs Evening Farmers Market
DESCRIPTION:Halloween/Fall HarvestBounce House\nMid-Continent Public Library
URL:https://events.excelsiorcitizen.com/event/excelsior-springs-evening-farmers-market/
LOCATION:MO
END:VEVENT
BEGIN:VEVENT
DTSTART;TZID=America/Chicago:20251027T113000
DTEND;TZID=America/Chicago:20251027T120000
DTSTAMP:20260419T190900
CREATED:20260112T052424Z
LAST-MODIFIED:20260112T052424Z
UID:10002984-1761564600-1761566400@events.excelsiorcitizen.com
SUMMARY:Exciting News: Maura Woolsey is Now a Certified Diabetes Care and Education Specialist!
DESCRIPTION:We are proud to announce that our Registered Dietitian\, Maura Woolsey\, has officially earned her Certified Diabetes Care and Education Specialist credential.What does this mean for you?\nAs a Certified Diabetes Care and Education Specialist\, Maura is equipped to provide expert guidance to help you or your loved ones manage and prevent diabetes with confidence.\nShe can support you with:\n• Understanding how food choices affect blood sugar\n• Creating balanced meal plans tailored to your needs\n• Learning effective carbohydrate counting strategies\n• Developing healthier lifestyle habits for long-term wellness\n• Managing medications in coordination with your healthcare team\n• Preventing diabetes-related complications through nutrition and education\nJoin us as Maura shares her expertise and practical tips for living well with diabetes. Together\, let’s take steps toward healthier living!\nRegistration is required for Senior Citizens and/or Non-Senior Lunches by visiting https://es-prcc.com/senior-center\nAll events are held at the ES Community Center unless otherwise noted.
URL:https://events.excelsiorcitizen.com/event/exciting-news-maura-woolsey-is-now-a-certified-diabetes-care-and-education-specialist/
LOCATION:Excelsior Springs Community Center\, 500 Tiger Dr\, Excelsior Springs\, MO\, United States
GEO:39.349002;-94.244358
X-APPLE-STRUCTURED-LOCATION;VALUE=URI;X-ADDRESS=Excelsior Springs Community Center 500 Tiger Dr Excelsior Springs MO United States;X-APPLE-RADIUS=500;X-TITLE=500 Tiger Dr:geo:-94.244358,39.349002
END:VEVENT
BEGIN:VEVENT
DTSTART;TZID=America/Chicago:20251027T080000
DTEND;TZID=America/Chicago:20251029T180000
DTSTAMP:20260419T190900
CREATED:20260112T052122Z
LAST-MODIFIED:20260112T052122Z
UID:10002920-1761552000-1761760800@events.excelsiorcitizen.com
SUMMARY:Halloween Pet Costume Contest
DESCRIPTION:Calling all furry ghouls and spooky pups!  Bring your pet in costume Oct 27–29 for a chance to win a fang-tastic nail trim!Thank you for celebrating spooky season with us!– Your friends at Excelsior Springs Animal Clinic
URL:https://events.excelsiorcitizen.com/event/halloween-pet-costume-contest/
LOCATION:MO
END:VEVENT
BEGIN:VEVENT
DTSTART;TZID=America/Chicago:20251026T150000
DTEND;TZID=America/Chicago:20251026T170000
DTSTAMP:20260419T190900
CREATED:20260112T052307Z
LAST-MODIFIED:20260112T052307Z
UID:10002955-1761490800-1761498000@events.excelsiorcitizen.com
SUMMARY:Live Music with Jillian Riscoe
DESCRIPTION:Spend a delightful afternoon enjoying the soulful sounds of Jillian Riscoe! Sip on your favorite wines\, take in the beautiful surroundings\, and relax with friends to live music you won’t want to miss.
URL:https://events.excelsiorcitizen.com/event/live-music-with-jillian-riscoe/
LOCATION:MO
END:VEVENT
END:VCALENDAR