BEGIN:VCALENDAR
VERSION:2.0
PRODID:-// - ECPv6.15.20//NONSGML v1.0//EN
CALSCALE:GREGORIAN
METHOD:PUBLISH
X-ORIGINAL-URL:https://events.excelsiorcitizen.com
X-WR-CALDESC:Events for 
REFRESH-INTERVAL;VALUE=DURATION:PT1H
X-Robots-Tag:noindex
X-PUBLISHED-TTL:PT1H
BEGIN:VTIMEZONE
TZID:America/Chicago
BEGIN:DAYLIGHT
TZOFFSETFROM:-0600
TZOFFSETTO:-0500
TZNAME:CDT
DTSTART:20240310T080000
END:DAYLIGHT
BEGIN:STANDARD
TZOFFSETFROM:-0500
TZOFFSETTO:-0600
TZNAME:CST
DTSTART:20241103T070000
END:STANDARD
BEGIN:DAYLIGHT
TZOFFSETFROM:-0600
TZOFFSETTO:-0500
TZNAME:CDT
DTSTART:20250309T080000
END:DAYLIGHT
BEGIN:STANDARD
TZOFFSETFROM:-0500
TZOFFSETTO:-0600
TZNAME:CST
DTSTART:20251102T070000
END:STANDARD
BEGIN:DAYLIGHT
TZOFFSETFROM:-0600
TZOFFSETTO:-0500
TZNAME:CDT
DTSTART:20260308T080000
END:DAYLIGHT
BEGIN:STANDARD
TZOFFSETFROM:-0500
TZOFFSETTO:-0600
TZNAME:CST
DTSTART:20261101T070000
END:STANDARD
END:VTIMEZONE
BEGIN:VEVENT
DTSTART;TZID=America/Chicago:20251009T190000
DTEND;TZID=America/Chicago:20251009T200000
DTSTAMP:20260422T194952
CREATED:20260112T052438Z
LAST-MODIFIED:20260112T052438Z
UID:10002986-1760036400-1760040000@events.excelsiorcitizen.com
SUMMARY:Tasting Thursdays
DESCRIPTION:Sip & socialize! The Atlas launches Tasting Thursdays with Oktoberfest beers & light bites. Bring friends & raise a glass!Tasting Thursdays are here at The Atlas! We’re kicking things off with a celebration of Oktoberfest\, one of fall’s most beloved beer traditions.\nJoin us for a guided tasting of four Oktoberfest-style beers led by our brewmaster\, Keith Hudson\, who will share the history\, flavors\, and brewing techniques behind each pour. Whether you’re new to craft beer or a seasoned enthusiast\, you’ll leave with fresh insights (and maybe a new favorite brew).\nLight snacks will be provided to pair with the beers. Bring your friends\, your curiosity\, and if you’re feeling festive\, your lederhosen—though they’re totally optional.\nCome sip\, learn\, and enjoy good company as we raise a glass to the start of Tasting Thursdays at The Atlas!
URL:https://events.excelsiorcitizen.com/event/tasting-thursdays/
LOCATION:MO
END:VEVENT
BEGIN:VEVENT
DTSTART;TZID=America/Chicago:20251009T120000
DTEND;TZID=America/Chicago:20251009T130000
DTSTAMP:20260422T194952
CREATED:20250131T040546Z
LAST-MODIFIED:20260112T061501Z
UID:10000066-1760011200-1760014800@events.excelsiorcitizen.com
SUMMARY:Understanding the Importance of Establishment with a Primary Care Practitioner
DESCRIPTION:Join ES Hospital and Thrive Excelsior welcome you to join them for their 2025 Quarterly Lunch and Learn series.Primary care physicians can catch potential health problems early before they become severe. People who have a PCP spend less time in the hospital and less money on medical costs in the long run. Learn more about why and how you can be established with a PCP. This session is led by Dr. Heather Wilson.\nLunch is provided and RSPV is required: bit.ly/ESHOct2025\nEvent takes place in ES Hospital’s Community Room 1
URL:https://events.excelsiorcitizen.com/event/understanding-the-importance-of-establishment-with-a-primary-care-practitioner/
LOCATION:Excelsior Springs Hospital\, 1700 Rainbow Blvd\, Excelsior Springs\, MO\, 64024\, United States
END:VEVENT
BEGIN:VEVENT
DTSTART;TZID=America/Chicago:20251009T110000
DTEND;TZID=America/Chicago:20251009T190000
DTSTAMP:20260422T194952
CREATED:20260112T052422Z
LAST-MODIFIED:20260112T052422Z
UID:10002980-1760007600-1760036400@events.excelsiorcitizen.com
SUMMARY:Cousins Maine Lobster at Tractor Supply Company
DESCRIPTION:EXCELSIOR SPRINGS! WE ARE BACK WITH DELICIOUS MAINE LOBSTER!! COME SEE US!! \n WE ONLY ACCEPT DEBIT/CREDIT CARDS AND APPLE PAY!  \nOrder ahead on the app and avoid the line! Mobile orders are accepted for day-of\, posted events only\n Mobile app ordering opens up at least one hour before each truck event\, once the previous event has finished. Earn points and redeem for rewards!\nMobile app ordering at times may be limited or unavailable. But you can always order with us directly at the truck! We can’t wait to see you!\n Our menu can be found on our website at the following link: https://www.cousinsmainelobster.com/locations/kansas-city-mo
URL:https://events.excelsiorcitizen.com/event/cousins-maine-lobster-at-tractor-supply-company-2/
LOCATION:MO
END:VEVENT
BEGIN:VEVENT
DTSTART;TZID=America/Chicago:20251008T183000
DTEND;TZID=America/Chicago:20251008T193000
DTSTAMP:20260422T194952
CREATED:20260112T052337Z
LAST-MODIFIED:20260112T052337Z
UID:10002965-1759948200-1759951800@events.excelsiorcitizen.com
SUMMARY:Unwind and Recharge Yoga Class for Women
DESCRIPTION:Ladies escape the hustle\, unwind and recharge with our mid-week yoga class and guided meditation. Whether you’re seeking flexibility\, strength\, or peace of mind\, this session is crafted for yogis of all levels.$15 / person (cash or venmo accepted)
URL:https://events.excelsiorcitizen.com/event/unwind-and-recharge-yoga-class-for-women/
LOCATION:MO
END:VEVENT
BEGIN:VEVENT
DTSTART;TZID=America/Chicago:20251008T170000
DTEND;TZID=America/Chicago:20251008T190000
DTSTAMP:20260422T194952
CREATED:20260112T052423Z
LAST-MODIFIED:20260112T052423Z
UID:10002983-1759942800-1759950000@events.excelsiorcitizen.com
SUMMARY:Big Brothers Big Sister of KC BIG Informational Dinner
DESCRIPTION:Ready to make a BIG difference? Join us for the Big Brothers Big Sisters of KC Recruitment & Informational Dinner on Wednesday\, October 8 from 5–7 PM at the Excelsior Springs Community Center\, 500 Tiger Drive. This free event is open to anyone 21 and older who wants to learn more about becoming a BIG.\n Enjoy pizza and drinks on us while discovering how just a little of your time can have a life-changing impact on a child right here in our community. Whether you’ve been curious about mentoring or are ready to take the next step\, this is the perfect chance to get involved and ask questions. \n Registration is free but required so we can plan enough food. Sign up here: https://form.jotform.com/252313713755051
URL:https://events.excelsiorcitizen.com/event/big-brothers-big-sister-of-kc-big-informational-dinner/
LOCATION:Excelsior Springs Community Center\, 500 Tiger Dr\, Excelsior Springs\, MO\, United States
GEO:39.349002;-94.244358
X-APPLE-STRUCTURED-LOCATION;VALUE=URI;X-ADDRESS=Excelsior Springs Community Center 500 Tiger Dr Excelsior Springs MO United States;X-APPLE-RADIUS=500;X-TITLE=500 Tiger Dr:geo:-94.244358,39.349002
END:VEVENT
BEGIN:VEVENT
DTSTART;TZID=America/Chicago:20251008T110000
DTEND;TZID=America/Chicago:20251008T150000
DTSTAMP:20260422T194952
CREATED:20260112T052408Z
LAST-MODIFIED:20260112T052408Z
UID:10002977-1759921200-1759935600@events.excelsiorcitizen.com
SUMMARY:Widowed Wednesday Lunch
DESCRIPTION:We are going to start a Widowed Wednesday Lunch the second week of October here at Wine & Shine.10/8/2025.. We have several Widow’s that come in and eat alone or just have no one to do things with! THIS IS NOT FOR DATING. Any gender any age\, just a safe spot to meet and find out about all the amazing local events and maybe even find someone to join!!!! This should be fun  Feel free to be open about it or just swing in and grab lunch\, no stress just kindness & togetherness!!!!
URL:https://events.excelsiorcitizen.com/event/widowed-wednesday-lunch/
LOCATION:MO
END:VEVENT
BEGIN:VEVENT
DTSTART;TZID=America/Chicago:20251007T173000
DTEND;TZID=America/Chicago:20251007T183000
DTSTAMP:20260422T194952
CREATED:20260112T052752Z
LAST-MODIFIED:20260112T052752Z
UID:10003050-1759858200-1759861800@events.excelsiorcitizen.com
SUMMARY:Medicaid Planning and Paying for Long Term Care
DESCRIPTION:Worried about the rising cost of long-term care? Many families don’t realize how quickly care expenses can drain savings — or that Medicaid may help cover the cost if you plan ahead. In this educational seminar\, elder care attorney Glen Smith will explain how Medicaid really works\, what options are available for long-term care\, and the steps you can take now to protect your hard-earned assets while ensuring you or your loved ones get the care they need.
URL:https://events.excelsiorcitizen.com/event/medicaid-planning-and-paying-for-long-term-care/
LOCATION:MO
END:VEVENT
BEGIN:VEVENT
DTSTART;TZID=America/Chicago:20251006T183000
DTEND;TZID=America/Chicago:20251006T223000
DTSTAMP:20260422T194952
CREATED:20260112T052523Z
LAST-MODIFIED:20260112T052523Z
UID:10003001-1759775400-1759789800@events.excelsiorcitizen.com
SUMMARY:Making Peace
DESCRIPTION:We are excited to announce that we will be hosting “Making Peace with Your Past” in October. Meetings will be held on Mondays from 6:30 PM to 8:00 PM at the center. This support group study provides practical\, biblically-based guidance to help adults identify\, understand\, and address the feelings and challenges of growing up in a dysfunctional family. The study begins on October 6th. Please come in to sign up on Tuesdays or Thursdays from 3:00 PM to 7:00 PM.
URL:https://events.excelsiorcitizen.com/event/making-peace/
LOCATION:MO
END:VEVENT
BEGIN:VEVENT
DTSTART;TZID=America/Chicago:20251005T140000
DTEND;TZID=America/Chicago:20251005T153000
DTSTAMP:20260422T194952
CREATED:20260112T052508Z
LAST-MODIFIED:20260112T052508Z
UID:10002998-1759672800-1759678200@events.excelsiorcitizen.com
SUMMARY:2PM Winery/Wine Cave Tour & Candlelit Tasting
DESCRIPTION:Enjoy a tour of the winery and wine caves. Learn about Fence Stile’s wines\, the winery’s history\, Brix (testing the sugar level in grapes)\, vineyard management\, and the terroir of the estate. Finish with a candlelit tasting in the CELLAR57 club room and the wine caves.Keep the tasting glass and enjoy 10% off bottles of wine purchased after the tour. \nHave a nondrinker in the group? No worries – use discount code ‘NONDRINKER’ at checkout for $10 off. \nNOTE: If ticket sales have closed on the day of the tour\, please call 816-500-6465 to check if additional tickets are available or to schedule a custom tour!
URL:https://events.excelsiorcitizen.com/event/2pm-winery-wine-cave-tour-candlelit-tasting-2/
LOCATION:Fence Stile Vineyards and Winery\, 31010 W 124th St\, Excelsior Springs\, MO\, 64024\, United States
END:VEVENT
BEGIN:VEVENT
DTSTART;TZID=America/Chicago:20251005T140000
DTEND;TZID=America/Chicago:20251005T150000
DTSTAMP:20260422T194952
CREATED:20260112T052439Z
LAST-MODIFIED:20260112T052439Z
UID:10002989-1759672800-1759676400@events.excelsiorcitizen.com
SUMMARY:Blessing of the Pets
DESCRIPTION:Join us for a Blessing of the Pets on October 5th at 2:00pm at St Luke’s Episcopal Church downtown!
URL:https://events.excelsiorcitizen.com/event/blessing-of-the-pets/
LOCATION:MO
END:VEVENT
BEGIN:VEVENT
DTSTART;TZID=America/Chicago:20251005T110000
DTEND;TZID=America/Chicago:20251005T120000
DTSTAMP:20260422T194952
CREATED:20260112T052423Z
LAST-MODIFIED:20260112T052423Z
UID:10002982-1759662000-1759665600@events.excelsiorcitizen.com
SUMMARY:Tremendous Auction – Fenton & More
DESCRIPTION:Mac’s Auction ServiceSunday\, October 5\, 202511:00 a.m.Mac’s Auction BarnY Highway\, Excelsior Springs\, MO\nTREMENDOUS AUCTIONFENTON – ANTIQUES – IRON – AND MORE \nThis will be the 5th and final sale for Sharon’s huge Fenton & antique collection. Over 100+ pieces of signed Fenton glass (inc. Uranium)\, great selection of wood and soapstone carvings\, small collectibles\, other collectible glassware\, scrimshaws\, chalk figurines\, mini kerosene lamps\, floor lamp\, adv. Yard sticks\, copper tea kettles\, advertising tire ash trays and more! Be sure to look at the pictures online to see all the picture pieces of hard to find Fenton\, soapstone and more! Check our website or Facebook page for photos!
URL:https://events.excelsiorcitizen.com/event/tremendous-auction-fenton-more/
LOCATION:MO
END:VEVENT
BEGIN:VEVENT
DTSTART;TZID=America/Chicago:20251004T193000
DTEND;TZID=America/Chicago:20251004T203000
DTSTAMP:20260422T194952
CREATED:20260112T052624Z
LAST-MODIFIED:20260112T052624Z
UID:10003023-1759606200-1759609800@events.excelsiorcitizen.com
SUMMARY:Boos & Blooms Floral Arrangement Class
DESCRIPTION:Grab your favorite ghouls and join Stone Ridge Suppliers for a spooky fun  floral  arrangement class!Tickets are $40 (includes all supplies and flowers).\nBring a friend to help you for $15 (this option does not include an additional arrangement).\nBYOB This event is for adults. See our BOOquet Bar for a more family-friendly event!\nLimited Spots available. Contact Stone Ridge Suppliers to reserve your spot.\nMethods of contact:-FB MessageEmail: stoneridgesuppliers@gmail.comCell: (573) 220-6322
URL:https://events.excelsiorcitizen.com/event/boos-blooms-floral-arrangement-class/
LOCATION:Solana On Broadway
END:VEVENT
BEGIN:VEVENT
DTSTART;TZID=America/Chicago:20251004T170000
DTEND;TZID=America/Chicago:20251004T180000
DTSTAMP:20260422T194952
CREATED:20260112T052623Z
LAST-MODIFIED:20260112T052623Z
UID:10003022-1759597200-1759600800@events.excelsiorcitizen.com
SUMMARY:BOOquet Bar
DESCRIPTION:CALLING ALL MONSTERS! Come join Stone Ridge Suppliers for a family-friendly BOOquet bar Tickets are $30 (includes vase\, flowers and bouquet-making supplies).\nBring a guest for an extra $10 (does not include additional bouquet).\nLimited Spots available.\nContact Stone Ridge Suppliers to reserve your spot!\nMethods of contact:FB MessageEmail: stoneridgesuppliers@gmail.comCell: (573) 220-6322\n*Little Monsters will need supervision*
URL:https://events.excelsiorcitizen.com/event/booquet-bar/
LOCATION:Solana On Broadway
END:VEVENT
BEGIN:VEVENT
DTSTART;TZID=America/Chicago:20251004T140000
DTEND;TZID=America/Chicago:20251004T160000
DTSTAMP:20260422T194952
CREATED:20260112T052507Z
LAST-MODIFIED:20260112T052507Z
UID:10002995-1759586400-1759593600@events.excelsiorcitizen.com
SUMMARY:Live Music – Chace Curtis
DESCRIPTION:Bring friends\, enjoy wine and listen to Chace Curtis sing and perform on guitar.
URL:https://events.excelsiorcitizen.com/event/live-music-chace-curtis-3/
LOCATION:Fence Stile Vineyards and Winery\, 31010 W 124th St\, Excelsior Springs\, MO\, 64024\, United States
END:VEVENT
BEGIN:VEVENT
DTSTART;TZID=America/Chicago:20251004T130000
DTEND;TZID=America/Chicago:20251004T190000
DTSTAMP:20260422T194952
CREATED:20260112T052352Z
LAST-MODIFIED:20260112T052352Z
UID:10002970-1759582800-1759604400@events.excelsiorcitizen.com
SUMMARY:2nd Annual Excelsior Springs Irish Festival
DESCRIPTION:Celebrate Irish culture\, music\, and community at Shamrock Hills Vineyard and Winery! Enjoy live entertainment\, local vendors\, traditional food and drink\, family-friendly activities\, and more. A perfect weekend to sip\, shop\, and soak in the festive atmosphere just minutes from historic downtown Excelsior Springs.🍀 Welcome to the Irish Festival in Excelsior Springs! 🍀\nGet ready for a day packed with Irish music\, dancing\, food\, and family fun! Celebrate Irish culture with friends and neighbors while enjoying a lively\, festive atmosphere filled with the sights and sounds of Ireland.\n✨ Entertainment Lineup Includes: \nO’Riada Manning Dancers\nEddie Delahunt\nCanterberries\nStolen Apples\nBiscuit Boys\nSt. Andrew Bag Pipers\nKian Byrne\nAnd So It Goes \n🎶 From traditional bagpipes and Irish dancers to incredible live bands\, this festival has something for everyone.\nBring your family\, grab your friends\, and don’t miss your chance to experience a true taste of Ireland—right here in Excelsior Springs!\n \nThis will be a 2 day event\, rain or shine.\n1- Day tickets $20\n2- Day tickets $30\nChildren 12 and under free.\nClick here for tickets\nNo Refunds.
URL:https://events.excelsiorcitizen.com/event/2nd-annual-excelsior-springs-irish-festival/
LOCATION:MO
END:VEVENT
BEGIN:VEVENT
DTSTART;TZID=America/Chicago:20251004T130000
DTEND;TZID=America/Chicago:20251004T180000
DTSTAMP:20260422T194952
CREATED:20260112T052914Z
LAST-MODIFIED:20260112T052914Z
UID:10003081-1759582800-1759600800@events.excelsiorcitizen.com
SUMMARY:Women in Business Pop Up Mini Session
DESCRIPTION:Are you a Women in Business needing new head shots to help promote you and your business. Plus we are teaming up with Style by Ry to help style you. Limited spots available don’t miss this opportunity.$100 will get you 5 to 8 digitally edited pics.
URL:https://events.excelsiorcitizen.com/event/women-in-business-pop-up-mini-session/
LOCATION:MO
END:VEVENT
BEGIN:VEVENT
DTSTART;TZID=America/Chicago:20251003T150000
DTEND;TZID=America/Chicago:20251003T170000
DTSTAMP:20260422T194952
CREATED:20260112T053037Z
LAST-MODIFIED:20260112T053037Z
UID:10003110-1759503600-1759510800@events.excelsiorcitizen.com
SUMMARY:The Call – Men’s Retreat
DESCRIPTION:Join us for The Call Men’s Retreat 2025! It’s two unforgettable days of worship\, brotherhood\, and spiritual growth. This year’s theme is ROOTED\, and we’re gathering at Lake Maurer Retreat Center in Excelsior Springs\, MO\, October 3–4.\nOur guest speaker\, Bob Sorge\, will help lead us into a powerful time of connection with God and each other. Expect great food\, dynamic teaching\, and tons of activities — from fishing and basketball to ping pong and video games. \nSchedule:Starts Friday\, Oct 3 at 3 PMEnds Saturday\, Oct 4 at 4 PMIncludes worship\, teaching\, meals\, optional overnight lodging\, and all activities.\nEarly Bird Pricing (July 27–Aug 31):Use promo code ROOTED at checkout• $125 – Overnight (Both Days)• $100 – No Overnight• $75 – One Day Only\nRegular Pricing (Starting Sept 1):• $150 – Overnight (Both Days)• $125 – No Overnight• $100 – One Day Only\nDon’t wait\, space is limited and early bird pricing won’t last long. This is your chance to step away from the noise\, press into Jesus\, and grow in community with other men from The Call.\nRegister now at: https://subspla.sh/cx726wz
URL:https://events.excelsiorcitizen.com/event/the-call-mens-retreat/
LOCATION:MO
END:VEVENT
BEGIN:VEVENT
DTSTART;TZID=America/Chicago:20251002T203000
DTEND;TZID=America/Chicago:20251002T203000
DTSTAMP:20260422T194952
CREATED:20260112T052508Z
LAST-MODIFIED:20260112T052508Z
UID:10002997-1759437000-1759437000@events.excelsiorcitizen.com
SUMMARY:Excelsior Springs Area Beekeeping Club – October Meeting
DESCRIPTION:Join us for our October club meeting! We are finalizing plans for our topic of discussion and will post that soon.
URL:https://events.excelsiorcitizen.com/event/excelsior-springs-area-beekeeping-club-october-meeting-2/
LOCATION:MO
END:VEVENT
BEGIN:VEVENT
DTSTART;TZID=America/Chicago:20251002T180000
DTEND;TZID=America/Chicago:20251002T190000
DTSTAMP:20260422T194952
CREATED:20260112T053008Z
LAST-MODIFIED:20260112T053008Z
UID:10003102-1759428000-1759431600@events.excelsiorcitizen.com
SUMMARY:October Monthly Meeting at Cornerstone Elementary
DESCRIPTION:Please join us for our monthly PTO meeting! All parents/guardians of Cornerstone students are welcome.
URL:https://events.excelsiorcitizen.com/event/october-monthly-meeting-at-cornerstone-elementary/
LOCATION:MO
END:VEVENT
BEGIN:VEVENT
DTSTART;TZID=America/Chicago:20251001T173000
DTEND;TZID=America/Chicago:20251001T200000
DTSTAMP:20260422T194952
CREATED:20260112T052408Z
LAST-MODIFIED:20260112T052408Z
UID:10002976-1759339800-1759348800@events.excelsiorcitizen.com
SUMMARY:Weekly D&D and board game night
DESCRIPTION:Come play some dungeons and dragons or any of the other board games on our shelf! First d&d session is $10 and comes with a set of dice for you to keep\, and each follow-up session is $5.
URL:https://events.excelsiorcitizen.com/event/weekly-dd-and-board-game-night/
LOCATION:MO
END:VEVENT
BEGIN:VEVENT
DTSTART;TZID=America/Chicago:20251001T160000
DTEND;TZID=America/Chicago:20251001T180000
DTSTAMP:20260422T194952
CREATED:20260112T054208Z
LAST-MODIFIED:20260112T054208Z
UID:10003339-1759334400-1759341600@events.excelsiorcitizen.com
SUMMARY:Excelsior Springs Evening Farmers Market
DESCRIPTION:Meet the Need NightBounce House\nMid-Continent Public Library\nMU Extension  Food/Garden Demonstration\nGolden Carrots
URL:https://events.excelsiorcitizen.com/event/excelsior-springs-evening-farmers-market-2/
LOCATION:MO
END:VEVENT
BEGIN:VEVENT
DTSTART;TZID=America/Chicago:20250930T180000
DTEND;TZID=America/Chicago:20250930T190000
DTSTAMP:20260422T194952
CREATED:20260112T052439Z
LAST-MODIFIED:20260112T052439Z
UID:10002988-1759255200-1759258800@events.excelsiorcitizen.com
SUMMARY:Financial Aid Night at ESHS
DESCRIPTION:A college financial aid expert will be here to explain types of aid\, the FAFSA and to take audience questions.Open to any grade level\, but particularly relevant for graduating seniors.
URL:https://events.excelsiorcitizen.com/event/financial-aid-night-at-eshs/
LOCATION:Excelsior Springs Performing Arts Center
END:VEVENT
BEGIN:VEVENT
DTSTART;TZID=America/Chicago:20250929T183000
DTEND;TZID=America/Chicago:20250929T193000
DTSTAMP:20260422T194952
CREATED:20260112T052652Z
LAST-MODIFIED:20260112T052652Z
UID:10003030-1759170600-1759174200@events.excelsiorcitizen.com
SUMMARY:Mobile Music Box Concert: MCPL Excelsior Springs Branch
DESCRIPTION:All concerts are presented weather permitting. If rain is in the forecast\, be sure to check back here and on our website for the latest schedule updates.https://www.kcsymphony.org/concert…/neighborhood-concerts/\nhttps://www.mymcpl.org/
URL:https://events.excelsiorcitizen.com/event/mobile-music-box-concert-mcpl-excelsior-springs-branch/
LOCATION:MO
END:VEVENT
BEGIN:VEVENT
DTSTART;TZID=America/Chicago:20250928T070000
DTEND;TZID=America/Chicago:20251004T190000
DTSTAMP:20260422T194952
CREATED:20260112T052523Z
LAST-MODIFIED:20260112T052523Z
UID:10003002-1759042800-1759604400@events.excelsiorcitizen.com
SUMMARY:Missouri Good Neighbor Week 2025
DESCRIPTION:Celebrate Missouri Good Neighbor Week by connecting with your neighbors. You can also nominate someone for Most Engaged Neighbor here: https://missourigoodneighborweek.com/
URL:https://events.excelsiorcitizen.com/event/missouri-good-neighbor-week-2025/
LOCATION:MO
END:VEVENT
BEGIN:VEVENT
DTSTART;TZID=America/Chicago:20250927T180000
DTEND;TZID=America/Chicago:20250927T200000
DTSTAMP:20260422T194952
CREATED:20250131T041039Z
LAST-MODIFIED:20260112T071430Z
UID:10000226-1758996000-1759003200@events.excelsiorcitizen.com
SUMMARY:ES Night Out Against Crime
DESCRIPTION:
URL:https://events.excelsiorcitizen.com/event/es-night-out-against-crime/
LOCATION:Hall Of Waters
END:VEVENT
BEGIN:VEVENT
DTSTART;TZID=America/Chicago:20250927T163000
DTEND;TZID=America/Chicago:20250927T183000
DTSTAMP:20260422T194952
CREATED:20260112T052452Z
LAST-MODIFIED:20260112T052452Z
UID:10002990-1758990600-1758997800@events.excelsiorcitizen.com
SUMMARY:MTG Spider-Man Pre-Release and Pizza Tournament
DESCRIPTION:
URL:https://events.excelsiorcitizen.com/event/mtg-spider-man-pre-release-and-pizza-tournament/
LOCATION:MO
END:VEVENT
BEGIN:VEVENT
DTSTART;TZID=America/Chicago:20250927T160000
DTEND;TZID=America/Chicago:20250927T180000
DTSTAMP:20260422T194952
CREATED:20260112T053124Z
LAST-MODIFIED:20260112T053124Z
UID:10003129-1758988800-1758996000@events.excelsiorcitizen.com
SUMMARY:Live Music with Jack Soutter
DESCRIPTION:Join us for an evening of great music in a beautiful setting. Jack Soutter will be performing a mix of original songs and covers\, guaranteed to get you dancing and singing along. Bring your friends and family for a fun-filled night of live music. Don’t miss out on this fantastic event!
URL:https://events.excelsiorcitizen.com/event/live-music-with-jack-soutter-6/
LOCATION:MO
END:VEVENT
BEGIN:VEVENT
DTSTART;TZID=America/Chicago:20250927T130000
DTEND;TZID=America/Chicago:20250927T160000
DTSTAMP:20260422T194952
CREATED:20260112T053624Z
LAST-MODIFIED:20260112T053624Z
UID:10003229-1758978000-1758988800@events.excelsiorcitizen.com
SUMMARY:Live Music on the Wine Garden with Colin Nichols
DESCRIPTION:Live music on the Wine Garden with Colin Nichols. Enjoy some fine Missouri Wine and wood-fired oven pizza while listening to some old favorites and originals from Colin!
URL:https://events.excelsiorcitizen.com/event/live-music-on-the-wine-garden-with-colin-nichols-2/
LOCATION:MO
END:VEVENT
BEGIN:VEVENT
DTSTART;TZID=America/Chicago:20250927T120000
DTEND;TZID=America/Chicago:20250927T130000
DTSTAMP:20260422T194952
CREATED:20260112T052707Z
LAST-MODIFIED:20260112T052707Z
UID:10003035-1758974400-1758978000@events.excelsiorcitizen.com
SUMMARY:Tea with a Princess
DESCRIPTION:Tea with a Princess Saturday\, September 27th at 12 PM Ages 3–10 | $20 per childA royal afternoon includes sweet treats\, dress-up fun\, princess makeovers\, and a sparkling tiara crowning – all topped off with tea time alongside a princess.\nRegister here to save your spot: https://es-prcc.activityreg.com/selectactivity_t2.wcs…
URL:https://events.excelsiorcitizen.com/event/tea-with-a-princess/
LOCATION:Excelsior Springs Community Center\, 500 Tiger Dr\, Excelsior Springs\, MO\, United States
GEO:39.349002;-94.244358
X-APPLE-STRUCTURED-LOCATION;VALUE=URI;X-ADDRESS=Excelsior Springs Community Center 500 Tiger Dr Excelsior Springs MO United States;X-APPLE-RADIUS=500;X-TITLE=500 Tiger Dr:geo:-94.244358,39.349002
END:VEVENT
BEGIN:VEVENT
DTSTART;TZID=America/Chicago:20250927T110000
DTEND;TZID=America/Chicago:20250927T190000
DTSTAMP:20260422T194952
CREATED:20260112T052524Z
LAST-MODIFIED:20260112T052524Z
UID:10003004-1758970800-1758999600@events.excelsiorcitizen.com
SUMMARY:On the Hook Fish and Chips
DESCRIPTION:(09/27) Excelsior Springs! Fresh\, wild-caught fish and chips are coming to your neck of the woods! At Tractor Supply (115 Crown Hill Rd)
URL:https://events.excelsiorcitizen.com/event/on-the-hook-fish-and-chips-5/
LOCATION:MO
END:VEVENT
END:VCALENDAR