BEGIN:VCALENDAR
VERSION:2.0
PRODID:-// - ECPv6.15.20//NONSGML v1.0//EN
CALSCALE:GREGORIAN
METHOD:PUBLISH
X-ORIGINAL-URL:https://events.excelsiorcitizen.com
X-WR-CALDESC:Events for 
REFRESH-INTERVAL;VALUE=DURATION:PT1H
X-Robots-Tag:noindex
X-PUBLISHED-TTL:PT1H
BEGIN:VTIMEZONE
TZID:America/Chicago
BEGIN:DAYLIGHT
TZOFFSETFROM:-0600
TZOFFSETTO:-0500
TZNAME:CDT
DTSTART:20230312T080000
END:DAYLIGHT
BEGIN:STANDARD
TZOFFSETFROM:-0500
TZOFFSETTO:-0600
TZNAME:CST
DTSTART:20231105T070000
END:STANDARD
BEGIN:DAYLIGHT
TZOFFSETFROM:-0600
TZOFFSETTO:-0500
TZNAME:CDT
DTSTART:20240310T080000
END:DAYLIGHT
BEGIN:STANDARD
TZOFFSETFROM:-0500
TZOFFSETTO:-0600
TZNAME:CST
DTSTART:20241103T070000
END:STANDARD
BEGIN:DAYLIGHT
TZOFFSETFROM:-0600
TZOFFSETTO:-0500
TZNAME:CDT
DTSTART:20250309T080000
END:DAYLIGHT
BEGIN:STANDARD
TZOFFSETFROM:-0500
TZOFFSETTO:-0600
TZNAME:CST
DTSTART:20251102T070000
END:STANDARD
END:VTIMEZONE
BEGIN:VEVENT
DTSTART;TZID=America/Chicago:20240124T180000
DTEND;TZID=America/Chicago:20240124T190000
DTSTAMP:20260423T045015
CREATED:20250131T044656Z
LAST-MODIFIED:20250131T044656Z
UID:10001184-1706119200-1706122800@events.excelsiorcitizen.com
SUMMARY:Pop-Up Yoga with Holistic Springs Herb Co.
DESCRIPTION:Join us for FREE yoga with Holistic Springs Herb Co! Kristi will be instructing class at 6:00PM! Shopping to follow. All Class Participants will receive a 10% discount to use at Holistic Springs Herb Co. during the event!
URL:https://events.excelsiorcitizen.com/event/pop-up-yoga-with-holistic-springs-herb-co/
LOCATION:MO
END:VEVENT
BEGIN:VEVENT
DTSTART;TZID=America/Chicago:20240125T170000
DTEND;TZID=America/Chicago:20240125T190000
DTSTAMP:20260423T045015
CREATED:20250131T044643Z
LAST-MODIFIED:20250131T044643Z
UID:10001170-1706202000-1706209200@events.excelsiorcitizen.com
SUMMARY:Ooey Gooey Night for PAT
DESCRIPTION:This event is open to all Parents and Teachers families. Put on your play clothes and let’s get messy! Join Parents as Teachers for a FUN family night of the ECC’s favorite sensory play on Thursday\, January 25th from 5:00pm-7:00pm.
URL:https://events.excelsiorcitizen.com/event/ooey-gooey-night-for-pat/
LOCATION:MO
END:VEVENT
BEGIN:VEVENT
DTSTART;TZID=America/Chicago:20240125T183000
DTEND;TZID=America/Chicago:20240125T193000
DTSTAMP:20260423T045015
CREATED:20250131T044501Z
LAST-MODIFIED:20250131T044501Z
UID:10001126-1706207400-1706211000@events.excelsiorcitizen.com
SUMMARY:Celebrity BINGO!
DESCRIPTION:Come play BINGO with Aces Sanctuary and Cat Rescue as they raise money for their sweet kitty cats!
URL:https://events.excelsiorcitizen.com/event/celebrity-bingo/
LOCATION:MO
END:VEVENT
BEGIN:VEVENT
DTSTART;TZID=America/Chicago:20240125T183000
DTEND;TZID=America/Chicago:20240125T193000
DTSTAMP:20260423T045015
CREATED:20250131T044447Z
LAST-MODIFIED:20250131T044447Z
UID:10001120-1706207400-1706211000@events.excelsiorcitizen.com
SUMMARY:Excelsior Springs Area Beekeeping Club Launch Meeting
DESCRIPTION:Join us for our first meeting! We will meet at the Mid-Continent Library in Excelsior Springs\, in the community room from 6:30-7:30pm. We will discuss goals and purpose for this local club and plan future events. We may also have time to answer some beekeeping questions.Event by Hitch Hive Honey
URL:https://events.excelsiorcitizen.com/event/excelsior-springs-area-beekeeping-club-launch-meeting/
LOCATION:MO
END:VEVENT
BEGIN:VEVENT
DTSTART;TZID=America/Chicago:20240127T090000
DTEND;TZID=America/Chicago:20240127T094500
DTSTAMP:20260423T045015
CREATED:20250131T044716Z
LAST-MODIFIED:20250131T044716Z
UID:10001195-1706346000-1706348700@events.excelsiorcitizen.com
SUMMARY:Full Body EMOM w/ Jessica
DESCRIPTION:Join us for a great EMOM workout where we focus on building our strength and endurance with a series of exercises with a specific rep range that we complete within 1 minute and move on to the next!FREE to all LIFT Members and $5 for guests!
URL:https://events.excelsiorcitizen.com/event/full-body-emom-w-jessica-2/
LOCATION:MO
END:VEVENT
BEGIN:VEVENT
DTSTART;TZID=America/Chicago:20240127T100000
DTEND;TZID=America/Chicago:20240127T120000
DTSTAMP:20260423T045015
CREATED:20250131T044526Z
LAST-MODIFIED:20250131T044526Z
UID:10001135-1706349600-1706356800@events.excelsiorcitizen.com
SUMMARY:Level 1 Crochet Class
DESCRIPTION:Level 1 crochet is an introduction to the craft. We will create a fingerless glove using size L/M crochet hook\, and number 5 weight yarn. Class price is $25\, supplies are not included. Call or text to register before noon on the Friday before class\, 845-807-3243Click here for tickets 
URL:https://events.excelsiorcitizen.com/event/level-1-crochet-class/
LOCATION:MO
END:VEVENT
BEGIN:VEVENT
DTSTART;TZID=America/Chicago:20240127T110000
DTEND;TZID=America/Chicago:20240127T133000
DTSTAMP:20260423T045015
CREATED:20250131T044649Z
LAST-MODIFIED:20250131T044649Z
UID:10001175-1706353200-1706362200@events.excelsiorcitizen.com
SUMMARY:Magical Mystery Mimosa Tour
DESCRIPTION:Hop aboard for a fun\, fast-paced\, surprising Mimosa Tour.Make a little bit of time for yourself this holiday season. This fast-paced early afternoon tour is also a great gift to give this season. Grab your friends and start the day with Mimosas and a whole lotta fun.\nThis tour was put in place so that you can relax\, enjoy yourself\, and still have your afternoon for holiday shopping. Once done\, check out all that Excelsior Springs has to offer. Excelsior is packed full of unique boutiques that are sure to have the perfect gift for everyone on your shopping list.\nMimosa venue stops are a mystery. You have to come along for the ride to find out where we go. You will stop at four local venues. At three of those venues\, you will be served a mimosa and a pairing bite. At the last venue\, you will be served a dessert bite and be given a gift to enjoy.\nFees/Admission:\nTickets are $50 per person all-inclusive.\nDate and Time Information:\nSaturday\, January 27\, 2024\n11 a.m. – 1:30 p.m.\nMeet at Willow Spring Mercantile\, 249 E. Broadway\, for check in at 10:50 a.m.\nOkay … you get to know one venue. Ha!\n*Please understand that the tour cannot wait on you to start if you arrive late. We greatly appreciate your promptness and consideration of our other guests. If you get lost\, will be late\, or cannot make it for some reason\, please call Willow Spring Mercantile at 816-630-7467 to let us know\, and we will do our best to accommodate you.\nThe Chamber reserves the right to cancel if there are less than 15 reservations\, in which case\, you can be moved to another tour date or your ticket purchase will be refunded. If you have to cancel outside the 7 day cancelation policy a refund of $45 will be given. We will keep $5 for credit card fees. We also have a 7 day cancelation policy which states that no refunds are given within 7 days of the tour. If you must cancel within the 7 days\, you will receive a credit to use at a later date (within 1 year) on any other tour available.
URL:https://events.excelsiorcitizen.com/event/magical-mystery-mimosa-tour/
LOCATION:MO
END:VEVENT
BEGIN:VEVENT
DTSTART;TZID=America/Chicago:20240128T130000
DTEND;TZID=America/Chicago:20240128T143000
DTSTAMP:20260423T045015
CREATED:20250131T044502Z
LAST-MODIFIED:20250131T044502Z
UID:10001129-1706446800-1706452200@events.excelsiorcitizen.com
SUMMARY:Barbara O’Neill Watch Party/Group Discussion
DESCRIPTION:Join us as we dive into children’s wellness with a watch party/group discussion featuring a Barbara O’Neill video\, Guide to Children Nutrition! We will be watching the video and stopping a few times throughout to discuss as a group. There will be refreshments offered as well!DATE: JANUARY 28 2024\nTIME: 1-2:30 PM\nINVESTMENT: $15\n*LIMITED TO 10 SPOTS*\nThese spots won’t last long\, grab your ticket today at our website event page!\nhttps://www.holisticspringsherbco.com/events\nALL CLASS ATTENDENTS WILL RECIEVE 10% OFF IN STORE TO USE AFTER THE CLASS IS OVER!
URL:https://events.excelsiorcitizen.com/event/barbara-oneill-watch-party-group-discussion-2/
LOCATION:MO
END:VEVENT
BEGIN:VEVENT
DTSTART;TZID=America/Chicago:20240129T080000
DTEND;TZID=America/Chicago:20240202T210000
DTSTAMP:20260423T045015
CREATED:20250131T044655Z
LAST-MODIFIED:20250131T044655Z
UID:10001181-1706515200-1706907600@events.excelsiorcitizen.com
SUMMARY:Glow Fit Week
DESCRIPTION:Get ready to experience fitness like never before at GlowFit Week!Join us for a week-long celebration of health\, energy\, and luminosity as we illuminate your fitness journey. Ignite Your Fitness Radiance with a dynamic lineup of high-energy\, glow-themed group fitness classes that will leave you feeling invigorated and shining from within.\nWhat to Expect:\n-Neon Workouts: Immerse yourself in a kaleidoscope of color as you engage in neon-infused Zumba\, glow yoga\, and other exhilarating fitness classes. Our expert instructors will lead you through heart-pumping routines that combine the thrill of movement with the excitement of glowin-the-dark ambiance.\n-Glowing Community: Connect with like-minded fitness enthusiasts and create a vibrant community that celebrates health and wellness.\n-Epic Playlists: Move to the beat of electrifying music curated to keep your energy levels soaring. From pulsating cardio sessions to calming cooldowns\, our playlists are designed to enhance your workout experience and keep you motivated throughout the week.\n-Glow Prizes\nAll aqua classes will remain regular. Gymnasium classes on Wednesday and Thursday will remain regular. See class schedule here: https://www.es-prcc.com/schedules
URL:https://events.excelsiorcitizen.com/event/glow-fit-week/
LOCATION:MO
END:VEVENT
BEGIN:VEVENT
DTSTART;TZID=America/Chicago:20240129T120000
DTEND;TZID=America/Chicago:20240129T130000
DTSTAMP:20260423T045015
CREATED:20250131T044716Z
LAST-MODIFIED:20250131T044716Z
UID:10001196-1706529600-1706533200@events.excelsiorcitizen.com
SUMMARY:Tai Chi 8 Week Session
DESCRIPTION:Join us for FREE Tai Chi Classes at the Excelsior Springs Community Center. This is a 8 week session that begins January 29th and ends March 18th. No class on February 19th.\nInstructed by Melissa Cotton with MU Extension.\nThis is for all ages and no registration is required!
URL:https://events.excelsiorcitizen.com/event/tai-chi-8-week-session/
LOCATION:MO
END:VEVENT
BEGIN:VEVENT
DTSTART;TZID=America/Chicago:20240129T183000
DTEND;TZID=America/Chicago:20240129T193000
DTSTAMP:20260423T045015
CREATED:20250131T044500Z
LAST-MODIFIED:20250131T044500Z
UID:10001125-1706553000-1706556600@events.excelsiorcitizen.com
SUMMARY:Class of 2028 High School Enrollment Night
DESCRIPTION:Please join us for the Class of 2028 High School Enrollment Night on Monday\, January 29th at 6:30 PM in the PAC! Your student will have the opportunity to tour the building and hear from the administration\, counselors\, activities\, and more. We will discuss information regarding graduation requirements and course selections for the 2024-2025 school year. We hope to see you there\, but will also share all information with families unable to attend following the presentation.
URL:https://events.excelsiorcitizen.com/event/class-of-2028-high-school-enrollment-night/
LOCATION:MO
END:VEVENT
BEGIN:VEVENT
DTSTART;TZID=America/Chicago:20240130T150000
DTEND;TZID=America/Chicago:20240130T170000
DTSTAMP:20260423T045015
CREATED:20250131T044612Z
LAST-MODIFIED:20250131T044612Z
UID:10001159-1706626800-1706634000@events.excelsiorcitizen.com
SUMMARY:Girls Circle
DESCRIPTION:The Girls Circle model is a four-week structured support group for girls ages 11-17 years. The program integrates relational theory\, resiliency practices\, and skills training in a specific format designed to increase positive connection\, personal and collective strengths\, and competenceMeets January 10th\, 23rd\, and 30th from 3:00-5:00pm at the Excelsior Springs Community Center
URL:https://events.excelsiorcitizen.com/event/girls-circle/
LOCATION:MO
END:VEVENT
BEGIN:VEVENT
DTSTART;TZID=America/Chicago:20240202T173000
DTEND;TZID=America/Chicago:20240202T183000
DTSTAMP:20260423T045015
CREATED:20250131T044803Z
LAST-MODIFIED:20250131T044803Z
UID:10001239-1706895000-1706898600@events.excelsiorcitizen.com
SUMMARY:Kids in the Kitchen
DESCRIPTION:Join us for Kids in the Kitchen! Your child will learn how to make a meal from start to finish while learning kitchen safety and food handling techniques. We will be making Pancakes\, Bacon and Fruit!Ages: 6-12 Years\nCost: $20/child\nRegistration: January 8th-January 30th\nDate: February 2nd @ 5:30-7:30PM\nExcelsior Springs community Center Community Rooms\nRegister starting January 8th at the Welcome Desk or online: https://es-prcc.activityreg.com/
URL:https://events.excelsiorcitizen.com/event/kids-in-the-kitchen-4/
LOCATION:MO
END:VEVENT
BEGIN:VEVENT
DTSTART;TZID=America/Chicago:20240203T100000
DTEND;TZID=America/Chicago:20240203T230000
DTSTAMP:20260423T045015
CREATED:20250131T044802Z
LAST-MODIFIED:20250131T044802Z
UID:10001238-1706954400-1707001200@events.excelsiorcitizen.com
SUMMARY:Family Workout Class
DESCRIPTION:Families are invited to participate in a festive workout!This class is taught by Darrien & Yolanda\, Certified Personal Trainers & Fitness Instructors.\nThis is FREE for all and perfect for all ages and abilities!\nFebruary 3rd @ 10:00AM at the Excelsior Springs Community Center Gymnasium.
URL:https://events.excelsiorcitizen.com/event/family-workout-class-4/
LOCATION:MO
END:VEVENT
BEGIN:VEVENT
DTSTART;TZID=America/Chicago:20240203T100000
DTEND;TZID=America/Chicago:20240203T230000
DTSTAMP:20260423T045015
CREATED:20250131T044414Z
LAST-MODIFIED:20250131T044414Z
UID:10001100-1706954400-1707001200@events.excelsiorcitizen.com
SUMMARY:Mikey England Seminar
DESCRIPTION:Join us on February 3rd from 10 am to noon for a seminar with Mikey England\, a former D1 wrestler from top colleges Mizzou and Iowa State and a 9-1 professional mixed martial artist on the cusp of a UFC call.\nMikey will share his vast wrestling expertise adapted for Jiu Jitsu athletes. This is your opportunity to elevate your skills and learn from a seasoned competitor at the top of his game. \nFREE for Stride members\, $30 for non-members. This will replace that days open mats.
URL:https://events.excelsiorcitizen.com/event/mikey-england-seminar/
LOCATION:MO
END:VEVENT
BEGIN:VEVENT
DTSTART;TZID=America/Chicago:20240203T110000
DTEND;TZID=America/Chicago:20240203T170000
DTSTAMP:20260423T045015
CREATED:20250131T044752Z
LAST-MODIFIED:20250131T044752Z
UID:10001229-1706958000-1706979600@events.excelsiorcitizen.com
SUMMARY:18th Annual Chocolate Tour
DESCRIPTION:SATURDAY\, FEBRUARY 3\, 202411 AM – 5 PM \nChocolate\, Caramels and Wine\, Oh My! \nTICKETS ON SALE FRIDAY\, DECEMBER 8TH\, 2023 AT NOON \nNothing says February quite like chocolate! Join us in Downtown Excelsior Springs for the 18th Annual Chocolate Tour! \nFor just $25 you can sample scrumptious sweet treats at over 25 participating locations and have all-day access to the trolley courtesy of the Downtown Excelsior Partnership\, Inc. Or you can elevate your experience and become a VIP ticket holder for $50 and enjoy a three-course wine flight and chocolate pairing hosted by Ventana Gourmet Grill! (Limited to 50 VIP tickets) \nYou can expect to enjoy tastes of Chocolate\, Caramel\, Glorious Fudge\, Gourmet Hot Chocolate\, Butterscotch\, Coconut\, Chocolate Butter\, Dipped Chocolate\, White Chocolate\, Cherry\, Chocolate Amaretto\, Smores and more! \nThere are only 400 tickets available for the event and it always sells out! Get your tickets early. 
URL:https://events.excelsiorcitizen.com/event/18th-annual-chocolate-tour/
LOCATION:MO
END:VEVENT
BEGIN:VEVENT
DTSTART;TZID=America/Chicago:20240203T140000
DTEND;TZID=America/Chicago:20240203T160000
DTSTAMP:20260423T045015
CREATED:20250131T044346Z
LAST-MODIFIED:20250131T044346Z
UID:10001094-1706968800-1706976000@events.excelsiorcitizen.com
SUMMARY:Live Music with Bob Morrison
DESCRIPTION:Bring friends\, enjoy wine and listen to Bob Morrison sing and perform on guitar.
URL:https://events.excelsiorcitizen.com/event/live-music-with-bob-morrison-4/
LOCATION:MO
END:VEVENT
BEGIN:VEVENT
DTSTART;TZID=America/Chicago:20240204T110000
DTEND;TZID=America/Chicago:20240204T123000
DTSTAMP:20260423T045015
CREATED:20250131T044423Z
LAST-MODIFIED:20250131T044423Z
UID:10001105-1707044400-1707049800@events.excelsiorcitizen.com
SUMMARY:Gut Health Workshop
DESCRIPTION:Join us for another Gut Health Workshop\, back by popular demand!In this workshop\, we’ll focus on:\n– Herbs Useful For Gastrointestinal Conditions & Disorders\n– Lifestyle Choices That Can Help To Heal Our Guts & Promote A Balanced Gut\n– How Our Brain\, Immune System\, and Gut Interact With Each Other & Why These Connections Are So Important\nDetails:\nFEBRUARY 4 2024\n11 AM & 2:30 PM TIME SLOTS AVAILABLE\n$30 / TICKET\n*LIMITED TICKETS AVAILABLE PER CLASS*\nThis workshop is EXTREMELY popular and these spots will go FAST!\nRESERVE YOUR SEAT NOW:\nwww.holisticspringsherbco.com/events
URL:https://events.excelsiorcitizen.com/event/gut-health-workshop-2/
LOCATION:MO
END:VEVENT
BEGIN:VEVENT
DTSTART;TZID=America/Chicago:20240204T110000
DTEND;TZID=America/Chicago:20240204T130000
DTSTAMP:20260423T045015
CREATED:20250131T044402Z
LAST-MODIFIED:20250131T044402Z
UID:10001098-1707044400-1707051600@events.excelsiorcitizen.com
SUMMARY:Mac’s Fantastic Auction
DESCRIPTION:Mac’s Auction ServiceSunday\, February 4\n11:00 a.m.\nMac’s Auction Barn\nY Hwy\, Excelsior Springs\nWe will be selling a private estate including firearms\, hunting items\, collectibles and household items\nHUNTING • FIREARMS • MISC.\nCOLLECTIBLES & HOUSEHOLD: Uniden C.B. Radio\, double Hanes\, 25 pcs. Combo socket set\, pictures\, mirror\, lamps\, large glass pig\, incense burners\, Ethan Allen wall clock\, antique oak shelf clock\, postcards\, old globe\, silverware\, kitchen items\, Yourlove box\, Barbie dolls\, other dolls\, toys\, cheese slicer\, Top-O-Matic cigarette roller\, Indian arrowheads\, banjo\, (2) nice clarinets\, coin proof sets.\nHUNTING ITEMS: Deer stands\, compound bowls\, arrows\, binoculars\, fish cleaning kit\, Exacto set\, Gerber and Winchester knives and hunting items\, (3) sets of Cabella mud boots\, gun cases\, holsters\, backpacks\, chairs\, scales\, taxidermist raccoon\, antlers. Tackle box\, Simmons laser range finder.\nFIREARMS: Keltec SU16 5.56mm tactical lock AR\, Remington 30-06 Mod 74 Sportsman with Bushnell scope\, black powder buck stacker 50mm with scope\, Traditions Firearm Co\, Cricket 22LR with scope\, Remington mod 742 30.06\, Mossbert Mod 835 12 ga\, Stevens mod 620 12 ga\, New England Parker Hale MI\, Remington Mod 1100 12ga.\, Remington Mod 552 Cal\, Winchester Mod 1912 12ga\, Winchester Mod 74 225\, (2) Marlin Model 88 22\, Winchester Mod 12ga.\, Heritage Rough Rider single-action small-bore revolver with 22 mag cylinder included (new in box)\, Cold 25 cal. Semi-auto pistol (no clip)\nAMMO: 1000 rounds of 5:56\, 9 mm boxes\, 30:06 ammo\, 300 win mag 30:30 win.38 special\, and more.\nOur listings are never complete! Still going through items. Please visit our website for photos: www.macsauction.com.
URL:https://events.excelsiorcitizen.com/event/macs-fantastic-auction/
LOCATION:MO
END:VEVENT
BEGIN:VEVENT
DTSTART;TZID=America/Chicago:20240205T173000
DTEND;TZID=America/Chicago:20240205T183000
DTSTAMP:20260423T045015
CREATED:20250131T044645Z
LAST-MODIFIED:20250131T044645Z
UID:10001174-1707154200-1707157800@events.excelsiorcitizen.com
SUMMARY:Transitions & Community Justice Board Training
DESCRIPTION:Clay County Transitions Family Visitation Program and the Office of Dispute Resolution are partnering to provide a training for two great programs! This is a great opportunity for those wanting to get more involved within the community! These two programs help Clay County families and youth. Please join us on Monday\, February 5th from 5:30pm- 6:30pm at the Clay County Juvenile Office to learn about two fantastic programs. Please feel free to share! \nAlso\, check out our website\, claycountyodrs.com! \nWhat is Transitions?\nThe Transitions program is a service that provides a trained monitor in a secure location to facilitate court-ordered or court referred supervised visitation between parents and their children. Our primary focus is the emotional and physical safety of children involved in family visitation and custody issues. Transitions provides a neutral and safe environment for the parent and child can build a healthy relationship. \nWhat is Community Justice Board?\nCommunity Justice Boards use a “balanced and restorative approach” in which offenders\, victims\, and the community are involved in a non-adversarial process that seeks accountability and determines how to make things right. The community is both a client to be “repaired” and a resource to help with the reparation. Service on a Community Justice Board is one way to encourage offenders to be accountable for their offense and to avoid further offenses\, thereby making the community a safer and better place to live. \nIf interested\, please RSVP to Teri Hargrave at Teri.Hargrave@courts.mo.gov \nOr register online at: https://forms.gle/GCWKjfcB9cpYY7gLA \nIf you have any questions regarding Transitions\, please contact Jennifer Payne at jennifer.payne@courts.mo.gov. If you have any questions regarding community justice boards\, please contact Teri Hargrave at Teri.Hargrave@courts.mo.gov.
URL:https://events.excelsiorcitizen.com/event/transitions-community-justice-board-training/
LOCATION:MO
END:VEVENT
BEGIN:VEVENT
DTSTART;TZID=America/Chicago:20240206T080000
DTEND;TZID=America/Chicago:20240206T093000
DTSTAMP:20260423T045015
CREATED:20250131T044157Z
LAST-MODIFIED:20250131T044157Z
UID:10001056-1707206400-1707211800@events.excelsiorcitizen.com
SUMMARY:Multi-Chamber Coffee
DESCRIPTION:Join us this Tuesday\, February 6th\, from 8:00am-9:30am at the Gladstone Community Center\, 6901 N Holmes St\, Gladstone\, MO 64118. RSVP required.Enjoy county-wide networking\, coffee\, snacks and door prizes before you start your day. The event is free\, but space is limited. Registration is required. If you can attend\, please register here.
URL:https://events.excelsiorcitizen.com/event/multi-chamber-coffee-2/
LOCATION:MO
END:VEVENT
BEGIN:VEVENT
DTSTART;TZID=America/Chicago:20240206T100000
DTEND;TZID=America/Chicago:20240206T160000
DTSTAMP:20260423T045015
CREATED:20250131T044234Z
LAST-MODIFIED:20250131T044234Z
UID:10001067-1707213600-1707235200@events.excelsiorcitizen.com
SUMMARY:Homemade Custom Chiefs Spirit Wear & Treats!!
DESCRIPTION:Largest selection of homemade gooey caramel popcorn\, chiefs cookies\, football cakes\, freeze dried candy etc…
URL:https://events.excelsiorcitizen.com/event/homemade-custom-chiefs-spirit-wear-treats/
LOCATION:MO
END:VEVENT
BEGIN:VEVENT
DTSTART;TZID=America/Chicago:20240206T113000
DTEND;TZID=America/Chicago:20240206T120000
DTSTAMP:20260423T045015
CREATED:20250131T044433Z
LAST-MODIFIED:20250131T044433Z
UID:10001112-1707219000-1707220800@events.excelsiorcitizen.com
SUMMARY:Prevention: Everyone Has a Role
DESCRIPTION:Julia Mees from SAFE will be sharing how community coalitions do prevention work\, and how every person has a role to play int he health of youth in our community.
URL:https://events.excelsiorcitizen.com/event/prevention-everyone-has-a-role/
LOCATION:MO
END:VEVENT
BEGIN:VEVENT
DTSTART;TZID=America/Chicago:20240206T173000
DTEND;TZID=America/Chicago:20240206T183000
DTSTAMP:20260423T045015
CREATED:20250131T044402Z
LAST-MODIFIED:20250131T044402Z
UID:10001099-1707240600-1707244200@events.excelsiorcitizen.com
SUMMARY:Silver Prom Planning
DESCRIPTION:We’ve got lots of great volunteers on deck already! Planning continues as we nail down details for the big day!
URL:https://events.excelsiorcitizen.com/event/silver-prom-planning-3/
LOCATION:MO
END:VEVENT
BEGIN:VEVENT
DTSTART;TZID=America/Chicago:20240207T090000
DTEND;TZID=America/Chicago:20240207T150000
DTSTAMP:20260423T045015
CREATED:20250131T044636Z
LAST-MODIFIED:20250131T044636Z
UID:10001167-1707296400-1707318000@events.excelsiorcitizen.com
SUMMARY:His & Hers Designs at ESH
DESCRIPTION:Join His & Hers Designs for a Valentine’s Day Sale on Wednesday\, February 7th from 9:00am-3:00pm. His & Hers Designs offers a variety of handmade ready to go items perfect for your next gift and specializes in personalized items. If you can dream it\, they can do it!
URL:https://events.excelsiorcitizen.com/event/his-hers-designs-at-esh/
LOCATION:MO
END:VEVENT
BEGIN:VEVENT
DTSTART;TZID=America/Chicago:20240208T093000
DTEND;TZID=America/Chicago:20240208T103000
DTSTAMP:20260423T045015
CREATED:20250131T044206Z
LAST-MODIFIED:20250131T044206Z
UID:10001063-1707384600-1707388200@events.excelsiorcitizen.com
SUMMARY:DEP Economic Vitality Team Meeting
DESCRIPTION:Join the DEP Economic Vitality Team for a meeting on Thursday\, February 8th at 9:30am via Zoom
URL:https://events.excelsiorcitizen.com/event/dep-economic-vitality-team-meeting/
LOCATION:MO
END:VEVENT
BEGIN:VEVENT
DTSTART;TZID=America/Chicago:20240208T093000
DTEND;TZID=America/Chicago:20240208T103000
DTSTAMP:20260423T045015
CREATED:20250131T044205Z
LAST-MODIFIED:20250131T044205Z
UID:10001062-1707384600-1707388200@events.excelsiorcitizen.com
SUMMARY:DEP Website Team Meeting
DESCRIPTION:The DEP Website Team meeting will meet via Zoom.
URL:https://events.excelsiorcitizen.com/event/dep-website-team-meeting/
LOCATION:MO
END:VEVENT
BEGIN:VEVENT
DTSTART;TZID=America/Chicago:20240208T170000
DTEND;TZID=America/Chicago:20240208T180000
DTSTAMP:20260423T045015
CREATED:20250131T044205Z
LAST-MODIFIED:20250131T044205Z
UID:10001061-1707411600-1707415200@events.excelsiorcitizen.com
SUMMARY:DEP Home Brew Team Meeting
DESCRIPTION:DEP Home Brew Committee will have a Team Meeting on Thursday\, February 8th at 5pm at Atlas Saloon Brewery
URL:https://events.excelsiorcitizen.com/event/dep-home-brew-team-meeting/
LOCATION:MO
END:VEVENT
BEGIN:VEVENT
DTSTART;TZID=America/Chicago:20240208T180000
DTEND;TZID=America/Chicago:20240208T190000
DTSTAMP:20260423T045015
CREATED:20250131T044204Z
LAST-MODIFIED:20250131T044204Z
UID:10001060-1707415200-1707418800@events.excelsiorcitizen.com
SUMMARY:BBQ & Fly-In Team Meeting
DESCRIPTION:The BBQ and Fly-In team will have a meeting on Thursday\, February 8th at 6:00pm at Atlas Saloon Brewery
URL:https://events.excelsiorcitizen.com/event/bbq-fly-in-team-meeting/
LOCATION:MO
END:VEVENT
BEGIN:VEVENT
DTSTART;TZID=America/Chicago:20240209T083000
DTEND;TZID=America/Chicago:20240209T093000
DTSTAMP:20260423T045015
CREATED:20250131T044256Z
LAST-MODIFIED:20250131T044256Z
UID:10001072-1707467400-1707471000@events.excelsiorcitizen.com
SUMMARY:SOUL FUSION W/ ANGEL
DESCRIPTION:SOULFusion: Is a creative blend of yoga-inspired flows\, short cardio bursts\, balance sequences\, and strength training exercises all set to fun musicFree for LIFT members $5 per guest
URL:https://events.excelsiorcitizen.com/event/soul-fusion-w-angel/
LOCATION:MO
END:VEVENT
END:VCALENDAR