BEGIN:VCALENDAR
VERSION:2.0
PRODID:-// - ECPv6.15.20//NONSGML v1.0//EN
CALSCALE:GREGORIAN
METHOD:PUBLISH
X-ORIGINAL-URL:https://events.excelsiorcitizen.com
X-WR-CALDESC:Events for 
REFRESH-INTERVAL;VALUE=DURATION:PT1H
X-Robots-Tag:noindex
X-PUBLISHED-TTL:PT1H
BEGIN:VTIMEZONE
TZID:America/Chicago
BEGIN:DAYLIGHT
TZOFFSETFROM:-0600
TZOFFSETTO:-0500
TZNAME:CDT
DTSTART:20220313T080000
END:DAYLIGHT
BEGIN:STANDARD
TZOFFSETFROM:-0500
TZOFFSETTO:-0600
TZNAME:CST
DTSTART:20221106T070000
END:STANDARD
BEGIN:DAYLIGHT
TZOFFSETFROM:-0600
TZOFFSETTO:-0500
TZNAME:CDT
DTSTART:20230312T080000
END:DAYLIGHT
BEGIN:STANDARD
TZOFFSETFROM:-0500
TZOFFSETTO:-0600
TZNAME:CST
DTSTART:20231105T070000
END:STANDARD
BEGIN:DAYLIGHT
TZOFFSETFROM:-0600
TZOFFSETTO:-0500
TZNAME:CDT
DTSTART:20240310T080000
END:DAYLIGHT
BEGIN:STANDARD
TZOFFSETFROM:-0500
TZOFFSETTO:-0600
TZNAME:CST
DTSTART:20241103T070000
END:STANDARD
BEGIN:DAYLIGHT
TZOFFSETFROM:-0600
TZOFFSETTO:-0500
TZNAME:CDT
DTSTART:20250309T080000
END:DAYLIGHT
BEGIN:STANDARD
TZOFFSETFROM:-0500
TZOFFSETTO:-0600
TZNAME:CST
DTSTART:20251102T070000
END:STANDARD
END:VTIMEZONE
BEGIN:VEVENT
DTSTART;TZID=America/Chicago:20231225T100000
DTEND;TZID=America/Chicago:20231225T140000
DTSTAMP:20260422T043145
CREATED:20250131T044755Z
LAST-MODIFIED:20250131T044755Z
UID:10001232-1703498400-1703512800@events.excelsiorcitizen.com
SUMMARY:Christmas Brunch at Three Owls Restaurant – The Elms Hotel & Spa
DESCRIPTION:Three Owls Restaurant\, located inside the award-winning The Elms Hotel & Spa\, is offering a special brunch menu available to hotel guests and locals from 10 a.m. – 2 p.m. on Christmas.Highlights of the Christmas brunch menu include fluffy scrambled eggs with chives\, ham and cheese breakfast soufflé\, mesclun salad with fresh berries\, pickled shallots\, and goat cheese\, pan-seared salmon with lemon-butter sauce and tomato-caper relish\, baked brie with roasted pistachios and balsamic glaze\, and more. Pricing is $55 for adults\, $42 for seniors\, $28 for kids 4-12\, and children three and under can enjoy the food at no charge.\nTables at Three Owls can be reserved by calling (816) 629-2533. Those looking to stay at The Elms Hotel & Spa can book their stay by visiting the website\, https://www.elmshotelandspa.com/.
URL:https://events.excelsiorcitizen.com/event/christmas-brunch-at-three-owls-restaurant-the-elms-hotel-spa/
LOCATION:MO
END:VEVENT
BEGIN:VEVENT
DTSTART;TZID=America/Chicago:20231228T113000
DTEND;TZID=America/Chicago:20231228T120000
DTSTAMP:20260422T043145
CREATED:20250131T044821Z
LAST-MODIFIED:20250131T044821Z
UID:10001253-1703763000-1703764800@events.excelsiorcitizen.com
SUMMARY:New Year’s Healthy Habits for the Older Adult with Senior Life Solutions
DESCRIPTION:Join the Excelsior Springs Hospital for a time of learning practical and doable tips to get us off to a great start in 2024.Registration is required for Senior Citizens and/or Non-Senior lunches by visiting http://es-prcc.com/senior-center
URL:https://events.excelsiorcitizen.com/event/new-years-healthy-habits-for-the-older-adult-with-senior-life-solutions/
LOCATION:MO
END:VEVENT
BEGIN:VEVENT
DTSTART;TZID=America/Chicago:20231229T130000
DTEND;TZID=America/Chicago:20231229T150000
DTSTAMP:20260422T043145
CREATED:20250131T044751Z
LAST-MODIFIED:20250131T044751Z
UID:10001225-1703854800-1703862000@events.excelsiorcitizen.com
SUMMARY:Winter Basketball Camp
DESCRIPTION:Join us for a winter break basketball camp in partnership with the ESHS Men’s Basketball Team!Ages 5-12 years\n$10/participant\nDecember 29th @ ESHS Gymnasium\nAges 5-8: 1:00-2:00PM\nAges 9-12: 2:00-3:00PM\nRegister now through December 27th at the ESCC or online.
URL:https://events.excelsiorcitizen.com/event/winter-basketball-camp/
LOCATION:MO
END:VEVENT
BEGIN:VEVENT
DTSTART;TZID=America/Chicago:20231229T190000
DTEND;TZID=America/Chicago:20231229T220000
DTSTAMP:20260422T043145
CREATED:20250131T044825Z
LAST-MODIFIED:20250131T044825Z
UID:10001259-1703876400-1703887200@events.excelsiorcitizen.com
SUMMARY:Annual Christmas Dinner and Ugly Sweater Party!
DESCRIPTION:This year\, we will host a Potluck Style Christmas Dinner for our Annual Ugly Sweater Party!\nEveryone can bring a main dish\, side or dessert — please sign up at the studio or message us to let us know what you’re bringing. We’ll have an evening of good food\, good friends and dancing to celebrate the Holiday Season with our Dance Family. \nWe politely request that this is an Adult-Only Event and that only children over 16 years old are in attendance. Thank you for understanding!
URL:https://events.excelsiorcitizen.com/event/annual-christmas-dinner-and-ugly-sweater-party/
LOCATION:MO
END:VEVENT
BEGIN:VEVENT
DTSTART;TZID=America/Chicago:20231230T080000
DTEND;TZID=America/Chicago:20231230T103000
DTSTAMP:20260422T043145
CREATED:20250131T044752Z
LAST-MODIFIED:20250131T044752Z
UID:10001227-1703923200-1703932200@events.excelsiorcitizen.com
SUMMARY:Hats Off to 2023 Fitness Marathon
DESCRIPTION:Join us as we say goodbye to 2023\, fitness style! Wear your best hat and enjoy some or all of the pop up classes we are offering this day!All regular group classes will be cancelled and replaced with this event.\nThis is FREE to anyone to join!\nExcelsior Springs Community Center Gymnasium\n8:00-8:25: Strength & Sweat w/ Pam S\n8:30-8:55: Cardio Kickboxing w/ Bridgette\n9:00-9:25: Pound w/ Theresa\n9:30-9:55: Zumba w/ Pam V & Theresa\n10:00-10:30: Yoga w/ Jenn
URL:https://events.excelsiorcitizen.com/event/hats-off-to-2023-fitness-marathon/
LOCATION:MO
END:VEVENT
BEGIN:VEVENT
DTSTART;TZID=America/Chicago:20231231T200000
DTEND;TZID=America/Chicago:20231231T200000
DTSTAMP:20260422T043145
CREATED:20250131T044755Z
LAST-MODIFIED:20250131T044755Z
UID:10001231-1704052800-1704052800@events.excelsiorcitizen.com
SUMMARY:“Grand Ole Eagles” Ring in the New Year
DESCRIPTION:Join the Fraternal Order of Eagles “Grand Ole Eagles” Ring in the New Year from 8:00pm-12:00pm with a Champagne toast and music by Longshot
URL:https://events.excelsiorcitizen.com/event/grand-ole-eagles-ring-in-the-new-year/
LOCATION:MO
END:VEVENT
BEGIN:VEVENT
DTSTART;TZID=America/Chicago:20240101T170000
DTEND;TZID=America/Chicago:20240101T180000
DTSTAMP:20260422T043145
CREATED:20250131T044737Z
LAST-MODIFIED:20250131T044737Z
UID:10001211-1704128400-1704132000@events.excelsiorcitizen.com
SUMMARY:New Year Pop Up Classes
DESCRIPTION:Join us for Pop-Up Classes at the ESCC on New Year’s Day! These are FREE to members and non-members.5:00PM: Metcon w/ Pam S\n6:00PM: Piyo w/ Bridgette\n6:00PM: Pound w/ Theresa\n7:00PM: Stretch & Restore w/ Kristi
URL:https://events.excelsiorcitizen.com/event/new-year-pop-up-classes/
LOCATION:MO
END:VEVENT
BEGIN:VEVENT
DTSTART;TZID=America/Chicago:20240105T173000
DTEND;TZID=America/Chicago:20240105T183000
DTSTAMP:20260422T043145
CREATED:20250131T044802Z
LAST-MODIFIED:20250131T044802Z
UID:10001237-1704475800-1704479400@events.excelsiorcitizen.com
SUMMARY:Kids in the Kitchen
DESCRIPTION:Join us for Kids in the Kitchen! Your child will learn how to make a meal from start to finish while learning kitchen safety and food handling techniques. We will be making Homemade Mac and Cheese!Ages: 6-12 Years\nCost: $20/child\nRegistration: December 4th-Janaury 2nd\nDate: January 5th @ 5:30-7:30PM\nExcelsior Springs community Center Community Rooms\nRegister starting December 4th at the Welcome Desk or online: https://es-prcc.activityreg.com/
URL:https://events.excelsiorcitizen.com/event/kids-in-the-kitchen-3/
LOCATION:MO
END:VEVENT
BEGIN:VEVENT
DTSTART;TZID=America/Chicago:20240106T090000
DTEND;TZID=America/Chicago:20240106T100000
DTSTAMP:20260422T043145
CREATED:20250131T044651Z
LAST-MODIFIED:20250131T044651Z
UID:10001179-1704531600-1704535200@events.excelsiorcitizen.com
SUMMARY:SOUL FUSION w/ Angel
DESCRIPTION:SOULFusion: Is a creative blend of yoga-inspired flows\, short cardio bursts\, balance sequences\, and strength training exercises all set to fun musicFree for LIFT members $5 per guest
URL:https://events.excelsiorcitizen.com/event/soul-fusion-w-angel-4/
LOCATION:MO
END:VEVENT
BEGIN:VEVENT
DTSTART;TZID=America/Chicago:20240106T100000
DTEND;TZID=America/Chicago:20240106T230000
DTSTAMP:20260422T043145
CREATED:20250131T044804Z
LAST-MODIFIED:20250131T044804Z
UID:10001241-1704535200-1704582000@events.excelsiorcitizen.com
SUMMARY:Family Workout Class
DESCRIPTION:Families are invited to participate in a festive workout!This class is taught by Darrien & Yolanda\, Certified Personal Trainers & Fitness Instructors.\nThis is FREE for all and perfect for all ages and abilities!\nJanuary 6th @ 10:00AM at the Excelsior Springs Community Center Gymnasium.
URL:https://events.excelsiorcitizen.com/event/family-workout-class-5/
LOCATION:MO
END:VEVENT
BEGIN:VEVENT
DTSTART;TZID=America/Chicago:20240106T180000
DTEND;TZID=America/Chicago:20240106T210000
DTSTAMP:20260422T043145
CREATED:20250131T044738Z
LAST-MODIFIED:20250131T044738Z
UID:10001214-1704564000-1704574800@events.excelsiorcitizen.com
SUMMARY:Texas Hold ‘Em Poker Tournament
DESCRIPTION:Join the Sons of American Legion for a Texas Hold ‘Em Poker Tournament on Saturday\, January 6th at Excelsior Springs American Legion\, 208 Veterans Memorial Dr.Registration is $10 between 6:00pm-6:30pm\nGame starts at 7:00pm\n50% Pay Out other proceeds help support the SAL (Sons of American Legion)
URL:https://events.excelsiorcitizen.com/event/texas-hold-em-poker-tournament/
LOCATION:MO
END:VEVENT
BEGIN:VEVENT
DTSTART;TZID=America/Chicago:20240107T070000
DTEND;TZID=America/Chicago:20240107T110000
DTSTAMP:20260422T043145
CREATED:20250131T044723Z
LAST-MODIFIED:20250131T044723Z
UID:10001200-1704610800-1704625200@events.excelsiorcitizen.com
SUMMARY:Excelsior Springs Youth Open
DESCRIPTION:Excelsior Springs High School RegistrationEvent by Cameron Youth Wrestling Club
URL:https://events.excelsiorcitizen.com/event/excelsior-springs-youth-open/
LOCATION:MO
END:VEVENT
BEGIN:VEVENT
DTSTART;TZID=America/Chicago:20240108T080000
DTEND;TZID=America/Chicago:20240108T090000
DTSTAMP:20260422T043145
CREATED:20250131T044737Z
LAST-MODIFIED:20250131T044737Z
UID:10001212-1704700800-1704704400@events.excelsiorcitizen.com
SUMMARY:New Year Challenge
DESCRIPTION:Kick off your New Year with a Challenge! Join us for weekly challenges that can improve your body composition and performance. Earn points for prizes and have fun! All abilities and ages 16+ are encouraged to join! This is for anyone with fitness and wellness goals this year!-Registration December 18th through January 5th.\n-$25/person and includes a challenge T-Shirt!\n-8 week challenge begins January 8th and goes through March 4th.\n-Incudes age divisions for ages 16+.
URL:https://events.excelsiorcitizen.com/event/new-year-challenge/
LOCATION:MO
END:VEVENT
BEGIN:VEVENT
DTSTART;TZID=America/Chicago:20240108T113000
DTEND;TZID=America/Chicago:20240108T120000
DTSTAMP:20260422T043145
CREATED:20250131T044736Z
LAST-MODIFIED:20250131T044736Z
UID:10001210-1704713400-1704715200@events.excelsiorcitizen.com
SUMMARY:ES Hospital Clinic and Primary Care Providers
DESCRIPTION:Hear from the Excelsior Springs Hospital Clinic Practice Manager and get to know a little more about your local Primary Care Providers in this Health and Wellness session!Registration is required for senior citizens and/or non-senior lunches by visiting http://es-prcc.com/senior-center\nAll events are held at the ES Community Center unless otherwise noted.
URL:https://events.excelsiorcitizen.com/event/es-hospital-clinic-and-primary-care-providers/
LOCATION:MO
END:VEVENT
BEGIN:VEVENT
DTSTART;TZID=America/Chicago:20240108T113000
DTEND;TZID=America/Chicago:20240108T120000
DTSTAMP:20260422T043145
CREATED:20250131T044731Z
LAST-MODIFIED:20250131T044731Z
UID:10001209-1704713400-1704715200@events.excelsiorcitizen.com
SUMMARY:ES Housing CAPS
DESCRIPTION:Hear from our city planner\, Shantele Frie\, who just became a Certified Aging in Place Specialist (CAPS) and what that means for you.Registration is required for senior citizens and/or non-senior lunches by visiting http://es-prcc.com/senior-center\nAll events are held at the ES Community Center unless otherwise noted.
URL:https://events.excelsiorcitizen.com/event/es-housing-caps-2/
LOCATION:MO
END:VEVENT
BEGIN:VEVENT
DTSTART;TZID=America/Chicago:20240109T173000
DTEND;TZID=America/Chicago:20240109T183000
DTSTAMP:20260422T043145
CREATED:20250131T044730Z
LAST-MODIFIED:20250131T044730Z
UID:10001205-1704821400-1704825000@events.excelsiorcitizen.com
SUMMARY:Silver Prom Planning Meeting
DESCRIPTION:We are planning a prom for older adults in Excelsior Springs. The date is May 4\, 2024. Come plan with us and bring your great ideas!
URL:https://events.excelsiorcitizen.com/event/silver-prom-planning-meeting-2/
LOCATION:MO
END:VEVENT
BEGIN:VEVENT
DTSTART;TZID=America/Chicago:20240109T180000
DTEND;TZID=America/Chicago:20240109T200000
DTSTAMP:20260422T043145
CREATED:20250131T044635Z
LAST-MODIFIED:20250131T044635Z
UID:10001165-1704823200-1704830400@events.excelsiorcitizen.com
SUMMARY:Substance Use Education Class
DESCRIPTION:This class is for 13-17 year olds. The course will help teens identify triggers\, develop health skill-building\, establish healthy relationships\, impulse control\, and relapse prevention.Second Tuesday of the month\, 6:00-8:00pm on January 9th\, February 13th\, March 12th\, and April 9th\nRSVP to Teri Hargrave at teri.hargrave@courts.mo.gov or call 816-736-8402
URL:https://events.excelsiorcitizen.com/event/substance-use-education-class-6/
LOCATION:MO
END:VEVENT
BEGIN:VEVENT
DTSTART;TZID=America/Chicago:20240110T150000
DTEND;TZID=America/Chicago:20240110T170000
DTSTAMP:20260422T043145
CREATED:20250131T044617Z
LAST-MODIFIED:20250131T044617Z
UID:10001161-1704898800-1704906000@events.excelsiorcitizen.com
SUMMARY:Girls Circle
DESCRIPTION:The Girls Circle model is a four-week structured support group for girls ages 11-17 years. The program integrates relational theory\, resiliency practices\, and skills training in a specific format designed to increase positive connection\, personal and collective strengths\, and competenceMeets January 10th\, 23rd\, and 30th from 3:00-5:00pm at the Excelsior Springs Community Center
URL:https://events.excelsiorcitizen.com/event/girls-circle-3/
LOCATION:MO
END:VEVENT
BEGIN:VEVENT
DTSTART;TZID=America/Chicago:20240111T090000
DTEND;TZID=America/Chicago:20240111T113000
DTSTAMP:20260422T043145
CREATED:20250131T044617Z
LAST-MODIFIED:20250131T044617Z
UID:10001162-1704963600-1704972600@events.excelsiorcitizen.com
SUMMARY:We Can Prosper Resilience Training
DESCRIPTION:We Can Prosper Resilience Training – free through MU Extension. All are invited. Research-based personal stress management and resilience workshop. Continuing ed available for physicians\, LPC\, SW\, and Psych.Online training on January 11th from 9:00am-11:30am.\nClick here to register
URL:https://events.excelsiorcitizen.com/event/we-can-prosper-resilience-training/
LOCATION:MO
END:VEVENT
BEGIN:VEVENT
DTSTART;TZID=America/Chicago:20240112T110000
DTEND;TZID=America/Chicago:20240112T140000
DTSTAMP:20260422T043145
CREATED:20250131T044724Z
LAST-MODIFIED:20250131T044724Z
UID:10001203-1705057200-1705068000@events.excelsiorcitizen.com
SUMMARY:Food Truck Friday
DESCRIPTION:Join us for Food Truck Friday on January 12th from 11am-2pm for a Mexican culinary delight by Raquelita’s. Indulge in tacos\, nachos\, quesadillas\, and more\, all bursting with authentic flavors and fresh ingredients. Don’t miss this opportunity to savor the essence of Mexico on your plate. See you there!
URL:https://events.excelsiorcitizen.com/event/food-truck-friday-2/
LOCATION:MO
END:VEVENT
BEGIN:VEVENT
DTSTART;TZID=America/Chicago:20240112T180000
DTEND;TZID=America/Chicago:20240112T190000
DTSTAMP:20260422T043145
CREATED:20250131T044805Z
LAST-MODIFIED:20250131T044805Z
UID:10001243-1705082400-1705086000@events.excelsiorcitizen.com
SUMMARY:Youth Water Aerobics
DESCRIPTION:Enjoy this kids exclusive class one day only! Great for ages 5-15 years that can swim on their own comfortably. Child must pass the swim test or wear a life jacket if parent is not present. This class is taught by Trish\, Certified Personal Trainer & Fitness Instructor.\nThis is FREE for all! This slide will be open for free swim after class! \nJanuary 12th @ 6:00PM at the Excelsior Springs Community Center Pool.
URL:https://events.excelsiorcitizen.com/event/youth-water-aerobics-4/
LOCATION:MO
END:VEVENT
BEGIN:VEVENT
DTSTART;TZID=America/Chicago:20240112T180000
DTEND;TZID=America/Chicago:20240112T190000
DTSTAMP:20260422T043145
CREATED:20250131T044703Z
LAST-MODIFIED:20250131T044703Z
UID:10001185-1705082400-1705086000@events.excelsiorcitizen.com
SUMMARY:2024 Piccadilly Gala Tickets Sale Event
DESCRIPTION:The 2024 Piccadilly Gala tickets go on sale January 12th at 6pm at Pairings on Thompson Ave. Tickets are $60 each or $600 for a table of 10. Tickets usually sell out during this event.Royal Tables are available again this year with extra VIP perks including wine\, special dessert\, extra chances to win prizes\, and more. Royal Table VIP status is only available on table purchases and are $20 extra per person for a total of $800 per table.
URL:https://events.excelsiorcitizen.com/event/2024-piccadilly-gala-tickets-sale-event/
LOCATION:MO
END:VEVENT
BEGIN:VEVENT
DTSTART;TZID=America/Chicago:20240112T180000
DTEND;TZID=America/Chicago:20240112T190000
DTSTAMP:20260422T043145
CREATED:20250131T044637Z
LAST-MODIFIED:20250131T044637Z
UID:10001169-1705082400-1705086000@events.excelsiorcitizen.com
SUMMARY:Piccadilly Gala Ticket Sale
DESCRIPTION:Join the Excelsior Springs Parks Foundation for the annual Piccadilly Gala with the ticket sale at 6:00pm at Pairings by Van Till downtown on Thompson. Shop local for denim and bejeweled wardrobe items. Attend the Piccadilly event on April 6th at The Montgomery Event Center. Doors open at 5pm.
URL:https://events.excelsiorcitizen.com/event/piccadilly-gala-ticket-sale/
LOCATION:MO
END:VEVENT
BEGIN:VEVENT
DTSTART;TZID=America/Chicago:20240112T190000
DTEND;TZID=America/Chicago:20240112T220000
DTSTAMP:20260422T043145
CREATED:20250131T044644Z
LAST-MODIFIED:20250131T044644Z
UID:10001173-1705086000-1705096800@events.excelsiorcitizen.com
SUMMARY:Erin Wray – Gallery Event – Case Di Vite International Wine Cafe
DESCRIPTION:Erin Wray is a psychic medium who conducts readings and connects individuals with their loved ones. She encourages you to bring personal items to share the experience with friends and family.
URL:https://events.excelsiorcitizen.com/event/erin-wray-gallery-event-case-di-vite-international-wine-cafe/
LOCATION:MO
END:VEVENT
BEGIN:VEVENT
DTSTART;TZID=America/Chicago:20240113T090000
DTEND;TZID=America/Chicago:20240113T094500
DTSTAMP:20260422T043145
CREATED:20250131T044709Z
LAST-MODIFIED:20250131T044709Z
UID:10001190-1705136400-1705139100@events.excelsiorcitizen.com
SUMMARY:KICK FIT w/ Cassie
DESCRIPTION:Get ready to destress and feel more powerful than ever with our KICK FIT class. Your heart will be pumping as Cassie takes you through a series of punches and kick combinations that can be modified to be lower or higher intensity/impact depending on your needs.Kick all your stress away and improve your cardiovascular system as you do something just for you.\nFREE for all LIFT Members $5 for guests
URL:https://events.excelsiorcitizen.com/event/kick-fit-w-cassie-2/
LOCATION:MO
END:VEVENT
BEGIN:VEVENT
DTSTART;TZID=America/Chicago:20240113T140000
DTEND;TZID=America/Chicago:20240113T160000
DTSTAMP:20260422T043145
CREATED:20250131T044723Z
LAST-MODIFIED:20250131T044723Z
UID:10001201-1705154400-1705161600@events.excelsiorcitizen.com
SUMMARY:Live Music – Jim Thomas
DESCRIPTION:Bring friends\, enjoy wine and listen to Jim Thomas sing and perform on guitar.
URL:https://events.excelsiorcitizen.com/event/live-music-jim-thomas-6/
LOCATION:MO
END:VEVENT
BEGIN:VEVENT
DTSTART;TZID=America/Chicago:20240113T153000
DTEND;TZID=America/Chicago:20240113T173000
DTSTAMP:20260422T043145
CREATED:20250131T044747Z
LAST-MODIFIED:20250131T044747Z
UID:10001223-1705159800-1705167000@events.excelsiorcitizen.com
SUMMARY:Live Music with Marshall Holles
DESCRIPTION:A carpenter by trade\, Marshall Holles spends his days as superintendent in construction doing commercial work\, but one thing he’s crazy about is music! Join us to hear him play live for their first performance of the year!
URL:https://events.excelsiorcitizen.com/event/live-music-with-marshall-holles-6/
LOCATION:MO
END:VEVENT
BEGIN:VEVENT
DTSTART;TZID=America/Chicago:20240114T110000
DTEND;TZID=America/Chicago:20240114T121500
DTSTAMP:20260422T043145
CREATED:20250131T044709Z
LAST-MODIFIED:20250131T044709Z
UID:10001191-1705230000-1705234500@events.excelsiorcitizen.com
SUMMARY:Parents’ Guide: Holistic Healing for Happy & Healthy Kids
DESCRIPTION:CALLING ALL PARENTSJoin us for a journey into the world of holistic healing for your little ones. Say goodbye to sniffles\, tummy aches\, and restless nights with our new class\, “Parents’ Guide: Holistic Healing for Happy & Healthy Kids”\nRegister for our class and…\nExpand your toolkit of natural remedies for your child’s well-being\nConnect with like-minded parents\nLearn the magic of healing herbs and holistic remedies for common childhood ailments! (And have lots of fun\, too) \nDATES: JANUARY 7 & 14 2024\nTIMES: 11 AM & 2:30 PM\nINVESTMENT: $30 / PERSON\n*LIMITED TO 10 SPOTS* \nThese spots fill fast\, snag yours now on our website events page:\nhttps://www.holisticspringsherbco.com/events \nALL CLASS ATTENDANTS WILL RECEIVE 10% OFF IN STORE AFTER THEIR CLASS IS OVER!
URL:https://events.excelsiorcitizen.com/event/parents-guide-holistic-healing-for-happy-healthy-kids/
LOCATION:MO
END:VEVENT
BEGIN:VEVENT
DTSTART;TZID=America/Chicago:20240115T140000
DTEND;TZID=America/Chicago:20240115T153000
DTSTAMP:20260422T043145
CREATED:20250131T044710Z
LAST-MODIFIED:20250131T044710Z
UID:10001194-1705327200-1705332600@events.excelsiorcitizen.com
SUMMARY:Guided Winery/Wine Cave Tour & Candlelit Tasting with premium wines
DESCRIPTION:Enjoy a tour of the winery and wine caves. Learn about Fence Stile’s wines\, the winery’s history\, Brix (testing the sugar level in grapes)\, vineyard management\, and the terroir of the estate. Finish with a candlelit tasting in the CELLAR57 club room and the wine caves.\nKeep the tasting glass and enjoy 10% off bottles of wine purchased after the tour. \nHave a nondrinker in the group? No worries – use discount code ‘NONDRINKER’ at checkout for $10 off. \nNOTE: If ticket sales have closed on the day of the tour\, please call 816-500-6465 to check if additional tickets are available or to schedule a custom tour!
URL:https://events.excelsiorcitizen.com/event/guided-winery-wine-cave-tour-candlelit-tasting-with-premium-wines-27/
LOCATION:MO
END:VEVENT
BEGIN:VEVENT
DTSTART;TZID=America/Chicago:20240115T233000
DTEND;TZID=America/Chicago:20240115T233000
DTSTAMP:20260422T043145
CREATED:20250131T044705Z
LAST-MODIFIED:20250131T044705Z
UID:10001189-1705361400-1705361400@events.excelsiorcitizen.com
SUMMARY:Winery/Wine Cave Tour & Candlelit Tasting with Premium Wines
DESCRIPTION:Enjoy a tour of the winery and wine cave. Learn about Fence Stile’s wines and grape varieties\, the winery’s history\, Brix (testing the sugar level in grapes)\, vineyard management\, and terroir of the estate. Finish with a candlelit tasting in the CELLAR57 club room and the wine caves.Keep the tasting glass and enjoy 10% off bottles of wine purchased after the tour. $48/person.\nReservations required. RSVP via the ticket link.\nCall 816-500-6465 to schedule a custom tour.
URL:https://events.excelsiorcitizen.com/event/winery-wine-cave-tour-candlelit-tasting-with-premium-wines-34/
LOCATION:MO
END:VEVENT
END:VCALENDAR