BEGIN:VCALENDAR
VERSION:2.0
PRODID:-// - ECPv6.15.20//NONSGML v1.0//EN
CALSCALE:GREGORIAN
METHOD:PUBLISH
X-ORIGINAL-URL:https://events.excelsiorcitizen.com
X-WR-CALDESC:Events for 
REFRESH-INTERVAL;VALUE=DURATION:PT1H
X-Robots-Tag:noindex
X-PUBLISHED-TTL:PT1H
BEGIN:VTIMEZONE
TZID:America/Chicago
BEGIN:DAYLIGHT
TZOFFSETFROM:-0600
TZOFFSETTO:-0500
TZNAME:CDT
DTSTART:20220313T080000
END:DAYLIGHT
BEGIN:STANDARD
TZOFFSETFROM:-0500
TZOFFSETTO:-0600
TZNAME:CST
DTSTART:20221106T070000
END:STANDARD
BEGIN:DAYLIGHT
TZOFFSETFROM:-0600
TZOFFSETTO:-0500
TZNAME:CDT
DTSTART:20230312T080000
END:DAYLIGHT
BEGIN:STANDARD
TZOFFSETFROM:-0500
TZOFFSETTO:-0600
TZNAME:CST
DTSTART:20231105T070000
END:STANDARD
BEGIN:DAYLIGHT
TZOFFSETFROM:-0600
TZOFFSETTO:-0500
TZNAME:CDT
DTSTART:20240310T080000
END:DAYLIGHT
BEGIN:STANDARD
TZOFFSETFROM:-0500
TZOFFSETTO:-0600
TZNAME:CST
DTSTART:20241103T070000
END:STANDARD
END:VTIMEZONE
BEGIN:VEVENT
DTSTART;TZID=America/Chicago:20231208T180000
DTEND;TZID=America/Chicago:20231208T190000
DTSTAMP:20260421T235802
CREATED:20250131T044832Z
LAST-MODIFIED:20250131T044832Z
UID:10001264-1702058400-1702062000@events.excelsiorcitizen.com
SUMMARY:Holly Jolly Lights Tour
DESCRIPTION:Don’t miss your chance for a ride on the Holly Jolly Lights Tour (trip through Lane of Lights included!) on Friday\, December 8th fro 6pm-7pm!Tickets are $12 with kids 3 and under riding for free! Enjoy the comfort of the Star Shuttle as you look at the HUGE windows and sit in padded seats!\nBook your seat today: http://rb.gy/zqjzzq
URL:https://events.excelsiorcitizen.com/event/holly-jolly-lights-tour/
END:VEVENT
BEGIN:VEVENT
DTSTART;TZID=America/Chicago:20231209T080000
DTEND;TZID=America/Chicago:20231209T110000
DTSTAMP:20260421T235802
CREATED:20250131T044923Z
LAST-MODIFIED:20250131T044923Z
UID:10001299-1702108800-1702119600@events.excelsiorcitizen.com
SUMMARY:Biscuits and Gravy Breakfast for Toys for Tots
DESCRIPTION:Join the Excelsior Springs Sons of the American Legion for their 2nd Annual Biscuits and Gravy Breakfast benefiting Toys for Tots. Donate a new unwrapped toy of $10 or more and receive a free breakfast as a thank you. Or you canjust purchase breakfast: Full order of Biscuits and Gravy is $10 and Half order is $6. Meal includes biscuits and gravy\, scrambled eggs\, sausage links\, and beverage. 100% of proceeds goes to the Toys for Tots organization. 
URL:https://events.excelsiorcitizen.com/event/biscuits-and-gravy-breakfast-for-toys-for-tots/
END:VEVENT
BEGIN:VEVENT
DTSTART;TZID=America/Chicago:20231209T100000
DTEND;TZID=America/Chicago:20231209T230000
DTSTAMP:20260421T235802
CREATED:20250131T044847Z
LAST-MODIFIED:20250131T044847Z
UID:10001274-1702116000-1702162800@events.excelsiorcitizen.com
SUMMARY:Candy Cane Hunt
DESCRIPTION:Join the Excelsior Springs Parks and Recreation Department for their annual Candy Cane Hunt on December 9th at 10:00am!
URL:https://events.excelsiorcitizen.com/event/candy-cane-hunt-2/
END:VEVENT
BEGIN:VEVENT
DTSTART;TZID=America/Chicago:20231209T103000
DTEND;TZID=America/Chicago:20231209T170000
DTSTAMP:20260421T235802
CREATED:20250131T050903Z
LAST-MODIFIED:20250131T050903Z
UID:10001822-1702117800-1702141200@events.excelsiorcitizen.com
SUMMARY:Trolley Wine Tour
DESCRIPTION:Your wine tour includes these four destinations:WILLOW SPRING MERCANTILE- Your adventure begins in this unique downtown Excelsior Springs mercantile established by Jim and Daphne Bowman in 2005. Willow Spring boasts the state’s largest selection of Missouri wines\, craft beers\, and distilled spirits. Enjoy brunch paired with Missouri-made wines in their exquisite wine cellar bistro. Brunch includes made from scratch ham and vegetable quiche\, spinach salad with fresh berries\, and fresh fruit. A chocolate cappuccino brownie is served for dessert.\nFENCE STILE WINERY – Second up\, Fence Stile\, is situated on 55 acres of land and has 8 varieties of grapes making up 10 acres of vineyards. The estate winery focuses on making dry and semi-dry wines and has a couple of sweet wines to offer as well. The state-of-the-art winery is located underground adjacent to the wine caves where the wine barrels are stored. Tours of the winery and wine caves are available which include an extensive tasting of the wines with the winemaker. Fence Stile is also a distillery crafting small-batch spirits branded as Nyx Spirits. Guests can enjoy wine\, beer\, spirits\, cocktails\, mimosas\, and sangrias while they enjoy live music\, movies on the patio\, firepit Fridays\, yoga\, food and wine pairings\, and many more seasonal activities. Indoor and outdoor space is available.\nVAN TILL FAMILY FARM WINERY – Your next destination is an enjoyable 15-minute trolley ride to beautiful and scenic Rayville. Here\, you will visit the Van Till family known for their warm hospitality\, Country garden setting\, great wine\, and wood-fired oven pizza. Order ahead sheets will be on the trolley ready for you to place your orders. (NOT included in ticket price.)\nSHAMROCK HILLS VINEYARD & WINERY – Your last stop is Excelsior’s newest winery venue. Your taste buds will be delighted with the award-winning Four Horses and a Dog wines and the Irish-themed hospitality experience where you are treated as family. Owners Mike and Denise Riley\, along with the entire Shamrock Hills staff\, look forward to continuing the legacy that “Four Horses and a Dog Vineyard and Winery” established back in 2008. The Rileys will be planting their first four acres of vines in the spring of 2023 and look forward to producing wines of their own in the future\nClick for ticket information
URL:https://events.excelsiorcitizen.com/event/trolley-wine-tour-3/
END:VEVENT
BEGIN:VEVENT
DTSTART;TZID=America/Chicago:20231209T120000
DTEND;TZID=America/Chicago:20231209T170000
DTSTAMP:20260421T235802
CREATED:20250131T045155Z
LAST-MODIFIED:20250131T045155Z
UID:10001374-1702123200-1702141200@events.excelsiorcitizen.com
SUMMARY:Cocktails & Candy Canes
DESCRIPTION:Get in the Holiday Spirit by sippin’ on cockatils in Downtown Excelsior Springs. While you’re enjoying your holiday themed drinks and snacks you’ll be able to gather inspiration for your own holiday spread and drinks while wrapping up your last minute Christmas shopping!\nLooking for a way to spend your “Friendsmas”? This could be the trip for you and your group! Tickets will be available for purchase starting November 1st for $20 each.
URL:https://events.excelsiorcitizen.com/event/cocktails-candy-canes-2/
END:VEVENT
BEGIN:VEVENT
DTSTART;TZID=America/Chicago:20231209T160000
DTEND;TZID=America/Chicago:20231209T180000
DTSTAMP:20260421T235802
CREATED:20250131T044818Z
LAST-MODIFIED:20250131T044818Z
UID:10001250-1702137600-1702144800@events.excelsiorcitizen.com
SUMMARY:Live Music with Kari King
DESCRIPTION:Join Shamrock Hills Vineyard and Winery for live music with Kari King from 4:00pm-6:00pm.
URL:https://events.excelsiorcitizen.com/event/live-music-with-kari-king-6/
END:VEVENT
BEGIN:VEVENT
DTSTART;TZID=America/Chicago:20231209T190000
DTEND;TZID=America/Chicago:20231209T220000
DTSTAMP:20260421T235802
CREATED:20250131T044826Z
LAST-MODIFIED:20250131T044826Z
UID:10001260-1702148400-1702159200@events.excelsiorcitizen.com
SUMMARY:Performance Party!
DESCRIPTION:Please join us for an evening of dance performances by the students of One Step at a Time! With routines in many styles of dance from Waltz to Swing and more\, we will also have open dancing between performances.\nBring a snack and your favorite beverage\, and plan on a fun evening. All are welcome\, no RSVP needed. See you on the dance floor!
URL:https://events.excelsiorcitizen.com/event/performance-party/
END:VEVENT
BEGIN:VEVENT
DTSTART;TZID=America/Chicago:20231210T110000
DTEND;TZID=America/Chicago:20231210T121500
DTSTAMP:20260421T235802
CREATED:20250131T044802Z
LAST-MODIFIED:20250131T044802Z
UID:10001236-1702206000-1702210500@events.excelsiorcitizen.com
SUMMARY:Gut Health + Herbal Tea Blends
DESCRIPTION:Did you know that your gut health can impact your overall health and wellbeing? The first half of this class\, we will dive into the importance of gut health\, why it’s important and how it impacts the rest of your body. The second half you will learn about tasty herbal tea blends that will help support your gut health. After class you will get a chance to shop with a 10% off discount! (Only 10 per class)Register online today: https://www.holisticspringsherbco.com
URL:https://events.excelsiorcitizen.com/event/gut-health-herbal-tea-blends-2/
END:VEVENT
BEGIN:VEVENT
DTSTART;TZID=America/Chicago:20231210T143000
DTEND;TZID=America/Chicago:20231210T154500
DTSTAMP:20260421T235802
CREATED:20250131T044801Z
LAST-MODIFIED:20250131T044801Z
UID:10001235-1702218600-1702223100@events.excelsiorcitizen.com
SUMMARY:Gut Health + Herbal Tea Blends
DESCRIPTION:Did you know that your gut health can impact your overall health and wellbeing? The first half of this class\, we will dive into the importance of gut health\, why it’s important and how it impacts the rest of your body. The second half you will learn about tasty herbal tea blends that will help support your gut health. After class you will get a chance to shop with a 10% off discount!\nRegister online: https://www.holisticspringsherbco.com/
URL:https://events.excelsiorcitizen.com/event/gut-health-herbal-tea-blends/
END:VEVENT
BEGIN:VEVENT
DTSTART;TZID=America/Chicago:20231211T160000
DTEND;TZID=America/Chicago:20231211T170000
DTSTAMP:20260421T235802
CREATED:20250131T045334Z
LAST-MODIFIED:20250131T045334Z
UID:10001443-1702310400-1702314000@events.excelsiorcitizen.com
SUMMARY:December PALS Meeting
DESCRIPTION:Join us right after dismissal to discuss important topics regarding the Lewis students\, activities and volunteer opportunities!
URL:https://events.excelsiorcitizen.com/event/december-pals-meeting/
END:VEVENT
BEGIN:VEVENT
DTSTART;TZID=America/Chicago:20231212T083000
DTEND;TZID=America/Chicago:20231212T093000
DTSTAMP:20260421T235802
CREATED:20250131T044812Z
LAST-MODIFIED:20250131T044812Z
UID:10001246-1702369800-1702373400@events.excelsiorcitizen.com
SUMMARY:Chamber Coffee hosted by Liberty Hospital
DESCRIPTION:Stacey Box and Liberty Hospital will be doing a Chamber Coffee in conjunction with the Kearney Chamber. The event will be Tuesday\, Dec. 12 — 8:30-9:30 — at the Firehouse Community Center in Kearney. The President and CEO of Liberty Hospital will have a Q&A on their partnership with The University of Kansas Health System.
URL:https://events.excelsiorcitizen.com/event/chamber-coffee-hosted-by-liberty-hospital/
END:VEVENT
BEGIN:VEVENT
DTSTART;TZID=America/Chicago:20231214T160000
DTEND;TZID=America/Chicago:20231214T180000
DTSTAMP:20260421T235802
CREATED:20250131T044833Z
LAST-MODIFIED:20250131T044833Z
UID:10001267-1702569600-1702576800@events.excelsiorcitizen.com
SUMMARY:Picture with Santa at Roberts Robinson
DESCRIPTION:Kids – have your pictures taken with Santa at Roberts Robinson Chevrolet GMC!We will also be collecting donations of new unopened toys for Meet the Need.
URL:https://events.excelsiorcitizen.com/event/picture-with-santa-at-roberts-robinson/
END:VEVENT
BEGIN:VEVENT
DTSTART;TZID=America/Chicago:20231214T183000
DTEND;TZID=America/Chicago:20231214T203000
DTSTAMP:20260421T235802
CREATED:20250131T044754Z
LAST-MODIFIED:20250131T044754Z
UID:10001230-1702578600-1702585800@events.excelsiorcitizen.com
SUMMARY:Holiday Themed Music Bingo at DCBC
DESCRIPTION:We are “rocking around the Christmas tree” for this Music Bingo playlist! Join us for free music bingo: a game that’s part “Bingo” and part “Name that Tune”\nWin Bingo\, win prizes! \nWe’ve decked the halls\, and our Christmas cocktails are available through December! Even Grinches are welcome!
URL:https://events.excelsiorcitizen.com/event/holiday-themed-music-bingo-at-dcbc/
END:VEVENT
BEGIN:VEVENT
DTSTART;TZID=America/Chicago:20231215T163000
DTEND;TZID=America/Chicago:20231215T190000
DTSTAMP:20260421T235802
CREATED:20250131T044751Z
LAST-MODIFIED:20250131T044751Z
UID:10001226-1702657800-1702666800@events.excelsiorcitizen.com
SUMMARY:Cookie Dough Order Pick-Up
DESCRIPTION:Please plan to pick up cookie dough orders on Friday\, December 15th between 4:30 and 7 PM. Pick-up will be in the Cornerstone gym. Please remember that cookie dough is perishable\, therefore all orders must be picked up during this time! Thank you for your support!
URL:https://events.excelsiorcitizen.com/event/cookie-dough-order-pick-up/
END:VEVENT
BEGIN:VEVENT
DTSTART;TZID=America/Chicago:20231216T080000
DTEND;TZID=America/Chicago:20231216T100000
DTSTAMP:20260421T235802
CREATED:20250131T044831Z
LAST-MODIFIED:20250131T044831Z
UID:10001263-1702713600-1702720800@events.excelsiorcitizen.com
SUMMARY:Breakfast with Santa at Elkhorn Elementary
DESCRIPTION:Come and eat an all you can eat pancake breakfast catered by Chris Cakes\, enjoy crafts with family and friends\, Christmas story read alouds\, and a visit with Santa and the Mrs. ClausTickets are $6 per person. We will be sending home ticket sales before Thanksgiving break. There will be a limited number of tickets for purchase at the door on the day of the event.
URL:https://events.excelsiorcitizen.com/event/breakfast-with-santa-at-elkhorn-elementary/
END:VEVENT
BEGIN:VEVENT
DTSTART;TZID=America/Chicago:20231216T093000
DTEND;TZID=America/Chicago:20231216T113000
DTSTAMP:20260421T235802
CREATED:20250131T044848Z
LAST-MODIFIED:20250131T044848Z
UID:10001276-1702719000-1702726200@events.excelsiorcitizen.com
SUMMARY:Holiday in Whoville
DESCRIPTION:Join us for a whimsical holiday event that will transport you to the enchanting world of Whoville. Get ready to make unforgettable memories with the one and only Grinch and his Whoville friends at our “Holiday in Whoville” morning!Date: December 16th\nTime: 9:30 AM\nLocation: Excelsior Springs Community Center\nRegistration: Only $10 per person.\nGet ready to immerse yourself in a day of festive fun with a fantastic lineup of activities for all ages:\n1. Meet and Greet with the Grinch: Don’t miss the opportunity to meet the Grinch himself! Take photos\, share laughs\, and maybe even convince him that the true spirit of the holidays is worth celebrating.\n2. Whoville Breakfast: Enjoy a delightful Whoville breakfast\, complete with scrumptious treats that will leave your taste buds singing with joy.\n3. Whoville Crafts: Get your creative juices flowing with a variety of Whoville-themed craft stations.\n4. Whimsical Games: Join in on the fun with a selection of entertaining games that will challenge your Whoville spirit.\nRegistration: Only $10 per person.
URL:https://events.excelsiorcitizen.com/event/holiday-in-whoville-2/
END:VEVENT
BEGIN:VEVENT
DTSTART;TZID=America/Chicago:20231216T103000
DTEND;TZID=America/Chicago:20231216T170000
DTSTAMP:20260421T235802
CREATED:20250131T050818Z
LAST-MODIFIED:20250131T050818Z
UID:10001805-1702722600-1702746000@events.excelsiorcitizen.com
SUMMARY:Third Saturday Wine Tours
DESCRIPTION:Join us for an all-inclusive wine tour experience!Your wine tour features these four destinations:\nWILLOW SPRING MERCANTILE Your adventure begins in this unique Excelsior Springs downtown shop. Willow Spring Mercantile established by Jim and Daphne Bowman in 2005. Willow Spring boasts the state’s largest selection of Missouri wines\, craft beers\, and distilled spirits. Enjoy brunch paired with Missouri-made wines in their exquisite wine cellar bistro. Brunch includes made-from-scratch ham and vegetable quiche\, spinach salad with fresh berries\, and fresh fruit. A chocolate cappuccino brownie is served for dessert.\nCASA DI VITE will provide an “apertivo” style experience featuring an assortment of international wines. Antipasto platters to purchase. Monthly “Featured Destinations” will bring an additional unique variety of flavors for all to enjoy.\nWalnut Creek Vineyard & Winery Walnut Creek is a local winery dedicated to crafting premium vinifera and hybrid wines. In a true farm-to-table fashion\, their vines are family-and-friend grown on small farms throughout Missouri and Colorado. Every bottle of wine will be a culinary adventure brought to you by your local community.\nPairings By Van Till Located in Excelsior Springs\, Missouri\, Pairings by Van Till serves boards with a variety of Charcuterie choices\, cheese\, vegetables\, and desserts paired exclusively with wine from Van Till Family Farm Winery.\nClick here for ticket info!
URL:https://events.excelsiorcitizen.com/event/third-saturday-wine-tours/
END:VEVENT
BEGIN:VEVENT
DTSTART;TZID=America/Chicago:20231216T110000
DTEND;TZID=America/Chicago:20231216T120000
DTSTAMP:20260421T235802
CREATED:20250131T044838Z
LAST-MODIFIED:20250131T044838Z
UID:10001269-1702724400-1702728000@events.excelsiorcitizen.com
SUMMARY:Cross Country Golf Tournament at ES Golf Course
DESCRIPTION:The Cross Country Golf Tournament is coming up on Saturday\, December 16th!\nSaturday\, December 16th\, 11am shotgun start\nFormat: 3-person cross country scramble/alt. shot event\nPaycuts based on number of entries\n$60/player\nMeal included after play\n$30 optional team skins pot \nThis tournament will show you places on the golf course you never thought you would see!!! \nCall 816-630-3731 to register & DON’T WAIT!! This tournament usually sells out even with the colder temps!
URL:https://events.excelsiorcitizen.com/event/cross-country-golf-tournament-at-es-golf-course/
END:VEVENT
BEGIN:VEVENT
DTSTART;TZID=America/Chicago:20231216T130000
DTEND;TZID=America/Chicago:20231216T140000
DTSTAMP:20260421T235802
CREATED:20250131T044742Z
LAST-MODIFIED:20250131T044742Z
UID:10001218-1702731600-1702735200@events.excelsiorcitizen.com
SUMMARY:Introduction to Cable Knitting
DESCRIPTION:**NEW CLASS**We have a new upcoming class!!\nIntroduction to Cables\nTuesday\, January 16\, 1-2pm\nor Thursday\, January 18\, 6-7pm\nor Saturday\, January 20\, 2-3pm \nhttps://www.knitewetogether.com/intro-to-cables
URL:https://events.excelsiorcitizen.com/event/introduction-to-cable-knitting-4/
END:VEVENT
BEGIN:VEVENT
DTSTART;TZID=America/Chicago:20231216T170000
DTEND;TZID=America/Chicago:20231216T200000
DTSTAMP:20260421T235803
CREATED:20250131T044805Z
LAST-MODIFIED:20250131T044805Z
UID:10001242-1702746000-1702756800@events.excelsiorcitizen.com
SUMMARY:Live Music with Jerry Hooper
DESCRIPTION:Live music with pianist Jerry Hooper at Pairings by Van Till!Jerry will be playing piano from 5pm-8pm!
URL:https://events.excelsiorcitizen.com/event/live-music-with-jerry-hooper/
END:VEVENT
BEGIN:VEVENT
DTSTART;TZID=America/Chicago:20231217T150000
DTEND;TZID=America/Chicago:20231217T170000
DTSTAMP:20260421T235803
CREATED:20250131T044818Z
LAST-MODIFIED:20250131T044818Z
UID:10001249-1702825200-1702832400@events.excelsiorcitizen.com
SUMMARY:Live Music with Delaney Hirst
DESCRIPTION:Join Shamrock Hills Vineyard and Winery for live music with Delaney Hirst from 3:00pm-5:00pm.
URL:https://events.excelsiorcitizen.com/event/live-music-with-delaney-hirst-7/
END:VEVENT
BEGIN:VEVENT
DTSTART;TZID=America/Chicago:20231219T060000
DTEND;TZID=America/Chicago:20231219T180000
DTSTAMP:20260421T235803
CREATED:20250131T044752Z
LAST-MODIFIED:20250131T044752Z
UID:10001228-1702965600-1703008800@events.excelsiorcitizen.com
SUMMARY:Lubanzi Wine Dinner
DESCRIPTION:You will be sampling 5 wines from Lubanzi wines of South America. It will be paired with delicious food from Ventana! If you visit our website www.ventanagourmetgrill.com You can purchase tickets!
URL:https://events.excelsiorcitizen.com/event/lubanzi-wine-dinner/
END:VEVENT
BEGIN:VEVENT
DTSTART;TZID=America/Chicago:20231219T090000
DTEND;TZID=America/Chicago:20231219T130000
DTSTAMP:20260421T235803
CREATED:20250131T044847Z
LAST-MODIFIED:20250131T044847Z
UID:10001273-1702976400-1702990800@events.excelsiorcitizen.com
SUMMARY:Blood Drive
DESCRIPTION:Join the Community Blood Center at the Excelsior Springs Hospital for a Community Blood Drive to take place on Tuesday\, December 19th from 9am-1pm in the Community Room of the hospital (2nd floor) at 1700 Rainbow Blvd. All presenting donors will take home a free Chiefs T-shirt!Appointments are preferred. Book your appointment today at savealifenow.org/group\, enter Group Code: KCND. For additional details\, contact Dea Craye at 816-629-3567 or dcraye@esmc.org.\nMedical eligibility questions? Call 1-800-688-0900.
URL:https://events.excelsiorcitizen.com/event/blood-drive-2/
END:VEVENT
BEGIN:VEVENT
DTSTART;TZID=America/Chicago:20231221T113000
DTEND;TZID=America/Chicago:20231221T120000
DTSTAMP:20260421T235803
CREATED:20250131T044822Z
LAST-MODIFIED:20250131T044822Z
UID:10001254-1703158200-1703160000@events.excelsiorcitizen.com
SUMMARY:Christmas Music with Madalyn
DESCRIPTION:Music therapist\, Madalyn will be leading us into beautiful Christmas melodies with great instruments.Registration is required for Senior Citizens and/or Non-Senior lunches by visiting http://es-prcc.com/senior-center
URL:https://events.excelsiorcitizen.com/event/christmas-music-with-madalyn/
END:VEVENT
BEGIN:VEVENT
DTSTART;TZID=America/Chicago:20231225T100000
DTEND;TZID=America/Chicago:20231225T140000
DTSTAMP:20260421T235803
CREATED:20250131T044755Z
LAST-MODIFIED:20250131T044755Z
UID:10001232-1703498400-1703512800@events.excelsiorcitizen.com
SUMMARY:Christmas Brunch at Three Owls Restaurant – The Elms Hotel & Spa
DESCRIPTION:Three Owls Restaurant\, located inside the award-winning The Elms Hotel & Spa\, is offering a special brunch menu available to hotel guests and locals from 10 a.m. – 2 p.m. on Christmas.Highlights of the Christmas brunch menu include fluffy scrambled eggs with chives\, ham and cheese breakfast soufflé\, mesclun salad with fresh berries\, pickled shallots\, and goat cheese\, pan-seared salmon with lemon-butter sauce and tomato-caper relish\, baked brie with roasted pistachios and balsamic glaze\, and more. Pricing is $55 for adults\, $42 for seniors\, $28 for kids 4-12\, and children three and under can enjoy the food at no charge.\nTables at Three Owls can be reserved by calling (816) 629-2533. Those looking to stay at The Elms Hotel & Spa can book their stay by visiting the website\, https://www.elmshotelandspa.com/.
URL:https://events.excelsiorcitizen.com/event/christmas-brunch-at-three-owls-restaurant-the-elms-hotel-spa/
END:VEVENT
BEGIN:VEVENT
DTSTART;TZID=America/Chicago:20231228T113000
DTEND;TZID=America/Chicago:20231228T120000
DTSTAMP:20260421T235803
CREATED:20250131T044821Z
LAST-MODIFIED:20250131T044821Z
UID:10001253-1703763000-1703764800@events.excelsiorcitizen.com
SUMMARY:New Year’s Healthy Habits for the Older Adult with Senior Life Solutions
DESCRIPTION:Join the Excelsior Springs Hospital for a time of learning practical and doable tips to get us off to a great start in 2024.Registration is required for Senior Citizens and/or Non-Senior lunches by visiting http://es-prcc.com/senior-center
URL:https://events.excelsiorcitizen.com/event/new-years-healthy-habits-for-the-older-adult-with-senior-life-solutions/
END:VEVENT
BEGIN:VEVENT
DTSTART;TZID=America/Chicago:20231229T130000
DTEND;TZID=America/Chicago:20231229T150000
DTSTAMP:20260421T235803
CREATED:20250131T044751Z
LAST-MODIFIED:20250131T044751Z
UID:10001225-1703854800-1703862000@events.excelsiorcitizen.com
SUMMARY:Winter Basketball Camp
DESCRIPTION:Join us for a winter break basketball camp in partnership with the ESHS Men’s Basketball Team!Ages 5-12 years\n$10/participant\nDecember 29th @ ESHS Gymnasium\nAges 5-8: 1:00-2:00PM\nAges 9-12: 2:00-3:00PM\nRegister now through December 27th at the ESCC or online.
URL:https://events.excelsiorcitizen.com/event/winter-basketball-camp/
END:VEVENT
BEGIN:VEVENT
DTSTART;TZID=America/Chicago:20231229T190000
DTEND;TZID=America/Chicago:20231229T220000
DTSTAMP:20260421T235803
CREATED:20250131T044825Z
LAST-MODIFIED:20250131T044825Z
UID:10001259-1703876400-1703887200@events.excelsiorcitizen.com
SUMMARY:Annual Christmas Dinner and Ugly Sweater Party!
DESCRIPTION:This year\, we will host a Potluck Style Christmas Dinner for our Annual Ugly Sweater Party!\nEveryone can bring a main dish\, side or dessert — please sign up at the studio or message us to let us know what you’re bringing. We’ll have an evening of good food\, good friends and dancing to celebrate the Holiday Season with our Dance Family. \nWe politely request that this is an Adult-Only Event and that only children over 16 years old are in attendance. Thank you for understanding!
URL:https://events.excelsiorcitizen.com/event/annual-christmas-dinner-and-ugly-sweater-party/
END:VEVENT
BEGIN:VEVENT
DTSTART;TZID=America/Chicago:20231230T080000
DTEND;TZID=America/Chicago:20231230T103000
DTSTAMP:20260421T235803
CREATED:20250131T044752Z
LAST-MODIFIED:20250131T044752Z
UID:10001227-1703923200-1703932200@events.excelsiorcitizen.com
SUMMARY:Hats Off to 2023 Fitness Marathon
DESCRIPTION:Join us as we say goodbye to 2023\, fitness style! Wear your best hat and enjoy some or all of the pop up classes we are offering this day!All regular group classes will be cancelled and replaced with this event.\nThis is FREE to anyone to join!\nExcelsior Springs Community Center Gymnasium\n8:00-8:25: Strength & Sweat w/ Pam S\n8:30-8:55: Cardio Kickboxing w/ Bridgette\n9:00-9:25: Pound w/ Theresa\n9:30-9:55: Zumba w/ Pam V & Theresa\n10:00-10:30: Yoga w/ Jenn
URL:https://events.excelsiorcitizen.com/event/hats-off-to-2023-fitness-marathon/
END:VEVENT
BEGIN:VEVENT
DTSTART;TZID=America/Chicago:20231231T200000
DTEND;TZID=America/Chicago:20231231T200000
DTSTAMP:20260421T235803
CREATED:20250131T044755Z
LAST-MODIFIED:20250131T044755Z
UID:10001231-1704052800-1704052800@events.excelsiorcitizen.com
SUMMARY:“Grand Ole Eagles” Ring in the New Year
DESCRIPTION:Join the Fraternal Order of Eagles “Grand Ole Eagles” Ring in the New Year from 8:00pm-12:00pm with a Champagne toast and music by Longshot
URL:https://events.excelsiorcitizen.com/event/grand-ole-eagles-ring-in-the-new-year/
END:VEVENT
END:VCALENDAR